BEGIN:VCALENDAR
VERSION:2.0
PRODID:-//Art Spark Texas - ECPv6.15.20//NONSGML v1.0//EN
CALSCALE:GREGORIAN
METHOD:PUBLISH
X-ORIGINAL-URL:https://www.artsparktx.org
X-WR-CALDESC:Events for Art Spark Texas
REFRESH-INTERVAL;VALUE=DURATION:PT1H
X-Robots-Tag:noindex
X-PUBLISHED-TTL:PT1H
BEGIN:VTIMEZONE
TZID:America/Chicago
BEGIN:DAYLIGHT
TZOFFSETFROM:-0600
TZOFFSETTO:-0500
TZNAME:CDT
DTSTART:20180311T080000
END:DAYLIGHT
BEGIN:STANDARD
TZOFFSETFROM:-0500
TZOFFSETTO:-0600
TZNAME:CST
DTSTART:20181104T070000
END:STANDARD
BEGIN:DAYLIGHT
TZOFFSETFROM:-0600
TZOFFSETTO:-0500
TZNAME:CDT
DTSTART:20190310T080000
END:DAYLIGHT
BEGIN:STANDARD
TZOFFSETFROM:-0500
TZOFFSETTO:-0600
TZNAME:CST
DTSTART:20191103T070000
END:STANDARD
BEGIN:DAYLIGHT
TZOFFSETFROM:-0600
TZOFFSETTO:-0500
TZNAME:CDT
DTSTART:20200308T080000
END:DAYLIGHT
BEGIN:STANDARD
TZOFFSETFROM:-0500
TZOFFSETTO:-0600
TZNAME:CST
DTSTART:20201101T070000
END:STANDARD
END:VTIMEZONE
BEGIN:VEVENT
DTSTART;TZID=America/Chicago:20190328T193000
DTEND;TZID=America/Chicago:20190328T213000
DTSTAMP:20260421T070147
CREATED:20190313T002505Z
LAST-MODIFIED:20190313T004830Z
UID:10001049-1553801400-1553808600@www.artsparktx.org
SUMMARY:Audio Described Performance of “Antigonick”
DESCRIPTION:A contemporary translation of the classic Greek drama that asks\, “How do we care for the dead and how do we grieve amidst crisis?” Antigonick is strangely reimagined by the inimitable Classics scholar and award-winning poet\, Anne Carson. \nDirected by Salvage Vanguard’s co-producing Artistic Director Diana Lynn Small\, Antigonick stretches the boundaries of story in poetry and theater. Antigonick asks\, “What can one woman do in the face of unjust laws?” What is she willing to sacrifice? In this time worn story\, Carson points to the lessons we’re meant to learn from our past\, yet somehow fail to remember. \nPurchase tickets online or call 512-474-7886. Let the Salvage Vanguard know you want audio description. \n \n  \n 
URL:https://www.artsparktx.org/event/antigonick-ad/
LOCATION:Dougherty Arts Center\, 1110 Barton Springs Rd\, Austin\, TX\, 78704\, United States
CATEGORIES:Accessible Performances,Audio Described Performances
ATTACH;FMTTYPE=image/jpeg:https://www.artsparktx.org/wp-content/uploads/IMG_3491-2.jpg
END:VEVENT
END:VCALENDAR