BEGIN:VCALENDAR
VERSION:2.0
PRODID:-//Art Spark Texas - ECPv6.15.20//NONSGML v1.0//EN
CALSCALE:GREGORIAN
METHOD:PUBLISH
X-WR-CALNAME:Art Spark Texas
X-ORIGINAL-URL:https://www.artsparktx.org
X-WR-CALDESC:Events for Art Spark Texas
REFRESH-INTERVAL;VALUE=DURATION:PT1H
X-Robots-Tag:noindex
X-PUBLISHED-TTL:PT1H
BEGIN:VTIMEZONE
TZID:America/Chicago
BEGIN:DAYLIGHT
TZOFFSETFROM:-0600
TZOFFSETTO:-0500
TZNAME:CDT
DTSTART:20180311T080000
END:DAYLIGHT
BEGIN:STANDARD
TZOFFSETFROM:-0500
TZOFFSETTO:-0600
TZNAME:CST
DTSTART:20181104T070000
END:STANDARD
BEGIN:DAYLIGHT
TZOFFSETFROM:-0600
TZOFFSETTO:-0500
TZNAME:CDT
DTSTART:20190310T080000
END:DAYLIGHT
BEGIN:STANDARD
TZOFFSETFROM:-0500
TZOFFSETTO:-0600
TZNAME:CST
DTSTART:20191103T070000
END:STANDARD
BEGIN:DAYLIGHT
TZOFFSETFROM:-0600
TZOFFSETTO:-0500
TZNAME:CDT
DTSTART:20200308T080000
END:DAYLIGHT
BEGIN:STANDARD
TZOFFSETFROM:-0500
TZOFFSETTO:-0600
TZNAME:CST
DTSTART:20201101T070000
END:STANDARD
END:VTIMEZONE
BEGIN:VEVENT
DTSTART;TZID=America/Chicago:20190404T200000
DTEND;TZID=America/Chicago:20190404T230000
DTSTAMP:20260421T053243
CREATED:20181210T011509Z
LAST-MODIFIED:20181218T155940Z
UID:10001203-1554408000-1554418800@www.artsparktx.org
SUMMARY:Audio Described Performance of “Fiddler on the Roof”
DESCRIPTION:Tony®-winning director Bartlett Sher and the team behind South Pacific\, The King and I and 2017 Tony-winning Best Play Oslo\, bring a fresh and authentic vision to this beloved theatrical masterpiece from Tony winner Joseph Stein and Pulitzer Prize winners Jerry Bock and Sheldon Harnick. \nThe original production won ten Tony Awards\, including a special Tony for becoming the longest-running Broadway musical of all time. You’ll be there when the sun rises on this new production\, with stunning movement and dance from acclaimed Israeli choreographer Hofesh Shechter\, based on the original staging by Jerome Robbins. A wonderful cast and a lavish orchestra tell this heartwarming story of fathers and daughters\, husbands and wives\, and the timeless traditions that define faith and family. \nEmail Texas Performing Arts Center or call 512-471-1444 to request audio description. Pick up your headset at the customer service desk on the night of the performance.
URL:https://www.artsparktx.org/event/audio-described-performance-of-fiddler-on-the-roof/
LOCATION:Bass Concert Hall\, 2350 Robert Dedman Drive\, Austin\, TX\, 78712\, United States
CATEGORIES:Accessible Performances,Audio Described Performances
ATTACH;FMTTYPE=image/jpeg:https://www.artsparktx.org/wp-content/uploads/fiddlerontheroof_event_hero_1060x563.jpg
END:VEVENT
BEGIN:VEVENT
DTSTART;TZID=America/Chicago:20190410T193000
DTEND;TZID=America/Chicago:20190410T223000
DTSTAMP:20260421T053243
CREATED:20181220T221900Z
LAST-MODIFIED:20181220T221900Z
UID:10001030-1554924600-1554935400@www.artsparktx.org
SUMMARY:AD/ASL/OC Performance of “Matilda The Musical”
DESCRIPTION:Take a journey through the world of the Tony Award®-winning hit\, Roald Dahl’s “Matilda The Musical!” Matilda is an extraordinary little girl who dares to take a stand and change her destiny. When she has finally had enough of her unscrupulous parents and tyrannical headmistress\, she enlists the help of her friends—and favorite teacher Miss Honey—and bravely takes matters into her own hands to become the biggest little hero. “Matilda” is sure to delight and empower audiences of all generations. \nAge recommendation: 6 and up \nRun time: Two hours and 30 minutes including one intermission \nThis performance is ASL interpreted\, audio described\, and open captioned. Visit ZACH Theatre online or call 512-476-0541 to purchase tickets and request audio description.
URL:https://www.artsparktx.org/event/ad-asl-oc-performance-of-matilda-the-musical/
LOCATION:The Topfer at ZACH Theatre\, 202 South Lamar Blvd.\, Austin\, TX\, 78704\, United States
CATEGORIES:Accessible Performances,ASL Performances,Audio Described Performances,Open Captioned Performances
ATTACH;FMTTYPE=image/jpeg:https://www.artsparktx.org/wp-content/uploads/matilda_poster_zach_theatre_2019.jpg
ORGANIZER;CN="Chad Dike":MAILTO:cdike@zachtheatre.org
END:VEVENT
BEGIN:VEVENT
DTSTART;TZID=America/Chicago:20190426T190000
DTEND;TZID=America/Chicago:20190426T203000
DTSTAMP:20260421T053243
CREATED:20190316T211337Z
LAST-MODIFIED:20190416T003758Z
UID:10001244-1556305200-1556310600@www.artsparktx.org
SUMMARY:Audio Described Performances of “Disney’s Beauty and the Beast Jr.”
DESCRIPTION:TSBVI’s Fine Arts Department invites you to “be their guest” for this wonderful story of transformation and tolerance. Based on the original Broadway production that was nominated for nine Tony Awards\, and the Academy Award-winning motion picture\, Disney’s Beauty and the Beast JR is a fantastic adaptation and features some of the most popular songs ever written by Alan Menken and Howard Ashman\, along with new songs by Mr. Menken and Tim Rice. The book is by Linda Woolverton. \nThe classic story tells of Belle\, a young woman in a provincial town\, and the Beast\, who is really a young prince trapped under the spell of an enchantress. If the Beast can learn to love and be loved\, the curse will end and he will be transformed to his former self. But time is running out. If the Beast does not learn his lesson soon\, he and his household will be doomed for all eternity. \nDisney’s BEAUTY AND THE BEAST JR is presented through special arrangement with Music Theatre International (MTI). \nFriday\, April 26\, 7:00 p.m.\nSaturday\, April 27\, 7:00 p.m.\nMonday\, April 29\, 1:00 p.m. \nFREE TO THE PUBLIC!\nAll performances will be audio described. \nTexas School for the Blind and Visually Impaired\nFine Arts Building\n1100 W. 45th Street\nAustin\,Texas 78756 \nRunning time: 1 hour 15 minutes
URL:https://www.artsparktx.org/event/audio-described-performances-of-disneys-beauty-and-the-beast-jr/2019-04-26/
LOCATION:Texas School for the Blind and Visually Impaired\, 1100 W. 45th Street\, Austin\, TX\, 78756\, United States
CATEGORIES:Accessible Performances,Audio Described Performances
ATTACH;FMTTYPE=image/jpeg:https://www.artsparktx.org/wp-content/uploads/https-cdn.evbuc_.com-images-56211161-32629030505-1-original.20190204-154801.jpeg
END:VEVENT
BEGIN:VEVENT
DTSTART;TZID=America/Chicago:20190427T190000
DTEND;TZID=America/Chicago:20190427T203000
DTSTAMP:20260421T053243
CREATED:20190316T211337Z
LAST-MODIFIED:20190416T003758Z
UID:10001245-1556391600-1556397000@www.artsparktx.org
SUMMARY:Audio Described Performances of “Disney’s Beauty and the Beast Jr.”
DESCRIPTION:TSBVI’s Fine Arts Department invites you to “be their guest” for this wonderful story of transformation and tolerance. Based on the original Broadway production that was nominated for nine Tony Awards\, and the Academy Award-winning motion picture\, Disney’s Beauty and the Beast JR is a fantastic adaptation and features some of the most popular songs ever written by Alan Menken and Howard Ashman\, along with new songs by Mr. Menken and Tim Rice. The book is by Linda Woolverton. \nThe classic story tells of Belle\, a young woman in a provincial town\, and the Beast\, who is really a young prince trapped under the spell of an enchantress. If the Beast can learn to love and be loved\, the curse will end and he will be transformed to his former self. But time is running out. If the Beast does not learn his lesson soon\, he and his household will be doomed for all eternity. \nDisney’s BEAUTY AND THE BEAST JR is presented through special arrangement with Music Theatre International (MTI). \nFriday\, April 26\, 7:00 p.m.\nSaturday\, April 27\, 7:00 p.m.\nMonday\, April 29\, 1:00 p.m. \nFREE TO THE PUBLIC!\nAll performances will be audio described. \nTexas School for the Blind and Visually Impaired\nFine Arts Building\n1100 W. 45th Street\nAustin\,Texas 78756 \nRunning time: 1 hour 15 minutes
URL:https://www.artsparktx.org/event/audio-described-performances-of-disneys-beauty-and-the-beast-jr/2019-04-27/
LOCATION:Texas School for the Blind and Visually Impaired\, 1100 W. 45th Street\, Austin\, TX\, 78756\, United States
CATEGORIES:Accessible Performances,Audio Described Performances
ATTACH;FMTTYPE=image/jpeg:https://www.artsparktx.org/wp-content/uploads/https-cdn.evbuc_.com-images-56211161-32629030505-1-original.20190204-154801.jpeg
END:VEVENT
BEGIN:VEVENT
DTSTART;TZID=America/Chicago:20190429T130000
DTEND;TZID=America/Chicago:20190429T143000
DTSTAMP:20260421T053243
CREATED:20190316T211337Z
LAST-MODIFIED:20190416T003758Z
UID:10001246-1556542800-1556548200@www.artsparktx.org
SUMMARY:Audio Described Performances of “Disney’s Beauty and the Beast Jr.”
DESCRIPTION:TSBVI’s Fine Arts Department invites you to “be their guest” for this wonderful story of transformation and tolerance. Based on the original Broadway production that was nominated for nine Tony Awards\, and the Academy Award-winning motion picture\, Disney’s Beauty and the Beast JR is a fantastic adaptation and features some of the most popular songs ever written by Alan Menken and Howard Ashman\, along with new songs by Mr. Menken and Tim Rice. The book is by Linda Woolverton. \nThe classic story tells of Belle\, a young woman in a provincial town\, and the Beast\, who is really a young prince trapped under the spell of an enchantress. If the Beast can learn to love and be loved\, the curse will end and he will be transformed to his former self. But time is running out. If the Beast does not learn his lesson soon\, he and his household will be doomed for all eternity. \nDisney’s BEAUTY AND THE BEAST JR is presented through special arrangement with Music Theatre International (MTI). \nFriday\, April 26\, 7:00 p.m.\nSaturday\, April 27\, 7:00 p.m.\nMonday\, April 29\, 1:00 p.m. \nFREE TO THE PUBLIC!\nAll performances will be audio described. \nTexas School for the Blind and Visually Impaired\nFine Arts Building\n1100 W. 45th Street\nAustin\,Texas 78756 \nRunning time: 1 hour 15 minutes
URL:https://www.artsparktx.org/event/audio-described-performances-of-disneys-beauty-and-the-beast-jr/2019-04-29/
LOCATION:Texas School for the Blind and Visually Impaired\, 1100 W. 45th Street\, Austin\, TX\, 78756\, United States
CATEGORIES:Accessible Performances,Audio Described Performances
ATTACH;FMTTYPE=image/jpeg:https://www.artsparktx.org/wp-content/uploads/https-cdn.evbuc_.com-images-56211161-32629030505-1-original.20190204-154801.jpeg
END:VEVENT
BEGIN:VEVENT
DTSTART;TZID=America/Chicago:20190430T190000
DTEND;TZID=America/Chicago:20190430T220000
DTSTAMP:20260421T053243
CREATED:20181221T190100Z
LAST-MODIFIED:20190410T205551Z
UID:10001031-1556650800-1556661600@www.artsparktx.org
SUMMARY:Sensory-Friendly Performance of “Matilda The Musical”
DESCRIPTION:Take a journey through the world of the Tony Award®-winning hit\, Roald Dahl’s “Matilda The Musical!” Matilda is an extraordinary little girl who dares to take a stand and change her destiny. When she has finally had enough of her unscrupulous parents and tyrannical headmistress\, she enlists the help of her friends—and favorite teacher Miss Honey—and bravely takes matters into her own hands to become the biggest little hero. “Matilda” is sure to delight and empower audiences of all generations. \nAge recommendation: 6 and up \nRun time: Two hours and 30 minutes including one intermission \nPlease note: This performance is tailored to people with autism or other cognitive disabilities and sensory sensitivities. \nVisit ZACH Theatre online or call 512-476-0541 to purchase tickets.
URL:https://www.artsparktx.org/event/sensory-friendly-performance-of-matilda-the-musical/
LOCATION:The Topfer at ZACH Theatre\, 202 South Lamar Blvd.\, Austin\, TX\, 78704\, United States
CATEGORIES:Accessible Performances,Sensory-Friendly Performances
ATTACH;FMTTYPE=image/jpeg:https://www.artsparktx.org/wp-content/uploads/matilda_poster_zach_theatre_2019.jpg
ORGANIZER;CN="Chad Dike":MAILTO:cdike@zachtheatre.org
END:VEVENT
END:VCALENDAR