BEGIN:VCALENDAR
VERSION:2.0
PRODID:-//Art Spark Texas - ECPv6.15.20//NONSGML v1.0//EN
CALSCALE:GREGORIAN
METHOD:PUBLISH
X-WR-CALNAME:Art Spark Texas
X-ORIGINAL-URL:https://www.artsparktx.org
X-WR-CALDESC:Events for Art Spark Texas
REFRESH-INTERVAL;VALUE=DURATION:PT1H
X-Robots-Tag:noindex
X-PUBLISHED-TTL:PT1H
BEGIN:VTIMEZONE
TZID:America/Chicago
BEGIN:DAYLIGHT
TZOFFSETFROM:-0600
TZOFFSETTO:-0500
TZNAME:CDT
DTSTART:20180311T080000
END:DAYLIGHT
BEGIN:STANDARD
TZOFFSETFROM:-0500
TZOFFSETTO:-0600
TZNAME:CST
DTSTART:20181104T070000
END:STANDARD
BEGIN:DAYLIGHT
TZOFFSETFROM:-0600
TZOFFSETTO:-0500
TZNAME:CDT
DTSTART:20190310T080000
END:DAYLIGHT
BEGIN:STANDARD
TZOFFSETFROM:-0500
TZOFFSETTO:-0600
TZNAME:CST
DTSTART:20191103T070000
END:STANDARD
BEGIN:DAYLIGHT
TZOFFSETFROM:-0600
TZOFFSETTO:-0500
TZNAME:CDT
DTSTART:20200308T080000
END:DAYLIGHT
BEGIN:STANDARD
TZOFFSETFROM:-0500
TZOFFSETTO:-0600
TZNAME:CST
DTSTART:20201101T070000
END:STANDARD
END:VTIMEZONE
BEGIN:VEVENT
DTSTART;TZID=America/Chicago:20190509T200000
DTEND;TZID=America/Chicago:20190509T230000
DTSTAMP:20260421T040651
CREATED:20190316T214812Z
LAST-MODIFIED:20190410T205407Z
UID:10001247-1557432000-1557442800@www.artsparktx.org
SUMMARY:Audio Described Performance of “CATS”
DESCRIPTION:CATS\, the record-breaking musical spectacular by Andrew Lloyd Webber that has captivated audiences in over 30 countries and 15 languages\, is now on tour across North America! \nAudiences and critics alike are rediscovering this beloved musical with breathtaking music\, including one of the most treasured songs in musical theater—”Memory”. Winner of 7 Tony Awards®including BEST MUSICAL\, CATS tells the story of one magical night when an extraordinary tribe of cats gathers for its annual ball to rejoice and decide which cat will be reborn. The original score by Andrew Lloyd Webber (Phantom\, School of Rock\, Sunset Boulevard)\, original scenic and costume design by John Napier (Les Misérables)\, all-new lighting design by Natasha Katz (Aladdin)\, all-new sound design by Mick Potter\, new choreography by Andy Blankenbuehler (Hamilton) based on the original choreography by Gillian Lynne (Phantom) and direction by Trevor Nunn (Les Misérables) make this production a new CATS for a new generation! \nEmail Texas Performing Arts Center or call 512-471-1444 to request audio description. Pick up your headset at the customer service desk on the night of the performance. \n \n 
URL:https://www.artsparktx.org/event/audio-described-performance-of-cats/
LOCATION:Bass Concert Hall\, 2350 Robert Dedman Drive\, Austin\, TX\, 78712\, United States
CATEGORIES:Accessible Performances,Audio Described Performances
ATTACH;FMTTYPE=image/png:https://www.artsparktx.org/wp-content/uploads/cats_event_hero_1060x563.png
END:VEVENT
BEGIN:VEVENT
DTSTART;TZID=America/Chicago:20190512T150000
DTEND;TZID=America/Chicago:20190512T170000
DTSTAMP:20260421T040651
CREATED:20190510T220540Z
LAST-MODIFIED:20190510T220540Z
UID:10001253-1557673200-1557680400@www.artsparktx.org
SUMMARY:Audio Described Performance of “Giselle”
DESCRIPTION:She’s young\, naïve and distraught after learning her lover is pledged to another. As this fragile beauty dies of a broken heart\, will she spare her soulmate a fate worse than death? We conclude our season with the 19th century classic Giselle\, one of the great ballets of the Romantic era\, featuring some of the most iconic and imposing characters of the genre\, The Wilis\, and the ethereal corps de ballet work that surrounds this ghostly sisterhood. Called back from the grave by this collection of broken hearts\, Giselle must decide between justice and redemption for the man who deceived her. Join us Mother’s Day weekend for the time-tested story of a mad love that turns to madness and\, ultimately\, forgiveness. If you’ve ever been love’s fool\, you’ll relate to this touching tale. \nCHOREOGRAPHY: Jean Coralli\, Jules Perrot\nMUSIC: Adolphe Adam\nLIVE ACCOMPANIMENT: Austin Symphony Orchestra \nThis production runs approximately two hours with two (2) 50-minute acts and one (1) 20-minute intermission\, GISELLE is recommended for all ages. \nBallet Austin Audience Services\nMonday-Friday\, 12pm-6pm\nPHONE: 512.476.2163\nEMAIL: boxoffice@balletaustin.org
URL:https://www.artsparktx.org/event/audio-described-performance-of-giselle/
LOCATION:The Long Center\, 701 W. Riverside Drive\, Austin\, TX\, 78704\, United States
CATEGORIES:Accessible Performances,Audio Described Performances
ATTACH;FMTTYPE=image/jpeg:https://www.artsparktx.org/wp-content/uploads/BA-420-Giselle-2019-Web-Banner-B-2000x1600-DEVr2.jpg
ORGANIZER;CN="Ballet Austin Audience Services":MAILTO:boxoffice@balletaustin.org
END:VEVENT
BEGIN:VEVENT
DTSTART;TZID=America/Chicago:20190519T140000
DTEND;TZID=America/Chicago:20190519T170000
DTSTAMP:20260421T040651
CREATED:20190316T220017Z
LAST-MODIFIED:20190316T220521Z
UID:10001249-1558274400-1558285200@www.artsparktx.org
SUMMARY:Audio Described Performance of “Hamilton”
DESCRIPTION:HAMILTON is the story of America’s Founding Father Alexander Hamilton\, an immigrant from the West Indies who became George Washington’s right-hand man during the Revolutionary War and was the new nation’s first Treasury Secretary. Featuring a score that blends hip-hop\, jazz\, blues\, rap\, R&B\, and Broadway\, HAMILTON is the story of America then\, as told by America now. \nCall the Majestic Theatre Box Office at 210-226-3333 and indicate you want audio description.
URL:https://www.artsparktx.org/event/ad-performance-of-hamilton-majestic/
LOCATION:Majestic Theatre\, 224 E. Houston Street\, San Antonio\, TX\, 78205\, United States
CATEGORIES:Accessible Performances,Audio Described Performances
ATTACH;FMTTYPE=image/png:https://www.artsparktx.org/wp-content/uploads/hamilton_event_hero_1060x563.png
END:VEVENT
BEGIN:VEVENT
DTSTART;TZID=America/Chicago:20190530T200000
DTEND;TZID=America/Chicago:20190530T230000
DTSTAMP:20260421T040651
CREATED:20190316T215624Z
LAST-MODIFIED:20190316T215624Z
UID:10001248-1559246400-1559257200@www.artsparktx.org
SUMMARY:Audio Described Performance of “Hamilton”
DESCRIPTION:HAMILTON is the story of America’s Founding Father Alexander Hamilton\, an immigrant from the West Indies who became George Washington’s right-hand man during the Revolutionary War and was the new nation’s first Treasury Secretary. Featuring a score that blends hip-hop\, jazz\, blues\, rap\, R&B\, and Broadway\, HAMILTON is the story of America then\, as told by America now. \nEmail Texas Performing Arts Center or call 512-471-1444 to request audio description. Pick up your headset at the customer service desk on the night of the performance. \n 
URL:https://www.artsparktx.org/event/audio-described-performance-of-hamilton/
LOCATION:Bass Concert Hall\, 2350 Robert Dedman Drive\, Austin\, TX\, 78712\, United States
CATEGORIES:Accessible Performances,Audio Described Performances
ATTACH;FMTTYPE=image/png:https://www.artsparktx.org/wp-content/uploads/hamilton_event_hero_1060x563.png
END:VEVENT
END:VCALENDAR