BEGIN:VCALENDAR
VERSION:2.0
PRODID:-//Art Spark Texas - ECPv6.15.20//NONSGML v1.0//EN
CALSCALE:GREGORIAN
METHOD:PUBLISH
X-ORIGINAL-URL:https://www.artsparktx.org
X-WR-CALDESC:Events for Art Spark Texas
REFRESH-INTERVAL;VALUE=DURATION:PT1H
X-Robots-Tag:noindex
X-PUBLISHED-TTL:PT1H
BEGIN:VTIMEZONE
TZID:America/Chicago
BEGIN:DAYLIGHT
TZOFFSETFROM:-0600
TZOFFSETTO:-0500
TZNAME:CDT
DTSTART:20200308T080000
END:DAYLIGHT
BEGIN:STANDARD
TZOFFSETFROM:-0500
TZOFFSETTO:-0600
TZNAME:CST
DTSTART:20201101T070000
END:STANDARD
BEGIN:DAYLIGHT
TZOFFSETFROM:-0600
TZOFFSETTO:-0500
TZNAME:CDT
DTSTART:20210314T080000
END:DAYLIGHT
BEGIN:STANDARD
TZOFFSETFROM:-0500
TZOFFSETTO:-0600
TZNAME:CST
DTSTART:20211107T070000
END:STANDARD
BEGIN:DAYLIGHT
TZOFFSETFROM:-0600
TZOFFSETTO:-0500
TZNAME:CDT
DTSTART:20220313T080000
END:DAYLIGHT
BEGIN:STANDARD
TZOFFSETFROM:-0500
TZOFFSETTO:-0600
TZNAME:CST
DTSTART:20221106T070000
END:STANDARD
END:VTIMEZONE
BEGIN:VEVENT
DTSTART;VALUE=DATE:20211203
DTEND;VALUE=DATE:20211204
DTSTAMP:20260419T221842
CREATED:20211118T191911Z
LAST-MODIFIED:20211130T194535Z
UID:10001780-1638489600-1638575999@www.artsparktx.org
SUMMARY:Curated Art Boxes
DESCRIPTION:Our popular Curated Art Boxes are back for the holidays! Enjoy a virtual shopping experience from the comfort of your home while supporting Art Spark Texas and our talented Texas Artists. Find gifts for everyone on your list\, including yourself. The price is right\, at just $50\, for a selection of Art valued at more. Also available are Art Projects in a Box and Custom Pet Portraits. \nPlace your order today and we can have your gifts ready for pick up from our office. Shipping is available. \nOrder Here: https://artsparktx.square.site
URL:https://www.artsparktx.org/event/curated-art-boxes/
LOCATION:TX
CATEGORIES:Artworks
ATTACH;FMTTYPE=image/jpeg:https://www.artsparktx.org/wp-content/uploads/Image-3-scaled.jpeg
END:VEVENT
BEGIN:VEVENT
DTSTART;VALUE=DATE:20211206
DTEND;VALUE=DATE:20211207
DTSTAMP:20260419T221842
CREATED:20211025T182203Z
LAST-MODIFIED:20211025T192720Z
UID:10001766-1638748800-1638835199@www.artsparktx.org
SUMMARY:Fall Expressions Exhibition
DESCRIPTION:The Fall Expressions exhibition includes artwork by San Antonio area artists celebrating Mental Illness Awareness Week. \nFor information on the Spring or Fall Expressions exhibit\, please contact Susan Beattie at seabeattie@yahoo.com \nVisit the exhibit here: https://artsparktx.square.site/fallexpressionsexhibition
URL:https://www.artsparktx.org/event/fall-expressions-exhibition/2021-12-06/
LOCATION:TX
CATEGORIES:Art Exhibits,Artworks
ATTACH;FMTTYPE=image/png:https://www.artsparktx.org/wp-content/uploads/Fall-Expressions-Header-April-Sullivan.png
ORGANIZER;CN="April Sullivan":MAILTO:april@artsparktx.org
END:VEVENT
BEGIN:VEVENT
DTSTART;TZID=America/Chicago:20211211T120000
DTEND;TZID=America/Chicago:20211211T170000
DTSTAMP:20260419T221842
CREATED:20211030T183425Z
LAST-MODIFIED:20211207T224226Z
UID:10001777-1639224000-1639242000@www.artsparktx.org
SUMMARY:Holiday Art & Gift Pop-up Market
DESCRIPTION:We’ll be Tossing the Tinsel and Slinging the Sparkle at our upcoming Holiday Art and Gift Pop-Up Market and you are invited! Get ready to shop for unique and artful gifts created by Art Spark Texas artists. This is an in-person event. \nSelected vendors will be offering original paintings\, fine crafts\, handmade cards\, wearables\, jewelry\, glass art\, homemade cranberry salsa\, and more. Pre-made Curated Art Boxes will also be available. Tasty treats and libations along with live music by Jean Caffeine and Ramon Topete will round out a festive way to spend your Saturday afternoon. \n 
URL:https://www.artsparktx.org/event/holiday-art-gift-pop-up/
LOCATION:Art Spark Texas\, 1152 San Bernard St.\, Austin\, TX\, 78702\, United States
CATEGORIES:Arts & Crafts Pop-up Shop,Artworks
ATTACH;FMTTYPE=image/png:https://www.artsparktx.org/wp-content/uploads/holiday-pop-up-flyer-FB-Event-1-Susan-Slattery.png
ORGANIZER;CN="Susan Slattery":MAILTO:susan@artsparktx.org
END:VEVENT
BEGIN:VEVENT
DTSTART;VALUE=DATE:20211213
DTEND;VALUE=DATE:20211214
DTSTAMP:20260419T221842
CREATED:20211025T182203Z
LAST-MODIFIED:20211025T192720Z
UID:10001767-1639353600-1639439999@www.artsparktx.org
SUMMARY:Fall Expressions Exhibition
DESCRIPTION:The Fall Expressions exhibition includes artwork by San Antonio area artists celebrating Mental Illness Awareness Week. \nFor information on the Spring or Fall Expressions exhibit\, please contact Susan Beattie at seabeattie@yahoo.com \nVisit the exhibit here: https://artsparktx.square.site/fallexpressionsexhibition
URL:https://www.artsparktx.org/event/fall-expressions-exhibition/2021-12-13/
LOCATION:TX
CATEGORIES:Art Exhibits,Artworks
ATTACH;FMTTYPE=image/png:https://www.artsparktx.org/wp-content/uploads/Fall-Expressions-Header-April-Sullivan.png
ORGANIZER;CN="April Sullivan":MAILTO:april@artsparktx.org
END:VEVENT
BEGIN:VEVENT
DTSTART;VALUE=DATE:20211220
DTEND;VALUE=DATE:20211221
DTSTAMP:20260419T221842
CREATED:20211025T182203Z
LAST-MODIFIED:20211025T192720Z
UID:10001768-1639958400-1640044799@www.artsparktx.org
SUMMARY:Fall Expressions Exhibition
DESCRIPTION:The Fall Expressions exhibition includes artwork by San Antonio area artists celebrating Mental Illness Awareness Week. \nFor information on the Spring or Fall Expressions exhibit\, please contact Susan Beattie at seabeattie@yahoo.com \nVisit the exhibit here: https://artsparktx.square.site/fallexpressionsexhibition
URL:https://www.artsparktx.org/event/fall-expressions-exhibition/2021-12-20/
LOCATION:TX
CATEGORIES:Art Exhibits,Artworks
ATTACH;FMTTYPE=image/png:https://www.artsparktx.org/wp-content/uploads/Fall-Expressions-Header-April-Sullivan.png
ORGANIZER;CN="April Sullivan":MAILTO:april@artsparktx.org
END:VEVENT
BEGIN:VEVENT
DTSTART;VALUE=DATE:20211227
DTEND;VALUE=DATE:20211228
DTSTAMP:20260419T221842
CREATED:20211025T182203Z
LAST-MODIFIED:20211025T192720Z
UID:10001769-1640563200-1640649599@www.artsparktx.org
SUMMARY:Fall Expressions Exhibition
DESCRIPTION:The Fall Expressions exhibition includes artwork by San Antonio area artists celebrating Mental Illness Awareness Week. \nFor information on the Spring or Fall Expressions exhibit\, please contact Susan Beattie at seabeattie@yahoo.com \nVisit the exhibit here: https://artsparktx.square.site/fallexpressionsexhibition
URL:https://www.artsparktx.org/event/fall-expressions-exhibition/2021-12-27/
LOCATION:TX
CATEGORIES:Art Exhibits,Artworks
ATTACH;FMTTYPE=image/png:https://www.artsparktx.org/wp-content/uploads/Fall-Expressions-Header-April-Sullivan.png
ORGANIZER;CN="April Sullivan":MAILTO:april@artsparktx.org
END:VEVENT
END:VCALENDAR