BEGIN:VCALENDAR
VERSION:2.0
PRODID:-//Art Spark Texas - ECPv6.15.20//NONSGML v1.0//EN
CALSCALE:GREGORIAN
METHOD:PUBLISH
X-WR-CALNAME:Art Spark Texas
X-ORIGINAL-URL:https://www.artsparktx.org
X-WR-CALDESC:Events for Art Spark Texas
REFRESH-INTERVAL;VALUE=DURATION:PT1H
X-Robots-Tag:noindex
X-PUBLISHED-TTL:PT1H
BEGIN:VTIMEZONE
TZID:America/Chicago
BEGIN:DAYLIGHT
TZOFFSETFROM:-0600
TZOFFSETTO:-0500
TZNAME:CDT
DTSTART:20210314T080000
END:DAYLIGHT
BEGIN:STANDARD
TZOFFSETFROM:-0500
TZOFFSETTO:-0600
TZNAME:CST
DTSTART:20211107T070000
END:STANDARD
BEGIN:DAYLIGHT
TZOFFSETFROM:-0600
TZOFFSETTO:-0500
TZNAME:CDT
DTSTART:20220313T080000
END:DAYLIGHT
BEGIN:STANDARD
TZOFFSETFROM:-0500
TZOFFSETTO:-0600
TZNAME:CST
DTSTART:20221106T070000
END:STANDARD
BEGIN:DAYLIGHT
TZOFFSETFROM:-0600
TZOFFSETTO:-0500
TZNAME:CDT
DTSTART:20230312T080000
END:DAYLIGHT
BEGIN:STANDARD
TZOFFSETFROM:-0500
TZOFFSETTO:-0600
TZNAME:CST
DTSTART:20231105T070000
END:STANDARD
END:VTIMEZONE
BEGIN:VEVENT
DTSTART;VALUE=DATE:20220404
DTEND;VALUE=DATE:20220405
DTSTAMP:20260419T153007
CREATED:20220114T201339Z
LAST-MODIFIED:20220114T202807Z
UID:10001327-1649059200-1649091600@www.artsparktx.org
SUMMARY:Call for Art Community Gallery
DESCRIPTION:Art Spark Texas is seeking visual artists to display their work at our community gallery space at the Austin Lighthouse for the Blind Lobby and hallway in Austin. The artwork is changed out every two months. Group and solo opportunities are available. \nIf you are interested\, please contact April at april@artsparktx.org.
URL:https://www.artsparktx.org/event/call-for-art-community-gallery/2022-04-04/
LOCATION:Austin Lighthouse for the Blind\, 4512 S Pleasant Valley Rd\, Austin\, TX\, 78744\, United States
CATEGORIES:Artworks,Call for Art
ATTACH;FMTTYPE=image/jpeg:https://www.artsparktx.org/wp-content/uploads/AuLi_ContactUs_header-April-Sullivan.jpeg
ORGANIZER;CN="April Sullivan":MAILTO:april@artsparktx.org
END:VEVENT
BEGIN:VEVENT
DTSTART;VALUE=DATE:20220411
DTEND;VALUE=DATE:20220412
DTSTAMP:20260419T153007
CREATED:20220114T201339Z
LAST-MODIFIED:20220114T202807Z
UID:10001328-1649664000-1649696400@www.artsparktx.org
SUMMARY:Call for Art Community Gallery
DESCRIPTION:Art Spark Texas is seeking visual artists to display their work at our community gallery space at the Austin Lighthouse for the Blind Lobby and hallway in Austin. The artwork is changed out every two months. Group and solo opportunities are available. \nIf you are interested\, please contact April at april@artsparktx.org.
URL:https://www.artsparktx.org/event/call-for-art-community-gallery/2022-04-11/
LOCATION:Austin Lighthouse for the Blind\, 4512 S Pleasant Valley Rd\, Austin\, TX\, 78744\, United States
CATEGORIES:Artworks,Call for Art
ATTACH;FMTTYPE=image/jpeg:https://www.artsparktx.org/wp-content/uploads/AuLi_ContactUs_header-April-Sullivan.jpeg
ORGANIZER;CN="April Sullivan":MAILTO:april@artsparktx.org
END:VEVENT
BEGIN:VEVENT
DTSTART;TZID=America/Chicago:20220413T190000
DTEND;TZID=America/Chicago:20220413T200000
DTSTAMP:20260419T153007
CREATED:20220412T152416Z
LAST-MODIFIED:20220412T152417Z
UID:10001808-1649876400-1649880000@www.artsparktx.org
SUMMARY:Community Conversation with April Artist of the Month Thom the World Poet
DESCRIPTION:April is National Poetry Month and this month our Artist of the Month is the delightful Thom Woodruff\, also known as Thom the World Poet\, the Texas Beat Poet Laureate 2020-2022! Join us for a virtual conversation and POETRY JAM with Thom! \nLink for the virtual event: https://meet.goto.com/211088573
URL:https://www.artsparktx.org/event/community-conversation-with-april-artist-of-the-month-thom-the-world-poet/
LOCATION:TX
CATEGORIES:Artworks,Community Conversations
ATTACH;FMTTYPE=image/png:https://www.artsparktx.org/wp-content/uploads/Community-Conversation-with-Thom-the-Poet-April-2022-FB-cover-2-Susan-Slattery.png
ORGANIZER;CN="Susan Slattery":MAILTO:susan@artsparktx.org
END:VEVENT
BEGIN:VEVENT
DTSTART;VALUE=DATE:20220418
DTEND;VALUE=DATE:20220419
DTSTAMP:20260419T153007
CREATED:20220114T201339Z
LAST-MODIFIED:20220114T202807Z
UID:10001329-1650268800-1650301200@www.artsparktx.org
SUMMARY:Call for Art Community Gallery
DESCRIPTION:Art Spark Texas is seeking visual artists to display their work at our community gallery space at the Austin Lighthouse for the Blind Lobby and hallway in Austin. The artwork is changed out every two months. Group and solo opportunities are available. \nIf you are interested\, please contact April at april@artsparktx.org.
URL:https://www.artsparktx.org/event/call-for-art-community-gallery/2022-04-18/
LOCATION:Austin Lighthouse for the Blind\, 4512 S Pleasant Valley Rd\, Austin\, TX\, 78744\, United States
CATEGORIES:Artworks,Call for Art
ATTACH;FMTTYPE=image/jpeg:https://www.artsparktx.org/wp-content/uploads/AuLi_ContactUs_header-April-Sullivan.jpeg
ORGANIZER;CN="April Sullivan":MAILTO:april@artsparktx.org
END:VEVENT
BEGIN:VEVENT
DTSTART;TZID=America/Chicago:20220424T130000
DTEND;TZID=America/Chicago:20220424T160000
DTSTAMP:20260419T153007
CREATED:20220223T171703Z
LAST-MODIFIED:20220420T165659Z
UID:10001790-1650805200-1650816000@www.artsparktx.org
SUMMARY:Makers Meet-up
DESCRIPTION:Spend a fun afternoon creating together in our new space\, 1152 San Bernard Street! Our April Makers Meet-Up will be card making! Make cards for Mother’s Day and learn a tip or two from Cardmaker Jourdan Huerta of Greetings By J. It’s free to participate\, plus we’ll have lots of materials available\, but you are welcome to bring items to share. If you don’t feel comfortable joining us in- person\, join us virtually! For details\, contact Susan at susan@artsparktx.org. Use this link to participate virtually. \n  \n \n 
URL:https://www.artsparktx.org/event/makers-meet-up-2022-04-24/
LOCATION:Art Spark Texas\, 1152 San Bernard St.\, Austin\, TX\, 78702\, United States
CATEGORIES:Artworks,Classes,Community Events,Virtual Classes
ATTACH;FMTTYPE=image/png:https://www.artsparktx.org/wp-content/uploads/Makers-Meet-up-Susan-Slattery.png
ORGANIZER;CN="Susan Slattery":MAILTO:susan@artsparktx.org
END:VEVENT
BEGIN:VEVENT
DTSTART;VALUE=DATE:20220425
DTEND;VALUE=DATE:20220426
DTSTAMP:20260419T153007
CREATED:20220114T201339Z
LAST-MODIFIED:20220114T202807Z
UID:10001330-1650873600-1650906000@www.artsparktx.org
SUMMARY:Call for Art Community Gallery
DESCRIPTION:Art Spark Texas is seeking visual artists to display their work at our community gallery space at the Austin Lighthouse for the Blind Lobby and hallway in Austin. The artwork is changed out every two months. Group and solo opportunities are available. \nIf you are interested\, please contact April at april@artsparktx.org.
URL:https://www.artsparktx.org/event/call-for-art-community-gallery/2022-04-25/
LOCATION:Austin Lighthouse for the Blind\, 4512 S Pleasant Valley Rd\, Austin\, TX\, 78744\, United States
CATEGORIES:Artworks,Call for Art
ATTACH;FMTTYPE=image/jpeg:https://www.artsparktx.org/wp-content/uploads/AuLi_ContactUs_header-April-Sullivan.jpeg
ORGANIZER;CN="April Sullivan":MAILTO:april@artsparktx.org
END:VEVENT
BEGIN:VEVENT
DTSTART;TZID=America/Chicago:20220430T120000
DTEND;TZID=America/Chicago:20220430T170000
DTSTAMP:20260419T153007
CREATED:20220301T222456Z
LAST-MODIFIED:20220426T174842Z
UID:10001800-1651320000-1651338000@www.artsparktx.org
SUMMARY:May Day Arts Celebration
DESCRIPTION:Saturday\, April 30 (12-5:00 PM)  \nSpring is in the air! Come celebrate the Arts with us! We’re planning our largest event ever – but\, hey\, this is Texas\, y’all. Go big or home! \nSelected Artisans will be offering fresh\, new art\, fine crafts\, wearables\, jewelry and more. And what would be an Arts Festival in Austin without live music? So\, guess what – there’s an afternoon of performances planned! \nIt’s the weekend before Mother’s Day – a great time to find the perfect gift for Mom! Plan on FUN for the entire family! Tasty treats and libations will be served! Hope to see you there! \nThis will be a full day of FUN with: \n\nAn indoor & outdoor gallery featuring   dynamic local visual artists\nAn afternoon of LIVE MUSIC performances you are going to love\nSPECIAL GUEST Those Vending Machines\nArt Activities and Face Painting\nDrum Circle\n\nPLUS our amazing community (that’s you)! \nRaindate Sunday\, May 1\, 2022 \n  \n        .           
URL:https://www.artsparktx.org/event/may-day-arts-celebration/
LOCATION:Art Spark Texas\, 1152 San Bernard St.\, Austin\, TX\, 78702\, United States
CATEGORIES:Arts & Crafts Pop-up Shop,Artworks
ATTACH;FMTTYPE=image/png:https://www.artsparktx.org/wp-content/uploads/Blue-Hello-Spring-Cover-Post.png
ORGANIZER;CN="Susan Slattery":MAILTO:susan@artsparktx.org
END:VEVENT
END:VCALENDAR