BEGIN:VCALENDAR
VERSION:2.0
PRODID:-//Art Spark Texas - ECPv6.15.20//NONSGML v1.0//EN
CALSCALE:GREGORIAN
METHOD:PUBLISH
X-WR-CALNAME:Art Spark Texas
X-ORIGINAL-URL:https://www.artsparktx.org
X-WR-CALDESC:Events for Art Spark Texas
REFRESH-INTERVAL;VALUE=DURATION:PT1H
X-Robots-Tag:noindex
X-PUBLISHED-TTL:PT1H
BEGIN:VTIMEZONE
TZID:America/Chicago
BEGIN:DAYLIGHT
TZOFFSETFROM:-0600
TZOFFSETTO:-0500
TZNAME:CDT
DTSTART:20210314T080000
END:DAYLIGHT
BEGIN:STANDARD
TZOFFSETFROM:-0500
TZOFFSETTO:-0600
TZNAME:CST
DTSTART:20211107T070000
END:STANDARD
BEGIN:DAYLIGHT
TZOFFSETFROM:-0600
TZOFFSETTO:-0500
TZNAME:CDT
DTSTART:20220313T080000
END:DAYLIGHT
BEGIN:STANDARD
TZOFFSETFROM:-0500
TZOFFSETTO:-0600
TZNAME:CST
DTSTART:20221106T070000
END:STANDARD
BEGIN:DAYLIGHT
TZOFFSETFROM:-0600
TZOFFSETTO:-0500
TZNAME:CDT
DTSTART:20230312T080000
END:DAYLIGHT
BEGIN:STANDARD
TZOFFSETFROM:-0500
TZOFFSETTO:-0600
TZNAME:CST
DTSTART:20231105T070000
END:STANDARD
END:VTIMEZONE
BEGIN:VEVENT
DTSTART;VALUE=DATE:20220606
DTEND;VALUE=DATE:20220607
DTSTAMP:20260419T121505
CREATED:20220114T201339Z
LAST-MODIFIED:20220114T202807Z
UID:10001336-1654502400-1654534800@www.artsparktx.org
SUMMARY:Call for Art Community Gallery
DESCRIPTION:Art Spark Texas is seeking visual artists to display their work at our community gallery space at the Austin Lighthouse for the Blind Lobby and hallway in Austin. The artwork is changed out every two months. Group and solo opportunities are available. \nIf you are interested\, please contact April at april@artsparktx.org.
URL:https://www.artsparktx.org/event/call-for-art-community-gallery/2022-06-06/
LOCATION:Austin Lighthouse for the Blind\, 4512 S Pleasant Valley Rd\, Austin\, TX\, 78744\, United States
CATEGORIES:Artworks,Call for Art
ATTACH;FMTTYPE=image/jpeg:https://www.artsparktx.org/wp-content/uploads/AuLi_ContactUs_header-April-Sullivan.jpeg
ORGANIZER;CN="April Sullivan":MAILTO:april@artsparktx.org
END:VEVENT
BEGIN:VEVENT
DTSTART;VALUE=DATE:20220613
DTEND;VALUE=DATE:20220614
DTSTAMP:20260419T121505
CREATED:20220114T201339Z
LAST-MODIFIED:20220114T202807Z
UID:10001337-1655107200-1655139600@www.artsparktx.org
SUMMARY:Call for Art Community Gallery
DESCRIPTION:Art Spark Texas is seeking visual artists to display their work at our community gallery space at the Austin Lighthouse for the Blind Lobby and hallway in Austin. The artwork is changed out every two months. Group and solo opportunities are available. \nIf you are interested\, please contact April at april@artsparktx.org.
URL:https://www.artsparktx.org/event/call-for-art-community-gallery/2022-06-13/
LOCATION:Austin Lighthouse for the Blind\, 4512 S Pleasant Valley Rd\, Austin\, TX\, 78744\, United States
CATEGORIES:Artworks,Call for Art
ATTACH;FMTTYPE=image/jpeg:https://www.artsparktx.org/wp-content/uploads/AuLi_ContactUs_header-April-Sullivan.jpeg
ORGANIZER;CN="April Sullivan":MAILTO:april@artsparktx.org
END:VEVENT
BEGIN:VEVENT
DTSTART;VALUE=DATE:20220620
DTEND;VALUE=DATE:20220621
DTSTAMP:20260419T121505
CREATED:20220114T201339Z
LAST-MODIFIED:20220114T202807Z
UID:10001338-1655712000-1655744400@www.artsparktx.org
SUMMARY:Call for Art Community Gallery
DESCRIPTION:Art Spark Texas is seeking visual artists to display their work at our community gallery space at the Austin Lighthouse for the Blind Lobby and hallway in Austin. The artwork is changed out every two months. Group and solo opportunities are available. \nIf you are interested\, please contact April at april@artsparktx.org.
URL:https://www.artsparktx.org/event/call-for-art-community-gallery/2022-06-20/
LOCATION:Austin Lighthouse for the Blind\, 4512 S Pleasant Valley Rd\, Austin\, TX\, 78744\, United States
CATEGORIES:Artworks,Call for Art
ATTACH;FMTTYPE=image/jpeg:https://www.artsparktx.org/wp-content/uploads/AuLi_ContactUs_header-April-Sullivan.jpeg
ORGANIZER;CN="April Sullivan":MAILTO:april@artsparktx.org
END:VEVENT
BEGIN:VEVENT
DTSTART;TZID=America/Chicago:20220625T110000
DTEND;TZID=America/Chicago:20220625T123000
DTSTAMP:20260419T121505
CREATED:20220506T150635Z
LAST-MODIFIED:20230411T214301Z
UID:10001840-1656154800-1656160200@www.artsparktx.org
SUMMARY:Monthly Drum Circle
DESCRIPTION:Join our Monthly Drum Circle\, led by Mary Oliver of Spirit Rhythms on the last Saturday of each month from 11:00 AM to 12:30 PM. Mary focuses on her passion for drumming as a tool for nurturing others toward self-expression\, spirituality\, and wellness. The drum circle will take place outdoors in chairs but will move indoors in the case of inclement weather. \nTo sign up\, or if you have any questions\, please email mary.spiritrhythms@gmail.com \nThere is no cost to participate\, though donations are welcome. \n \n 
URL:https://www.artsparktx.org/event/monthly-drum-circle/2022-06-25/
LOCATION:Art Spark Texas\, 1152 San Bernard St.\, Austin\, TX\, 78702\, United States
CATEGORIES:Artworks,Classes
ATTACH;FMTTYPE=image/jpeg:https://www.artsparktx.org/wp-content/uploads/People-in-a-drum-circle-Susan-Slattery.jpg
ORGANIZER;CN="April Sullivan":MAILTO:april@artsparktx.org
END:VEVENT
BEGIN:VEVENT
DTSTART;TZID=America/Chicago:20220626T130000
DTEND;TZID=America/Chicago:20220626T160000
DTSTAMP:20260419T121505
CREATED:20220223T171703Z
LAST-MODIFIED:20220628T202029Z
UID:10001794-1656248400-1656259200@www.artsparktx.org
SUMMARY:June Makers Meet-up
DESCRIPTION:Join us for our monthly art-making gathering! For June\, we are creating pieces to enter in the upcoming Art Spark Texas ART • BBQ • PIE Art exhibit! All supplies provided. If you’re already working on your entry\, feel free to bring any works-in-progress to share with the group for constructive feedback. Deadline for submitting your work into the exhibit is Monday\, July 18th. It’s free to participate in Makers\, and free to submit your artwork. If you don’t feel comfortable joining us in- person\, join us virtually here https://bit.ly/3tmR4JF \n  \n 
URL:https://www.artsparktx.org/event/makers-meet-up-2022-07-31/
LOCATION:Art Spark Texas\, 1152 San Bernard St.\, Austin\, TX\, 78702\, United States
CATEGORIES:Artworks,Classes,Community Events,Virtual Classes
ATTACH;FMTTYPE=image/png:https://www.artsparktx.org/wp-content/uploads/IMG_4928.png
ORGANIZER;CN="Susan Slattery":MAILTO:susan@artsparktx.org
END:VEVENT
BEGIN:VEVENT
DTSTART;VALUE=DATE:20220627
DTEND;VALUE=DATE:20220628
DTSTAMP:20260419T121505
CREATED:20220114T201339Z
LAST-MODIFIED:20220114T202807Z
UID:10001339-1656316800-1656349200@www.artsparktx.org
SUMMARY:Call for Art Community Gallery
DESCRIPTION:Art Spark Texas is seeking visual artists to display their work at our community gallery space at the Austin Lighthouse for the Blind Lobby and hallway in Austin. The artwork is changed out every two months. Group and solo opportunities are available. \nIf you are interested\, please contact April at april@artsparktx.org.
URL:https://www.artsparktx.org/event/call-for-art-community-gallery/2022-06-27/
LOCATION:Austin Lighthouse for the Blind\, 4512 S Pleasant Valley Rd\, Austin\, TX\, 78744\, United States
CATEGORIES:Artworks,Call for Art
ATTACH;FMTTYPE=image/jpeg:https://www.artsparktx.org/wp-content/uploads/AuLi_ContactUs_header-April-Sullivan.jpeg
ORGANIZER;CN="April Sullivan":MAILTO:april@artsparktx.org
END:VEVENT
BEGIN:VEVENT
DTSTART;TZID=America/Chicago:20220629T190000
DTEND;TZID=America/Chicago:20220629T200000
DTSTAMP:20260419T121505
CREATED:20220510T180235Z
LAST-MODIFIED:20220614T165507Z
UID:10001865-1656529200-1656532800@www.artsparktx.org
SUMMARY:Community Conversation with June Artist of the Month Ruth McIntosh
DESCRIPTION:Join us virtually on Wednesday\, June 29th\, (7:00 PM CDT) when our Artist of the Month\, Ruth McIntosh\, a multimedia visual artist\, writer\, dancer\, and Air Force Veteran\, comes to chat with us. Ruth will be showing some of her visual work and telling us the stories behind the art. Ruth will also lead a mini creative prompt session that we can all participate in \nJoin the conversation using this link: https://us06web.zoom.us/j/82038182706?pwd=Z2oxVXJmVEZVVTNyRkg3Ykljd0xDZz09 \n 
URL:https://www.artsparktx.org/event/community-conversations/
LOCATION:TX
CATEGORIES:Artworks,Community Conversations
ATTACH;FMTTYPE=image/png:https://www.artsparktx.org/wp-content/uploads/Ruth-McIntosh-Facebook-Cover-Facebook-Cover-1-Susan-Slattery-1.png
ORGANIZER;CN="Susan Slattery":MAILTO:susan@artsparktx.org
END:VEVENT
BEGIN:VEVENT
DTSTART;TZID=America/Chicago:20220630T190000
DTEND;TZID=America/Chicago:20220630T210000
DTSTAMP:20260419T121505
CREATED:20220609T215016Z
LAST-MODIFIED:20220609T215038Z
UID:10001869-1656615600-1656622800@www.artsparktx.org
SUMMARY:Paint and Sip Night
DESCRIPTION:Join us for a Paint and Sip event on Thursday\, June 30th in the evening! Teaching Artist Judith Estrada Garcia will help you paint your fantasy vacation using acrylics. All levels\, including beginners\, are welcome and are guaranteed a great time. All supplies\, wine and snacks will be provided. Register now to secure your spot.\n\n\n\nSign Up Today: https://bit.ly/3zrzg3H
URL:https://www.artsparktx.org/event/paint-and-sip-night/
LOCATION:Art Spark Texas\, 1152 San Bernard St.\, Austin\, TX\, 78702\, United States
CATEGORIES:Artworks
ATTACH;FMTTYPE=image/png:https://www.artsparktx.org/wp-content/uploads/Paint-and-Sip-June-Facebook-Cover-1-Susan-Slattery-1.png
ORGANIZER;CN="Susan Slattery":MAILTO:susan@artsparktx.org
END:VEVENT
END:VCALENDAR