BEGIN:VCALENDAR
VERSION:2.0
PRODID:-//Art Spark Texas - ECPv6.15.20//NONSGML v1.0//EN
CALSCALE:GREGORIAN
METHOD:PUBLISH
X-ORIGINAL-URL:https://www.artsparktx.org
X-WR-CALDESC:Events for Art Spark Texas
REFRESH-INTERVAL;VALUE=DURATION:PT1H
X-Robots-Tag:noindex
X-PUBLISHED-TTL:PT1H
BEGIN:VTIMEZONE
TZID:America/Chicago
BEGIN:DAYLIGHT
TZOFFSETFROM:-0600
TZOFFSETTO:-0500
TZNAME:CDT
DTSTART:20210314T080000
END:DAYLIGHT
BEGIN:STANDARD
TZOFFSETFROM:-0500
TZOFFSETTO:-0600
TZNAME:CST
DTSTART:20211107T070000
END:STANDARD
BEGIN:DAYLIGHT
TZOFFSETFROM:-0600
TZOFFSETTO:-0500
TZNAME:CDT
DTSTART:20220313T080000
END:DAYLIGHT
BEGIN:STANDARD
TZOFFSETFROM:-0500
TZOFFSETTO:-0600
TZNAME:CST
DTSTART:20221106T070000
END:STANDARD
BEGIN:DAYLIGHT
TZOFFSETFROM:-0600
TZOFFSETTO:-0500
TZNAME:CDT
DTSTART:20230312T080000
END:DAYLIGHT
BEGIN:STANDARD
TZOFFSETFROM:-0500
TZOFFSETTO:-0600
TZNAME:CST
DTSTART:20231105T070000
END:STANDARD
END:VTIMEZONE
BEGIN:VEVENT
DTSTART;TZID=America/Chicago:20220716T110000
DTEND;TZID=America/Chicago:20220716T123000
DTSTAMP:20260419T103835
CREATED:20220506T150635Z
LAST-MODIFIED:20220707T221838Z
UID:10001855-1657969200-1657974600@www.artsparktx.org
SUMMARY:Monthly Drum Circle
DESCRIPTION:Join our Monthly Drum Circle\, led by Mary Oliver of Spirit Rhythms on the last Saturday of each month from 11:00 AM to 12:30 PM. Mary focuses on her passion for drumming as a tool for nurturing others toward self-expression\, spirituality\, and wellness. The drum circle will take place outdoors in chairs but will move indoors in the case of inclement weather. \nTo sign up\, or if you have any questions\, please email mary.spiritrhythms@gmail.com \nThere is no cost to participate\, though donations are welcome. \n \n 
URL:https://www.artsparktx.org/event/monthly-drum-circle-2022-07-30/
LOCATION:Art Spark Texas\, 1152 San Bernard St.\, Austin\, TX\, 78702\, United States
CATEGORIES:Artworks,Classes
ATTACH;FMTTYPE=image/jpeg:https://www.artsparktx.org/wp-content/uploads/People-in-a-drum-circle-Susan-Slattery.jpg
ORGANIZER;CN="April Sullivan":MAILTO:april@artsparktx.org
END:VEVENT
BEGIN:VEVENT
DTSTART;VALUE=DATE:20220718
DTEND;VALUE=DATE:20220719
DTSTAMP:20260419T103835
CREATED:20220715T222647Z
LAST-MODIFIED:20220719T175346Z
UID:10001872-1658102400-1658188799@www.artsparktx.org
SUMMARY:A Community Thrives fundraiser
DESCRIPTION:Art Spark’s A Community Thrives fundraiser takes place July 18th through August 12th\nArt Spark is one of the charities participating in A Community Thrives\, a Gannett Foundation program that supports community improvement ideas with grants up to $100\,000. To qualify for a grant\, we need to meet a minimum fundraising goal of $3\,000 between July 18th and August 12th\, 2022\, and we need your help! \nHelp us raise funds for our 2022 Artist of the Year Awards by making a donation online on our A Community Thrives page. Our ultimate goal for this campaign is $8\,000. \nEach year\, the Artist of the Year Awards are given to Texas artists who embody the spirit and vision of Art Spark Texas\, and who challenge the perceptions of how people contribute by demonstrating artistic excellence or leading the way as a community catalyst for change. It is important for these artists to be seen and heard\, and yes\, recognized for their abilities and talent. The Artist of the Year Awards celebrate\, and encourage\, the abundance of creativity in our community. \nIt’s easy to give. Just visit the Donation page and make a contribution to us. You have several weeks to do this\, but there are some exciting fundraising challenges we can meet if you donate right away! All giving will end at 11:00 AM CDT on August 12th\, 2022. \nQuestions? Please contact Susan@artsparktx.org. Thank you in advance for your support of Art Spark Texas! \nhttps://acommunitythrives.mightycause.com/organization/Art-Spark-Texas
URL:https://www.artsparktx.org/event/a-community-thrives-fundraiser/2022-07-18/
LOCATION:TX
CATEGORIES:Artworks,Fundraisers,Fundraising Event
ATTACH;FMTTYPE=image/png:https://www.artsparktx.org/wp-content/uploads/Community-Thrives-2022-Facebook-Cover-1-1.png
END:VEVENT
BEGIN:VEVENT
DTSTART;TZID=America/Chicago:20220724T130000
DTEND;TZID=America/Chicago:20220724T160000
DTSTAMP:20260419T103835
CREATED:20220223T171703Z
LAST-MODIFIED:20220720T225349Z
UID:10001793-1658667600-1658678400@www.artsparktx.org
SUMMARY:July Makers Meet-up
DESCRIPTION:Join us for our monthly art-making gathering in our new space! For July\, we will be diving into Gyotaku\, the traditional Japanese method of Fish Printing. Originally a method for fishermen to record and catalog their catch\, Gyotaku has evolved into an art form. All supplies provided. As an alternative to printing on paper\, we will have fabric paint. (We will be using rubber replica fish for this activity) \n\n\n\nIf you don’t feel comfortable joining us in-person\, join us virtually here https://us06web.zoom.us/j/87338919414?pwd=L08rOSt0a3pqaUdSclNiTitOZnVzQT09
URL:https://www.artsparktx.org/event/makers-meet-up-2022-06-26/
LOCATION:Art Spark Texas\, 1152 San Bernard St.\, Austin\, TX\, 78702\, United States
CATEGORIES:Artworks,Classes,Community Events,Virtual Classes
ATTACH;FMTTYPE=image/png:https://www.artsparktx.org/wp-content/uploads/IMG_4870.png
ORGANIZER;CN="Susan Slattery":MAILTO:susan@artsparktx.org
END:VEVENT
BEGIN:VEVENT
DTSTART;VALUE=DATE:20220725
DTEND;VALUE=DATE:20220726
DTSTAMP:20260419T103835
CREATED:20220715T222647Z
LAST-MODIFIED:20220719T175346Z
UID:10001873-1658707200-1658793599@www.artsparktx.org
SUMMARY:A Community Thrives fundraiser
DESCRIPTION:Art Spark’s A Community Thrives fundraiser takes place July 18th through August 12th\nArt Spark is one of the charities participating in A Community Thrives\, a Gannett Foundation program that supports community improvement ideas with grants up to $100\,000. To qualify for a grant\, we need to meet a minimum fundraising goal of $3\,000 between July 18th and August 12th\, 2022\, and we need your help! \nHelp us raise funds for our 2022 Artist of the Year Awards by making a donation online on our A Community Thrives page. Our ultimate goal for this campaign is $8\,000. \nEach year\, the Artist of the Year Awards are given to Texas artists who embody the spirit and vision of Art Spark Texas\, and who challenge the perceptions of how people contribute by demonstrating artistic excellence or leading the way as a community catalyst for change. It is important for these artists to be seen and heard\, and yes\, recognized for their abilities and talent. The Artist of the Year Awards celebrate\, and encourage\, the abundance of creativity in our community. \nIt’s easy to give. Just visit the Donation page and make a contribution to us. You have several weeks to do this\, but there are some exciting fundraising challenges we can meet if you donate right away! All giving will end at 11:00 AM CDT on August 12th\, 2022. \nQuestions? Please contact Susan@artsparktx.org. Thank you in advance for your support of Art Spark Texas! \nhttps://acommunitythrives.mightycause.com/organization/Art-Spark-Texas
URL:https://www.artsparktx.org/event/a-community-thrives-fundraiser/2022-07-25/
LOCATION:TX
CATEGORIES:Artworks,Fundraisers,Fundraising Event
ATTACH;FMTTYPE=image/png:https://www.artsparktx.org/wp-content/uploads/Community-Thrives-2022-Facebook-Cover-1-1.png
END:VEVENT
BEGIN:VEVENT
DTSTART;TZID=America/Chicago:20220731T170000
DTEND;TZID=America/Chicago:20220731T200000
DTSTAMP:20260419T103835
CREATED:20220609T215520Z
LAST-MODIFIED:20220719T163254Z
UID:10001870-1659286800-1659297600@www.artsparktx.org
SUMMARY:BBQ\, ART and PIE SOCIAL
DESCRIPTION:Join us at Art Spark Texas for an amazing evening fundraiser featuring that most Texas of cuisines – Barbecue – generously provided by Kent Black’s BBQ! We expect this event to sell out\, so make sure to reserve your ticket ($10) here today.  \n\n\nThere will be summertime\, BBQ and pie-themed Art to check out\, some Art Spark short film screenings and more! Plus…we’re having a Pie Social. Bring a Pie to share and you will receive one of our fashionable Art Spark T-shirts.   \n  It’s true Texas fun for everyone. Bring the family and invite your friends! We expect this event to sell out\, so make sure to reserve your ticket only $10 today https://bit.ly/3Pdwe8v  \nArt Spark Texas – NEW LOCATION\n1152 San Bernard Street\nAustin\, Texas 78702\nCapital Metro 🚎 Route 2 Rosewood
URL:https://www.artsparktx.org/event/art-bbq-and-pie-social/
LOCATION:Art Spark Texas\, 1152 San Bernard St.\, Austin\, TX\, 78702\, United States
CATEGORIES:Artworks
ATTACH;FMTTYPE=image/png:https://www.artsparktx.org/wp-content/uploads/BBQ-Pie-event-no-logo-Facebook-Cover.png
ORGANIZER;CN="Susan Slattery":MAILTO:susan@artsparktx.org
END:VEVENT
END:VCALENDAR