BEGIN:VCALENDAR
VERSION:2.0
PRODID:-//Art Spark Texas - ECPv6.15.20//NONSGML v1.0//EN
CALSCALE:GREGORIAN
METHOD:PUBLISH
X-WR-CALNAME:Art Spark Texas
X-ORIGINAL-URL:https://www.artsparktx.org
X-WR-CALDESC:Events for Art Spark Texas
REFRESH-INTERVAL;VALUE=DURATION:PT1H
X-Robots-Tag:noindex
X-PUBLISHED-TTL:PT1H
BEGIN:VTIMEZONE
TZID:America/Chicago
BEGIN:DAYLIGHT
TZOFFSETFROM:-0600
TZOFFSETTO:-0500
TZNAME:CDT
DTSTART:20210314T080000
END:DAYLIGHT
BEGIN:STANDARD
TZOFFSETFROM:-0500
TZOFFSETTO:-0600
TZNAME:CST
DTSTART:20211107T070000
END:STANDARD
BEGIN:DAYLIGHT
TZOFFSETFROM:-0600
TZOFFSETTO:-0500
TZNAME:CDT
DTSTART:20220313T080000
END:DAYLIGHT
BEGIN:STANDARD
TZOFFSETFROM:-0500
TZOFFSETTO:-0600
TZNAME:CST
DTSTART:20221106T070000
END:STANDARD
BEGIN:DAYLIGHT
TZOFFSETFROM:-0600
TZOFFSETTO:-0500
TZNAME:CDT
DTSTART:20230312T080000
END:DAYLIGHT
BEGIN:STANDARD
TZOFFSETFROM:-0500
TZOFFSETTO:-0600
TZNAME:CST
DTSTART:20231105T070000
END:STANDARD
END:VTIMEZONE
BEGIN:VEVENT
DTSTART;VALUE=DATE:20220801
DTEND;VALUE=DATE:20220802
DTSTAMP:20260419T085551
CREATED:20220715T222647Z
LAST-MODIFIED:20220719T175346Z
UID:10001874-1659312000-1659398399@www.artsparktx.org
SUMMARY:A Community Thrives fundraiser
DESCRIPTION:Art Spark’s A Community Thrives fundraiser takes place July 18th through August 12th\nArt Spark is one of the charities participating in A Community Thrives\, a Gannett Foundation program that supports community improvement ideas with grants up to $100\,000. To qualify for a grant\, we need to meet a minimum fundraising goal of $3\,000 between July 18th and August 12th\, 2022\, and we need your help! \nHelp us raise funds for our 2022 Artist of the Year Awards by making a donation online on our A Community Thrives page. Our ultimate goal for this campaign is $8\,000. \nEach year\, the Artist of the Year Awards are given to Texas artists who embody the spirit and vision of Art Spark Texas\, and who challenge the perceptions of how people contribute by demonstrating artistic excellence or leading the way as a community catalyst for change. It is important for these artists to be seen and heard\, and yes\, recognized for their abilities and talent. The Artist of the Year Awards celebrate\, and encourage\, the abundance of creativity in our community. \nIt’s easy to give. Just visit the Donation page and make a contribution to us. You have several weeks to do this\, but there are some exciting fundraising challenges we can meet if you donate right away! All giving will end at 11:00 AM CDT on August 12th\, 2022. \nQuestions? Please contact Susan@artsparktx.org. Thank you in advance for your support of Art Spark Texas! \nhttps://acommunitythrives.mightycause.com/organization/Art-Spark-Texas
URL:https://www.artsparktx.org/event/a-community-thrives-fundraiser/2022-08-01/
LOCATION:TX
CATEGORIES:Artworks,Fundraisers,Fundraising Event
ATTACH;FMTTYPE=image/png:https://www.artsparktx.org/wp-content/uploads/Community-Thrives-2022-Facebook-Cover-1-1.png
END:VEVENT
BEGIN:VEVENT
DTSTART;VALUE=DATE:20220808
DTEND;VALUE=DATE:20220809
DTSTAMP:20260419T085551
CREATED:20220715T222647Z
LAST-MODIFIED:20220719T175346Z
UID:10001875-1659916800-1660003199@www.artsparktx.org
SUMMARY:A Community Thrives fundraiser
DESCRIPTION:Art Spark’s A Community Thrives fundraiser takes place July 18th through August 12th\nArt Spark is one of the charities participating in A Community Thrives\, a Gannett Foundation program that supports community improvement ideas with grants up to $100\,000. To qualify for a grant\, we need to meet a minimum fundraising goal of $3\,000 between July 18th and August 12th\, 2022\, and we need your help! \nHelp us raise funds for our 2022 Artist of the Year Awards by making a donation online on our A Community Thrives page. Our ultimate goal for this campaign is $8\,000. \nEach year\, the Artist of the Year Awards are given to Texas artists who embody the spirit and vision of Art Spark Texas\, and who challenge the perceptions of how people contribute by demonstrating artistic excellence or leading the way as a community catalyst for change. It is important for these artists to be seen and heard\, and yes\, recognized for their abilities and talent. The Artist of the Year Awards celebrate\, and encourage\, the abundance of creativity in our community. \nIt’s easy to give. Just visit the Donation page and make a contribution to us. You have several weeks to do this\, but there are some exciting fundraising challenges we can meet if you donate right away! All giving will end at 11:00 AM CDT on August 12th\, 2022. \nQuestions? Please contact Susan@artsparktx.org. Thank you in advance for your support of Art Spark Texas! \nhttps://acommunitythrives.mightycause.com/organization/Art-Spark-Texas
URL:https://www.artsparktx.org/event/a-community-thrives-fundraiser/2022-08-08/
LOCATION:TX
CATEGORIES:Artworks,Fundraisers,Fundraising Event
ATTACH;FMTTYPE=image/png:https://www.artsparktx.org/wp-content/uploads/Community-Thrives-2022-Facebook-Cover-1-1.png
END:VEVENT
BEGIN:VEVENT
DTSTART;TZID=America/Chicago:20220810T190000
DTEND;TZID=America/Chicago:20220810T200000
DTSTAMP:20260419T085551
CREATED:20220510T180235Z
LAST-MODIFIED:20220804T153446Z
UID:10001866-1660158000-1660161600@www.artsparktx.org
SUMMARY:Community Conversation with August Artist of the Month Joanne State
DESCRIPTION:Ever wonder how a songwriter comes up with a good opening line? Join us Wednesday\, August 10th\, (7-8:00 PM CDT) for a virtual Community Conversation with August Artist of the Month Joanne Stato and find out! Joanne\, a songwriter\, musician and recording artist\, will discuss her songwriting process with us. She will also facilitate a songwriting activity for attendees. \nJoin the conversation using this link: https://us06web.zoom.us/j/82038182706?pwd=Z2oxVXJmVEZVVTNyRkg3Ykljd0xDZz09
URL:https://www.artsparktx.org/event/community-conversations-2022-07-13-2022-08-10/
LOCATION:TX
CATEGORIES:Artworks,Community Conversations
ATTACH;FMTTYPE=image/png:https://www.artsparktx.org/wp-content/uploads/Community-Conversation-Joanne-Stato-FB-Event-Facebook-Cover-Art-Spark-Texas.png
ORGANIZER;CN="Susan Slattery":MAILTO:susan@artsparktx.org
END:VEVENT
BEGIN:VEVENT
DTSTART;VALUE=DATE:20220812
DTEND;VALUE=DATE:20220813
DTSTAMP:20260419T085551
CREATED:20220715T222647Z
LAST-MODIFIED:20220719T175346Z
UID:10001876-1660291200-1660302000@www.artsparktx.org
SUMMARY:A Community Thrives fundraiser
DESCRIPTION:Art Spark’s A Community Thrives fundraiser takes place July 18th through August 12th\nArt Spark is one of the charities participating in A Community Thrives\, a Gannett Foundation program that supports community improvement ideas with grants up to $100\,000. To qualify for a grant\, we need to meet a minimum fundraising goal of $3\,000 between July 18th and August 12th\, 2022\, and we need your help! \nHelp us raise funds for our 2022 Artist of the Year Awards by making a donation online on our A Community Thrives page. Our ultimate goal for this campaign is $8\,000. \nEach year\, the Artist of the Year Awards are given to Texas artists who embody the spirit and vision of Art Spark Texas\, and who challenge the perceptions of how people contribute by demonstrating artistic excellence or leading the way as a community catalyst for change. It is important for these artists to be seen and heard\, and yes\, recognized for their abilities and talent. The Artist of the Year Awards celebrate\, and encourage\, the abundance of creativity in our community. \nIt’s easy to give. Just visit the Donation page and make a contribution to us. You have several weeks to do this\, but there are some exciting fundraising challenges we can meet if you donate right away! All giving will end at 11:00 AM CDT on August 12th\, 2022. \nQuestions? Please contact Susan@artsparktx.org. Thank you in advance for your support of Art Spark Texas! \nhttps://acommunitythrives.mightycause.com/organization/Art-Spark-Texas
URL:https://www.artsparktx.org/event/a-community-thrives-fundraiser/2022-08-12/
LOCATION:TX
CATEGORIES:Artworks,Fundraisers,Fundraising Event
ATTACH;FMTTYPE=image/png:https://www.artsparktx.org/wp-content/uploads/Community-Thrives-2022-Facebook-Cover-1-1.png
END:VEVENT
BEGIN:VEVENT
DTSTART;TZID=America/Chicago:20220813T110000
DTEND;TZID=America/Chicago:20220813T133000
DTSTAMP:20260419T085551
CREATED:20220705T183506Z
LAST-MODIFIED:20220707T211925Z
UID:10001871-1660388400-1660397400@www.artsparktx.org
SUMMARY:Face Painting Workshop
DESCRIPTION:Have you ever wanted to learn the art of Face Painting? This hands-on workshop will get you ready for some summer fun with the kids (adults\, too)\, Halloween and the holidays. Here’s your chance to have some expert instruction\, plus we’ll get you set up with your own set of face paints to take home with you. The $30 workshop fee includes all supplies. Bring a friend who wants to learn\, too\, and you can practice on each other. \nTo register\, please visit this link: https://www.eventbrite.com/e/face-painting-workshop-tickets-376791332017 \n 
URL:https://www.artsparktx.org/event/face-painting-workshop/
LOCATION:Art Spark Texas\, 1152 San Bernard St.\, Austin\, TX\, 78702\, United States
CATEGORIES:Artworks
ATTACH;FMTTYPE=image/png:https://www.artsparktx.org/wp-content/uploads/Face-Painting-Workshop-FB-Cover-1-1.png
ORGANIZER;CN="Susan Slattery":MAILTO:susan@artsparktx.org
END:VEVENT
BEGIN:VEVENT
DTSTART;TZID=America/Chicago:20220827T110000
DTEND;TZID=America/Chicago:20220827T123000
DTSTAMP:20260419T085551
CREATED:20220506T150635Z
LAST-MODIFIED:20230411T214301Z
UID:10001841-1661598000-1661603400@www.artsparktx.org
SUMMARY:Monthly Drum Circle
DESCRIPTION:Join our Monthly Drum Circle\, led by Mary Oliver of Spirit Rhythms on the last Saturday of each month from 11:00 AM to 12:30 PM. Mary focuses on her passion for drumming as a tool for nurturing others toward self-expression\, spirituality\, and wellness. The drum circle will take place outdoors in chairs but will move indoors in the case of inclement weather. \nTo sign up\, or if you have any questions\, please email mary.spiritrhythms@gmail.com \nThere is no cost to participate\, though donations are welcome. \n \n 
URL:https://www.artsparktx.org/event/monthly-drum-circle/2022-08-27/
LOCATION:Art Spark Texas\, 1152 San Bernard St.\, Austin\, TX\, 78702\, United States
CATEGORIES:Artworks,Classes
ATTACH;FMTTYPE=image/jpeg:https://www.artsparktx.org/wp-content/uploads/People-in-a-drum-circle-Susan-Slattery.jpg
ORGANIZER;CN="April Sullivan":MAILTO:april@artsparktx.org
END:VEVENT
BEGIN:VEVENT
DTSTART;TZID=America/Chicago:20220828T130000
DTEND;TZID=America/Chicago:20220828T160000
DTSTAMP:20260419T085551
CREATED:20220223T171703Z
LAST-MODIFIED:20220823T221027Z
UID:10001795-1661691600-1661702400@www.artsparktx.org
SUMMARY:Makers Meet-up
DESCRIPTION:In celebration of the Dog Days of August\, please join us for our monthly art-making gathering which will feature Pet Portraits! Expert pet portrait artist Ty Hamilton will be on-hand to offer some instruction and pointers on creating a special portrait of your beloved pet! We will have all the acrylic painting supplies on hand you will need\, you just have to supply your own photograph(s) to work from – sorry\, no live models except service animals. It’s free to participate and there will be snacks! If you don’t feel comfortable joining us in-person\, join us virtually here: https://us06web.zoom.us/j/87338919414?pwd=L08rOSt0a3pqaUdSclNiTitOZnVzQT09 \n 
URL:https://www.artsparktx.org/event/makers-meet-up-2022-08-28/
LOCATION:Art Spark Texas\, 1152 San Bernard St.\, Austin\, TX\, 78702\, United States
CATEGORIES:Artworks,Classes,Community Events,In-Person Classes,Virtual Classes
ATTACH;FMTTYPE=image/jpeg:https://www.artsparktx.org/wp-content/uploads/IMG_6007.jpg
ORGANIZER;CN="Susan Slattery":MAILTO:susan@artsparktx.org
END:VEVENT
END:VCALENDAR