BEGIN:VCALENDAR
VERSION:2.0
PRODID:-//Art Spark Texas - ECPv6.15.20//NONSGML v1.0//EN
CALSCALE:GREGORIAN
METHOD:PUBLISH
X-WR-CALNAME:Art Spark Texas
X-ORIGINAL-URL:https://www.artsparktx.org
X-WR-CALDESC:Events for Art Spark Texas
REFRESH-INTERVAL;VALUE=DURATION:PT1H
X-Robots-Tag:noindex
X-PUBLISHED-TTL:PT1H
BEGIN:VTIMEZONE
TZID:America/Chicago
BEGIN:DAYLIGHT
TZOFFSETFROM:-0600
TZOFFSETTO:-0500
TZNAME:CDT
DTSTART:20210314T080000
END:DAYLIGHT
BEGIN:STANDARD
TZOFFSETFROM:-0500
TZOFFSETTO:-0600
TZNAME:CST
DTSTART:20211107T070000
END:STANDARD
BEGIN:DAYLIGHT
TZOFFSETFROM:-0600
TZOFFSETTO:-0500
TZNAME:CDT
DTSTART:20220313T080000
END:DAYLIGHT
BEGIN:STANDARD
TZOFFSETFROM:-0500
TZOFFSETTO:-0600
TZNAME:CST
DTSTART:20221106T070000
END:STANDARD
BEGIN:DAYLIGHT
TZOFFSETFROM:-0600
TZOFFSETTO:-0500
TZNAME:CDT
DTSTART:20230312T080000
END:DAYLIGHT
BEGIN:STANDARD
TZOFFSETFROM:-0500
TZOFFSETTO:-0600
TZNAME:CST
DTSTART:20231105T070000
END:STANDARD
END:VTIMEZONE
BEGIN:VEVENT
DTSTART;TZID=America/Chicago:20220918T130000
DTEND;TZID=America/Chicago:20220918T160000
DTSTAMP:20260419T073636
CREATED:20220609T213748Z
LAST-MODIFIED:20220825T213159Z
UID:10001868-1663506000-1663516800@www.artsparktx.org
SUMMARY:2022 Artist of the Year Awards Ceremony
DESCRIPTION:The 2022 Artist of the Year award winners will be honored at the annual awards ceremony hosted by Art Spark Texas at the Sterling Event Center at 6134 US 290 E. Frontage Road\, Austin Texas\, on Sunday\, September 18\, 2022. The event will be held from 1:00 to 4:00 PM CDT\, and is free to attend. This will be an in-person live event. RSVPs are requested. All ages are welcome.
URL:https://www.artsparktx.org/event/2022-artist-of-the-year-awards-ceremony/
LOCATION:Sterling Events Center\, 6134 US 290 E. Frontage Road\, Austin\, TX\, 78752\, United States
CATEGORIES:Artworks,Awards
ATTACH;FMTTYPE=image/jpeg:https://www.artsparktx.org/wp-content/uploads/2022-AOTY-800x600-dates-times-graphic-copy.jpg
ORGANIZER;CN="Susan Slattery":MAILTO:susan@artsparktx.org
END:VEVENT
BEGIN:VEVENT
DTSTART;TZID=America/Chicago:20220924T110000
DTEND;TZID=America/Chicago:20220924T123000
DTSTAMP:20260419T073636
CREATED:20220506T150635Z
LAST-MODIFIED:20230411T214301Z
UID:10001842-1664017200-1664022600@www.artsparktx.org
SUMMARY:Monthly Drum Circle
DESCRIPTION:Join our Monthly Drum Circle\, led by Mary Oliver of Spirit Rhythms on the last Saturday of each month from 11:00 AM to 12:30 PM. Mary focuses on her passion for drumming as a tool for nurturing others toward self-expression\, spirituality\, and wellness. The drum circle will take place outdoors in chairs but will move indoors in the case of inclement weather. \nTo sign up\, or if you have any questions\, please email mary.spiritrhythms@gmail.com \nThere is no cost to participate\, though donations are welcome. \n \n 
URL:https://www.artsparktx.org/event/monthly-drum-circle/2022-09-24/
LOCATION:Art Spark Texas\, 1152 San Bernard St.\, Austin\, TX\, 78702\, United States
CATEGORIES:Artworks,Classes
ATTACH;FMTTYPE=image/jpeg:https://www.artsparktx.org/wp-content/uploads/People-in-a-drum-circle-Susan-Slattery.jpg
ORGANIZER;CN="April Sullivan":MAILTO:april@artsparktx.org
END:VEVENT
BEGIN:VEVENT
DTSTART;TZID=America/Chicago:20220925T130000
DTEND;TZID=America/Chicago:20220925T160000
DTSTAMP:20260419T073636
CREATED:20220223T171703Z
LAST-MODIFIED:20220921T232433Z
UID:10001796-1664110800-1664121600@www.artsparktx.org
SUMMARY:Makers Meet-up
DESCRIPTION:Rock the Vote at our Monthly Makers Meet-Up! Join us to paint Voting Rocks – Bring your creative ideas to paint the 3-4″ rocks we will have on-hand. The idea is to paint voting reminders and positive messages\, then take your rocks with you to leave them around town for others to see. If you want BIGGER rocks just BYOR (Bring Your Own Rocks)! It’s free to participate and there will be snacks! Participants have the option to join either virtually or in-person. Use this link  to participate virtually.
URL:https://www.artsparktx.org/event/makers-meet-up-2022-09-25/
LOCATION:Art Spark Texas\, 1152 San Bernard St.\, Austin\, TX\, 78702\, United States
CATEGORIES:Artworks,Classes,Community Events,Virtual Classes
ATTACH;FMTTYPE=image/png:https://www.artsparktx.org/wp-content/uploads/Makers-Meet-up-Susan-Slattery.png
ORGANIZER;CN="Susan Slattery":MAILTO:susan@artsparktx.org
END:VEVENT
END:VCALENDAR