BEGIN:VCALENDAR
VERSION:2.0
PRODID:-//Art Spark Texas - ECPv6.15.20//NONSGML v1.0//EN
CALSCALE:GREGORIAN
METHOD:PUBLISH
X-WR-CALNAME:Art Spark Texas
X-ORIGINAL-URL:https://www.artsparktx.org
X-WR-CALDESC:Events for Art Spark Texas
REFRESH-INTERVAL;VALUE=DURATION:PT1H
X-Robots-Tag:noindex
X-PUBLISHED-TTL:PT1H
BEGIN:VTIMEZONE
TZID:America/Chicago
BEGIN:DAYLIGHT
TZOFFSETFROM:-0600
TZOFFSETTO:-0500
TZNAME:CDT
DTSTART:20170312T080000
END:DAYLIGHT
BEGIN:STANDARD
TZOFFSETFROM:-0500
TZOFFSETTO:-0600
TZNAME:CST
DTSTART:20171105T070000
END:STANDARD
BEGIN:DAYLIGHT
TZOFFSETFROM:-0600
TZOFFSETTO:-0500
TZNAME:CDT
DTSTART:20180311T080000
END:DAYLIGHT
BEGIN:STANDARD
TZOFFSETFROM:-0500
TZOFFSETTO:-0600
TZNAME:CST
DTSTART:20181104T070000
END:STANDARD
BEGIN:DAYLIGHT
TZOFFSETFROM:-0600
TZOFFSETTO:-0500
TZNAME:CDT
DTSTART:20190310T080000
END:DAYLIGHT
BEGIN:STANDARD
TZOFFSETFROM:-0500
TZOFFSETTO:-0600
TZNAME:CST
DTSTART:20191103T070000
END:STANDARD
END:VTIMEZONE
BEGIN:VEVENT
DTSTART;TZID=America/Chicago:20181128T193000
DTEND;TZID=America/Chicago:20181128T223000
DTSTAMP:20260423T211838
CREATED:20181102T215145Z
LAST-MODIFIED:20181128T200826Z
UID:10001186-1543433400-1543444200@www.artsparktx.org
SUMMARY:Audio Described Performance of “Christmas Carol”
DESCRIPTION:Visit ZACH Theatre online or call 512-476-0541 to purchase tickets and request audio description.
URL:https://www.artsparktx.org/event/audio-described-performance-of-christmas-carol/
LOCATION:The Topfer at ZACH Theatre\, 202 South Lamar Blvd.\, Austin\, TX\, 78704\, United States
CATEGORIES:Audio Described Performances
ATTACH;FMTTYPE=image/jpeg:https://www.artsparktx.org/wp-content/uploads/ADlogo-1.jpg
END:VEVENT
BEGIN:VEVENT
DTSTART;TZID=America/Chicago:20181129T200000
DTEND;TZID=America/Chicago:20181129T230000
DTSTAMP:20260423T211838
CREATED:20181102T215310Z
LAST-MODIFIED:20181128T201206Z
UID:10001187-1543521600-1543532400@www.artsparktx.org
SUMMARY:Audio Described Performance of “Love Never Dies”
DESCRIPTION:Email Texas Performing Arts Center or call 512-471-1444 to request audio description. Pick up your headset at the customer service desk on the night of the performance.
URL:https://www.artsparktx.org/event/audio-described-performance-of-love-never-dies/
LOCATION:Bass Concert Hall\, 2350 Robert Dedman Drive\, Austin\, TX\, 78712\, United States
CATEGORIES:Audio Described Performances
ATTACH;FMTTYPE=image/jpeg:https://www.artsparktx.org/wp-content/uploads/ADlogo-1.jpg
END:VEVENT
END:VCALENDAR