BEGIN:VCALENDAR
VERSION:2.0
PRODID:-//Art Spark Texas - ECPv6.15.20//NONSGML v1.0//EN
CALSCALE:GREGORIAN
METHOD:PUBLISH
X-ORIGINAL-URL:https://www.artsparktx.org
X-WR-CALDESC:Events for Art Spark Texas
REFRESH-INTERVAL;VALUE=DURATION:PT1H
X-Robots-Tag:noindex
X-PUBLISHED-TTL:PT1H
BEGIN:VTIMEZONE
TZID:America/Chicago
BEGIN:DAYLIGHT
TZOFFSETFROM:-0600
TZOFFSETTO:-0500
TZNAME:CDT
DTSTART:20190310T080000
END:DAYLIGHT
BEGIN:STANDARD
TZOFFSETFROM:-0500
TZOFFSETTO:-0600
TZNAME:CST
DTSTART:20191103T070000
END:STANDARD
BEGIN:DAYLIGHT
TZOFFSETFROM:-0600
TZOFFSETTO:-0500
TZNAME:CDT
DTSTART:20200308T080000
END:DAYLIGHT
BEGIN:STANDARD
TZOFFSETFROM:-0500
TZOFFSETTO:-0600
TZNAME:CST
DTSTART:20201101T070000
END:STANDARD
BEGIN:DAYLIGHT
TZOFFSETFROM:-0600
TZOFFSETTO:-0500
TZNAME:CDT
DTSTART:20210314T080000
END:DAYLIGHT
BEGIN:STANDARD
TZOFFSETFROM:-0500
TZOFFSETTO:-0600
TZNAME:CST
DTSTART:20211107T070000
END:STANDARD
END:VTIMEZONE
BEGIN:VEVENT
DTSTART;TZID=America/Chicago:20200205T193000
DTEND;TZID=America/Chicago:20200205T220000
DTSTAMP:20260422T202343
CREATED:20200131T214407Z
LAST-MODIFIED:20200203T214507Z
UID:10001358-1580931000-1580940000@www.artsparktx.org
SUMMARY:Audio Described Performance: A Night with Janis Joplin
DESCRIPTION:A Night with Janis Joplin\nThe Topfer at ZACH Theatre\nCreated\, Written and Directed by Randy Johnson\nStarring Mary Bridget Davies \nAudio Described performance: February 5\, 2020 \nThe legendary queen of rock-n-roll\, Janis Joplin\, explodesonto the stage in a concert experience that celebrates the Texas musical marvel\, and shines a spotlight on the trailblazing female blues and soul vocalists who influenced her. A Night with Janis Joplin is packed with enduring hits like “Me and Bobby McGee\,” “Mercedes Benz\,” and “Summertime\,” plus hit songs by icons Aretha Franklin\, Nina Simone\, Etta James\, and more. It’s sure to take a little piece of your heart! \nAge recommendation: 17 and up for strong language\, political commentary\, and adult themes\nStrobe lighting effects will be used during this performance. Some stage lighting aims toward audience at certain moments of the show.\nRun time: Two hours and 20 minutes \nVisit ZACH Theatre online or call 512-476-0541 to purchase tickets and request audio description.
URL:https://www.artsparktx.org/event/audio-described-performance-a-night-with-janis-joplin/
LOCATION:The Topfer at ZACH Theatre\, 202 South Lamar Blvd.\, Austin\, TX\, 78704\, United States
CATEGORIES:Audio Described Performances
END:VEVENT
BEGIN:VEVENT
DTSTART;TZID=America/Chicago:20200215T193000
DTEND;TZID=America/Chicago:20200215T193000
DTSTAMP:20260422T202343
CREATED:20200205T172744Z
LAST-MODIFIED:20200205T172744Z
UID:10001149-1581795000-1581795000@www.artsparktx.org
SUMMARY:Audio Described Performance: AXIS Dance Company
DESCRIPTION:AXIS Dance Company\nWith Works by Jennifer Archibald\, Marc Brew & Robert Dekkers Presented in partnership with Art Spark Texas and KUT-FM \nFebruary 15\, 2020 @ 7:30pm\nPrepare to leave all your preconceptions at the door! \nAXIS Dance Company\, one of the world’s most acclaimed and innovative ensembles of performers with and without disabilities\, will change the way you think about dance and the possibilities of the human body forever. Founded in 1987 and based in Oakland\, California\, AXIS has become a jewel of contemporary dance and disability culture. AXIS has paved the way for a powerful contemporary dance form—physically integrated dance—performing in over 100 cities in the US\, Israel\, UK\, Europe\, and Russia. \nFor their Austin debut\, AXIS brings three short performances to Bass Concert Hall: \n\nPetrichor– the smell of earth after rain by Jennifer Archibald. This program\, offers snapshots of intimate connections and pushes the dancers of AXIS to face how gratitude makes sense of our past\, brings peace for today\, and creates a vision for tomorrow.\nFlutter by Robert Dekker. A trio of dancers explore the balance between structure and freedom\, between holding on and letting go\, and between individuality and interconnectedness.\nRadical Impact by Marc Brew. Performers explore what it means to be human through music and movement\, investigating themes around identity. The work draws on each dancer’s unique experiences and how they identify in the world and connect with others – telling their stories through the medium of dance.\n\nPost-Perfomance Talk: Immediately following the performance
URL:https://www.artsparktx.org/event/audio-described-performance-axis-dance-company/
LOCATION:Bass Concert Hall\, 2350 Robert Dedman Drive\, Austin\, TX\, 78712\, United States
CATEGORIES:Audio Described Performances
ATTACH;FMTTYPE=image/jpeg:https://www.artsparktx.org/wp-content/uploads/axisdancecompany_event_hero_1060x563.jpg
END:VEVENT
BEGIN:VEVENT
DTSTART;TZID=America/Chicago:20200220T193000
DTEND;TZID=America/Chicago:20200220T210000
DTSTAMP:20260422T202343
CREATED:20200205T182851Z
LAST-MODIFIED:20200205T182851Z
UID:10001162-1582227000-1582232400@www.artsparktx.org
SUMMARY:Audio Described Performance: Game Night
DESCRIPTION:Game Night with TILT\nIt’s all fun and games as TILT takes over East Austin this February! \nJoin us as we kick off TILT’s sixth season with 75 minutes of nonstop tales & tournaments\, sports & stories\, and puzzles & play! Whether you prefer to sit back and relax or join in on the fun throughout this interactive performance\, you’ll never think of playing games in quite the same way again. \nThursday night\, February 20 will be:\nAudio-described\nASL Interpreted\nSensory Friendly \nPurchase tickets online
URL:https://www.artsparktx.org/event/audio-described-performance-game-night/
LOCATION:TILT at Imagine Art\, 2830 Real St\, Austin\, Texas\, 78722
CATEGORIES:Audio Described Performances
END:VEVENT
BEGIN:VEVENT
DTSTART;TZID=America/Chicago:20200220T200000
DTEND;TZID=America/Chicago:20200220T200000
DTSTAMP:20260422T202343
CREATED:20200205T170435Z
LAST-MODIFIED:20200205T190922Z
UID:10001147-1582228800-1582228800@www.artsparktx.org
SUMMARY:Audio Described Performance: Come From Away
DESCRIPTION:Come From Away – A New Musical\nFebruary 20 @ 8pm \n“Broadway’s COME FROM AWAY is a Best Musical winner all across North America! \nThis New York Times Critics’ Pick takes you into the heart of the remarkable true story of 7\,000 stranded passengers and the small town in Newfoundland that welcomed them. Cultures clashed and nerves ran high\, but uneasiness turned into trust\, music soared into the night\, and gratitude grew into enduring friendships. \nDon’t miss this breathtaking new musical written by Tony® nominees Irene Sankoff and David Hein\, and helmed by this year’s Tony-winning Best Director\, Christopher Ashley. Newsweek cheers\, “you take to a place you never want to leave!” \nOn 9/11\, the world stopped. \nOn 9/12\, their stories moved us all.” \nAccessibility Information: https://texasperformingarts.org/visit/accessibility \nEvent and Parking Information:\nhttps://texasperformingarts.org/season/come-from-away-broadway-austin-2020 \nTicket Office:\nemail: tickets@texasperformingarts.org or call: 512.471.1444\nTuesday–Friday: 10 am–5 pm
URL:https://www.artsparktx.org/event/audio-described-performance-come-from-away/
LOCATION:Bass Concert Hall\, 2350 Robert Dedman Drive\, Austin\, TX\, 78712\, United States
CATEGORIES:Audio Described Performances
ATTACH;FMTTYPE=image/png:https://www.artsparktx.org/wp-content/uploads/comefromaway_event_hero_1060x563.png
END:VEVENT
END:VCALENDAR