BEGIN:VCALENDAR
VERSION:2.0
PRODID:-//Art Spark Texas - ECPv6.15.20//NONSGML v1.0//EN
CALSCALE:GREGORIAN
METHOD:PUBLISH
X-WR-CALNAME:Art Spark Texas
X-ORIGINAL-URL:https://www.artsparktx.org
X-WR-CALDESC:Events for Art Spark Texas
REFRESH-INTERVAL;VALUE=DURATION:PT1H
X-Robots-Tag:noindex
X-PUBLISHED-TTL:PT1H
BEGIN:VTIMEZONE
TZID:America/Chicago
BEGIN:DAYLIGHT
TZOFFSETFROM:-0600
TZOFFSETTO:-0500
TZNAME:CDT
DTSTART:20190310T080000
END:DAYLIGHT
BEGIN:STANDARD
TZOFFSETFROM:-0500
TZOFFSETTO:-0600
TZNAME:CST
DTSTART:20191103T070000
END:STANDARD
BEGIN:DAYLIGHT
TZOFFSETFROM:-0600
TZOFFSETTO:-0500
TZNAME:CDT
DTSTART:20200308T080000
END:DAYLIGHT
BEGIN:STANDARD
TZOFFSETFROM:-0500
TZOFFSETTO:-0600
TZNAME:CST
DTSTART:20201101T070000
END:STANDARD
BEGIN:DAYLIGHT
TZOFFSETFROM:-0600
TZOFFSETTO:-0500
TZNAME:CDT
DTSTART:20210314T080000
END:DAYLIGHT
BEGIN:STANDARD
TZOFFSETFROM:-0500
TZOFFSETTO:-0600
TZNAME:CST
DTSTART:20211107T070000
END:STANDARD
END:VTIMEZONE
BEGIN:VEVENT
DTSTART;TZID=America/Chicago:20200507T200000
DTEND;TZID=America/Chicago:20200507T200000
DTSTAMP:20260422T150525
CREATED:20200205T180631Z
LAST-MODIFIED:20200306T043122Z
UID:10001159-1588881600-1588881600@www.artsparktx.org
SUMMARY:Audio Described Performance: A Bronx Tale
DESCRIPTION:A Bronx Tale\nMay 7\, 2020 @ 8pm \n“Three years ago\, Academy Award nominee Chazz Palminteri teamed up with Academy Award® winner Robert De Niro\, Tony® Award winner Jerry Zaks and Tony® Award nominee Sergio Trujillo to create this streetwise musical-based on Palminteri’s true life story. \nA BRONX TALE\, Broadway’s hit crowd-pleaser\, takes you to the stoops of the Bronx in the 1960s\, where a young man is caught between the father he loves and the mob boss he’d love to be. \nBursting with high-energy dance numbers and original doo-wop tunes from Academy Award® and Tony® Award-winner Alan Menken (Beauty and the Beast) and Tony® Award-nominee Glenn Slater (Love Never Dies)\, A BRONX TALE is an unforgettable story of loyalty and family.” \nAccessibility Information: https://texasperformingarts.org/visit/accessibility \nEvent and Parking Information:\nhttps://texasperformingarts.org/season/a-bronx-tale-broadway-austin-2020 \nTicket Office:\nemail: tickets@texasperformingarts.org or call: 512.471.1444\nTuesday–Friday: 10 am–5 pm
URL:https://www.artsparktx.org/event/audio-described-performance-a-bronx-tale/
LOCATION:Bass Concert Hall\, 2350 Robert Dedman Drive\, Austin\, TX\, 78712\, United States
CATEGORIES:Audio Described Performances
ATTACH;FMTTYPE=image/png:https://www.artsparktx.org/wp-content/uploads/abronxtale_event_hero_1060x563.png
END:VEVENT
BEGIN:VEVENT
DTSTART;TZID=America/Chicago:20200531T140000
DTEND;TZID=America/Chicago:20200531T170000
DTSTAMP:20260422T150525
CREATED:20200205T184255Z
LAST-MODIFIED:20200527T224035Z
UID:10001169-1590933600-1590944400@www.artsparktx.org
SUMMARY:(canceled) Audio Described Performance: Charlie and the Chocolate Factory
DESCRIPTION:Charlie and the Chocolate Factory\n(canceled) May 31\, 2020 @ 2pm – Majestic Empire – San Antonio\, TX \nShow Description: “Roald Dahl’s amazing tale CHARLIE AND THE CHOCOLATE FACTORY is now the Alamo City’s golden ticket! It’s the perfect recipe for a delectable treat: songs from the original film\, including “Pure Imagination\,” “The Candy Man\,” and “I’ve Got a Golden Ticket\,” alongside a toe-tapping and ear-tickling new score from the songwriters of Hairspray. \nWilly Wonka is opening his marvelous and mysterious chocolate factory…to a lucky few. That includes Charlie Bucket\, whose bland life is about to burst with color and confection beyond his wildest dreams. He and four other golden ticket winners will embark on a mesmerizing joyride through a world of pure imagination. Now’s your chance to experience the wonders of Wonka like never before – get ready for Oompa-Loompas\, incredible inventions\, the great glass elevator\, and more\, more\, more at this everlasting showstopper!” \nEvent Information: https://www.majesticempire.com/shows/charlieandthechocolatefactory2020 \nParking Information: https://www.majesticempire.com/info/parking-directions
URL:https://www.artsparktx.org/event/audio-described-performance-charlie-and-the-chocolate-factory/
LOCATION:Majestic Theatre\, 224 E. Houston Street\, San Antonio\, TX\, 78205\, United States
CATEGORIES:Audio Described Performances
ATTACH;FMTTYPE=image/png:https://www.artsparktx.org/wp-content/uploads/catcf-602x206-1.png
END:VEVENT
END:VCALENDAR