BEGIN:VCALENDAR
VERSION:2.0
PRODID:-//Art Spark Texas - ECPv6.15.20//NONSGML v1.0//EN
CALSCALE:GREGORIAN
METHOD:PUBLISH
X-WR-CALNAME:Art Spark Texas
X-ORIGINAL-URL:https://www.artsparktx.org
X-WR-CALDESC:Events for Art Spark Texas
REFRESH-INTERVAL;VALUE=DURATION:PT1H
X-Robots-Tag:noindex
X-PUBLISHED-TTL:PT1H
BEGIN:VTIMEZONE
TZID:America/Chicago
BEGIN:DAYLIGHT
TZOFFSETFROM:-0600
TZOFFSETTO:-0500
TZNAME:CDT
DTSTART:20190310T080000
END:DAYLIGHT
BEGIN:STANDARD
TZOFFSETFROM:-0500
TZOFFSETTO:-0600
TZNAME:CST
DTSTART:20191103T070000
END:STANDARD
BEGIN:DAYLIGHT
TZOFFSETFROM:-0600
TZOFFSETTO:-0500
TZNAME:CDT
DTSTART:20200308T080000
END:DAYLIGHT
BEGIN:STANDARD
TZOFFSETFROM:-0500
TZOFFSETTO:-0600
TZNAME:CST
DTSTART:20201101T070000
END:STANDARD
BEGIN:DAYLIGHT
TZOFFSETFROM:-0600
TZOFFSETTO:-0500
TZNAME:CDT
DTSTART:20210314T080000
END:DAYLIGHT
BEGIN:STANDARD
TZOFFSETFROM:-0500
TZOFFSETTO:-0600
TZNAME:CST
DTSTART:20211107T070000
END:STANDARD
END:VTIMEZONE
BEGIN:VEVENT
DTSTART;TZID=America/Chicago:20201014T090000
DTEND;TZID=America/Chicago:20201014T110000
DTSTAMP:20260422T060018
CREATED:20200928T194158Z
LAST-MODIFIED:20200928T194158Z
UID:10001219-1602666000-1602673200@www.artsparktx.org
SUMMARY:White Cane Day
DESCRIPTION:Art Spark Texas is providing AD services during this virtual event. \nThe President of the United States annually recognizes White Cane Day by the Blind Americans Equality Day Proclamation on October 15th to acknowledge the abilities of people who are blind and to promote equal opportunities as any other American. \nThe mission of White Cane Day is to educate the world about blindness and how the blind and visually impaired can live and work independently while giving back to their communities\, to celebrate the abilities and successes achieved by blind people in a sighted world and to honor the many contributions being made by the blind and visually impaired. \nEach year the Austin community comes together for an event to celebrate this exciting day. Although due to the Covid19 situation\, the event will be virtual\, it promises to be bigger and better than ever\, so tell your friends and come have some fun! \nOctober 14\, 2020 – 9:00 am CST \nClick here to join via live stream on Granicus  \nListen to the live Audio Description by calling (571) 317-3112\nAccess Code: 262-332-365 \nFor more information:\nTexas Workforce Commission\, whitecaneday@twc.state.tx.us\nwww.whitecaneday.org
URL:https://www.artsparktx.org/event/white-cane-day/
LOCATION:Texas Workforce Commision\, United States
CATEGORIES:Audio Described Performances
ATTACH;FMTTYPE=image/png:https://www.artsparktx.org/wp-content/uploads/computer-front-wht-768x560-1.png
END:VEVENT
END:VCALENDAR