BEGIN:VCALENDAR
VERSION:2.0
PRODID:-//Art Spark Texas - ECPv6.15.20//NONSGML v1.0//EN
CALSCALE:GREGORIAN
METHOD:PUBLISH
X-ORIGINAL-URL:https://www.artsparktx.org
X-WR-CALDESC:Events for Art Spark Texas
REFRESH-INTERVAL;VALUE=DURATION:PT1H
X-Robots-Tag:noindex
X-PUBLISHED-TTL:PT1H
BEGIN:VTIMEZONE
TZID:America/Chicago
BEGIN:DAYLIGHT
TZOFFSETFROM:-0600
TZOFFSETTO:-0500
TZNAME:CDT
DTSTART:20180311T080000
END:DAYLIGHT
BEGIN:STANDARD
TZOFFSETFROM:-0500
TZOFFSETTO:-0600
TZNAME:CST
DTSTART:20181104T070000
END:STANDARD
BEGIN:DAYLIGHT
TZOFFSETFROM:-0600
TZOFFSETTO:-0500
TZNAME:CDT
DTSTART:20190310T080000
END:DAYLIGHT
BEGIN:STANDARD
TZOFFSETFROM:-0500
TZOFFSETTO:-0600
TZNAME:CST
DTSTART:20191103T070000
END:STANDARD
BEGIN:DAYLIGHT
TZOFFSETFROM:-0600
TZOFFSETTO:-0500
TZNAME:CDT
DTSTART:20200308T080000
END:DAYLIGHT
BEGIN:STANDARD
TZOFFSETFROM:-0500
TZOFFSETTO:-0600
TZNAME:CST
DTSTART:20201101T070000
END:STANDARD
END:VTIMEZONE
BEGIN:VEVENT
DTSTART;TZID=America/Chicago:20190209T143000
DTEND;TZID=America/Chicago:20190209T163000
DTSTAMP:20260423T034312
CREATED:20190201T231646Z
LAST-MODIFIED:20190206T205444Z
UID:10001209-1549722600-1549729800@www.artsparktx.org
SUMMARY:Body Shift Elements Class
DESCRIPTION:The Elements class takes place every 2nd and 4th Saturday of the month from 2:30-4:30pm at the Town Lake YMCA in the large group exercise room on the first floor. \n(Note: Only one class in February!) \nClass will be taught by Lauren Tietz. \n//Body as Archive// \nPlease join us for the next Body Shift Elements class where we will dive into fundamentals of Lisa Nelson’s Tuning Scores while we also explore our body as personal archive. As an artist I have been exploring questions about identity\, lineage\, and the ancestors. For this class we will work with solo and group tuning as well as take some time to remember (through movement) what has influenced us\, shaped us\, in palpable and invisible ways. Depending on the group’s interests and the timing of class\, this might involve some writing/speaking in addition to witnessing and reflecting movement created. \n  \nLauren Tietz has been working in various settings from forests in Santa Fe\, New Mexico to the Rio Grande of Big Bend Texas to the caves of Cappadoccia\, Turkey to map and locate the human body in the larger natural world. As a dance artist and filmmaker she has collaborated with many different artists and groups across disciplines along her path. \nInfluenced by the phenomena of the senses\, reflexes\, and myriad survival methods humans employ in response to danger\, safety\, pleasure\, and poetics she sees the body as personal and cultural archive. From this intimate perspective Lauren is curious about how our relationship to our own body might be a window to perceive our larger relationship to the body of the earth. What is heard\, hidden\, forgotten\, saved\, remembered? \nLauren’s collaborations with other artists span from 2001 to today. She is a teacher\, dancer\, experimental filmmaker\, and interdisciplinary artist. She was the founder of the Improvisation Movement Project (IMP) that worked as a collective devising and performing new dance works beginning in 2004. \nIn 2011 she completed her MFA at Transart Institute. Her dance films have been screened at: On The Wall: Berlin Dance on Film Series/ Non Fiction (2010)\, The Not Festival: Curated by Luis Lara Malvacias\, NY (2011) and The 5th International Video Art Festival\, Cuba (2013 – SSFS)\, Big Medium (2015) EAST Austin Studio Tour (2016)\, Blackbox gallery (2017)\, Experimental response Cinema Local Filmmakers Showcase (2017)\, Austin Dance Festival (2018). \nIn addition to teaching classes\, workshops\, and retreats Lauren also has a private practice in biodynamic craniosacral therapy (EarthSkyBodyworks). She works with a diverse group of clients and offers support in rebalancing and healing from various life events and stressful experiences. She appreciates the connections between these two sides of her life: the creative energy utilized to devise new artworks and the creative energy utilized to help people to heal personal and cultural wounds. \n  \nElements is an on-going class in which we study dance and movement improvisation as well as somatics. DanceAbility is our foundational method with which we work to ensure inclusion. It is an equal collaboration and learning environment for every ‘body’ regardless of unique physical or mental characteristics. No gym membership is required to attend. Open to adults age 18 and up; all abilities and experience levels. No registration necessary. Fee for class is on a sliding scale from $5-$20\, cash or check accepted. See you at the Y! \nFor more information email Olivia O’Hare or call 512-454-9912.
URL:https://www.artsparktx.org/event/body-shift-elements-class-4/
LOCATION:Town Lake YMCA\, 1100 W. Cesar Chavez Street\, Austin\, TX\, 78703\, United States
CATEGORIES:Body Shift
ATTACH;FMTTYPE=image/jpeg:https://www.artsparktx.org/wp-content/uploads/FebruaryElements.jpg
ORGANIZER;CN="Olivia O'Hare":MAILTO:olivia@bodyshift.org
END:VEVENT
END:VCALENDAR