BEGIN:VCALENDAR
VERSION:2.0
PRODID:-//Art Spark Texas - ECPv6.15.20//NONSGML v1.0//EN
CALSCALE:GREGORIAN
METHOD:PUBLISH
X-WR-CALNAME:Art Spark Texas
X-ORIGINAL-URL:https://www.artsparktx.org
X-WR-CALDESC:Events for Art Spark Texas
REFRESH-INTERVAL;VALUE=DURATION:PT1H
X-Robots-Tag:noindex
X-PUBLISHED-TTL:PT1H
BEGIN:VTIMEZONE
TZID:America/Chicago
BEGIN:DAYLIGHT
TZOFFSETFROM:-0600
TZOFFSETTO:-0500
TZNAME:CDT
DTSTART:20180311T080000
END:DAYLIGHT
BEGIN:STANDARD
TZOFFSETFROM:-0500
TZOFFSETTO:-0600
TZNAME:CST
DTSTART:20181104T070000
END:STANDARD
BEGIN:DAYLIGHT
TZOFFSETFROM:-0600
TZOFFSETTO:-0500
TZNAME:CDT
DTSTART:20190310T080000
END:DAYLIGHT
BEGIN:STANDARD
TZOFFSETFROM:-0500
TZOFFSETTO:-0600
TZNAME:CST
DTSTART:20191103T070000
END:STANDARD
BEGIN:DAYLIGHT
TZOFFSETFROM:-0600
TZOFFSETTO:-0500
TZNAME:CDT
DTSTART:20200308T080000
END:DAYLIGHT
BEGIN:STANDARD
TZOFFSETFROM:-0500
TZOFFSETTO:-0600
TZNAME:CST
DTSTART:20201101T070000
END:STANDARD
END:VTIMEZONE
BEGIN:VEVENT
DTSTART;TZID=America/Chicago:20190511T143000
DTEND;TZID=America/Chicago:20190511T163000
DTSTAMP:20260422T222849
CREATED:20190316T014856Z
LAST-MODIFIED:20190508T163231Z
UID:10001243-1557585000-1557592200@www.artsparktx.org
SUMMARY:Body Shift Elements Class
DESCRIPTION:The Elements class takes place every 2nd and 4th Saturday of the month from 2:30-4:30pm at the Town Lake YMCA in the large group exercise room on the first floor. \nClass will be taught by Tanya Winters and Susie Angel. \nElements is an on-going class in which we study dance and movement improvisation as well as somatics. DanceAbility is our foundational method with which we work to ensure inclusion. It is an equal collaboration and learning environment for every ‘body’ regardless of unique physical or mental characteristics. No gym membership is required to attend. Open to adults age 18 and up; all abilities and experience levels. No registration necessary. Fee for class is on a sliding scale from $5-$20\, cash or check accepted. See you at the Y! \nNEW! You can now pay class fees online here. \nFor more information email Olivia O’Hare or call 512-454-9912.
URL:https://www.artsparktx.org/event/body-shift-elements-class-8/
LOCATION:Town Lake YMCA\, 1100 W. Cesar Chavez Street\, Austin\, TX\, 78703\, United States
CATEGORIES:Body Shift
ATTACH;FMTTYPE=image/jpeg:https://www.artsparktx.org/wp-content/uploads/Tanya-and-Susie.jpg
ORGANIZER;CN="Olivia O'Hare":MAILTO:olivia@bodyshift.org
END:VEVENT
BEGIN:VEVENT
DTSTART;TZID=America/Chicago:20190520T190000
DTEND;TZID=America/Chicago:20190520T203000
DTSTAMP:20260422T222849
CREATED:20190316T013334Z
LAST-MODIFIED:20190508T184620Z
UID:10001051-1558378800-1558384200@www.artsparktx.org
SUMMARY:Body Shift Foundations Class
DESCRIPTION:Do you want to get your body moving\, but don’t know where to begin? Are you intimidated by typical dance classes because you feel like you don’t fit in? Body Shift has a solution to bring out the dancer in us all! We offer you Foundations – an improvisational dance class for ALL people – especially designed to be accessible to those with little to no dance/movement experience. \nEach class we will explore ideas like developing body awareness\, non-verbal communication\, understanding of time/rhythm and choice making to support students in the discovery of their own movement language. Students will have the opportunity to awaken their creativity\, notice habitual movement patterns in order to expand movement possibilities\, and have a lot of fun in the process. We will learn how to allow our bodies to breath and move in ways that feel good to each person in the room without judgement. \nPeople of all unique mental and physical characteristics are invited to participate. Our goal is to offer a class where there are no wrong choices so everyone in the room feels empowered and successful to come and be as they are. Material in this class will be strongly based on the DanceAbility method\, an approach to dance for people with and without disabilities. No movement experience necessary to join. Drop in occasionally or join us every month; open ended attendance. \nThe Foundations class takes place at McBeth Recreation Center (2401 Columbus Dr\, Austin\, TX 78746) every 3rd Monday of the month from 7:00-8:30pm. Sliding scale/donation based – $5-$20. Adults age 18 and up. \nNEW! You can now pay class fees online here. \nFor more information email Olivia O’Hare or call 512-454-9912.
URL:https://www.artsparktx.org/event/body-shift-foundations-class-3/
LOCATION:McBeth Recreation Center\, 2401 Columbus Dr.\, Austin\, TX\, 78746\, United States
CATEGORIES:Body Shift
ATTACH;FMTTYPE=image/jpeg:https://www.artsparktx.org/wp-content/uploads/Foundations2.jpg
ORGANIZER;CN="Olivia O'Hare":MAILTO:olivia@bodyshift.org
END:VEVENT
BEGIN:VEVENT
DTSTART;TZID=America/Chicago:20190525T150000
DTEND;TZID=America/Chicago:20190525T173000
DTSTAMP:20260422T222849
CREATED:20190508T191115Z
LAST-MODIFIED:20190508T191115Z
UID:10001063-1558796400-1558805400@www.artsparktx.org
SUMMARY:Body Shift at The Contemporary Austin
DESCRIPTION:As part of Abraham Cruzvillegas’s current exhibit of sculptural objects at The Contemporary Austin\, he has generously invited a number of artists to “activate” the installation. We’re excited to announce that Body Shift has been asked to bring work into the gallery and participate with this community of artists. Our offering will take place on Saturday\, May 25th and will be in two parts – a performance and a workshop both in the same day at 700 Congress Ave. More info here. \n– 3pm performance – Brandon Gonzalez and Lauren Tietz direct an improvised ensemble performance that responds to Cruzvillegas’s installation as well as celebrates the spirit of Body Shift. The “activation” brings together a diverse group of people in rehearsal and performance to investigate attention\, attunement\, and affection. In a world that is often harsh\, numb\, and isolating\, an ethics of care encourages relational practices of embodied presence. What does it mean to be present to one’s own experience while being present with that of another? How do we hold more than one perspective? Performers explore their relations through the moment-to-moment actions of movement and touch. Can we arrive together as a multiplicity of bodies (and objects) as a way of rejuvenating\, as well as receiving and giving support? \n– 4:30pm workshop – Following the performance\, Olivia O’Hare and Veronica DeWitt will facilitate a participatory workshop open to the public. We will use exercises from the DanceAbility method of improvisational dance to offer a direct experience of dance as a way to explore the theme of care as well as respond to Cruzvillegas’s idea of autoconstruccion – to make something out of nothing – in relationship to identity – how can we know who we are until we allow the time to attend to our own sensations and then see or sense ourselves in relationship to other people around us and our environment? How can we create our own autoconstruccion with the material of our bodies\, our experience\, and the space that Cruzvillegas has created? \nWe encourage you to stay for both events! You are invited to participate in or observe the workshop. If you plan to participate\, please wear clothes you can comfortably move and stretch in (no skirts or large jewelry). There will be refreshments available on the roof deck during the break from 4-4:30pm. The museum is fully accessible.
URL:https://www.artsparktx.org/event/body-shift-at-the-contemporary-austin/
LOCATION:The Contemporary Austin\, 700 Congress Ave.\, Austin\, TX\, 78701\, United States
CATEGORIES:Body Shift
ATTACH;FMTTYPE=image/jpeg:https://www.artsparktx.org/wp-content/uploads/005.jpg
ORGANIZER;CN="Olivia O'Hare":MAILTO:olivia@bodyshift.org
END:VEVENT
END:VCALENDAR