BEGIN:VCALENDAR
VERSION:2.0
PRODID:-//Art Spark Texas - ECPv6.15.20//NONSGML v1.0//EN
CALSCALE:GREGORIAN
METHOD:PUBLISH
X-WR-CALNAME:Art Spark Texas
X-ORIGINAL-URL:https://www.artsparktx.org
X-WR-CALDESC:Events for Art Spark Texas
REFRESH-INTERVAL;VALUE=DURATION:PT1H
X-Robots-Tag:noindex
X-PUBLISHED-TTL:PT1H
BEGIN:VTIMEZONE
TZID:America/Chicago
BEGIN:DAYLIGHT
TZOFFSETFROM:-0600
TZOFFSETTO:-0500
TZNAME:CDT
DTSTART:20180311T080000
END:DAYLIGHT
BEGIN:STANDARD
TZOFFSETFROM:-0500
TZOFFSETTO:-0600
TZNAME:CST
DTSTART:20181104T070000
END:STANDARD
BEGIN:DAYLIGHT
TZOFFSETFROM:-0600
TZOFFSETTO:-0500
TZNAME:CDT
DTSTART:20190310T080000
END:DAYLIGHT
BEGIN:STANDARD
TZOFFSETFROM:-0500
TZOFFSETTO:-0600
TZNAME:CST
DTSTART:20191103T070000
END:STANDARD
BEGIN:DAYLIGHT
TZOFFSETFROM:-0600
TZOFFSETTO:-0500
TZNAME:CDT
DTSTART:20200308T080000
END:DAYLIGHT
BEGIN:STANDARD
TZOFFSETFROM:-0500
TZOFFSETTO:-0600
TZNAME:CST
DTSTART:20201101T070000
END:STANDARD
END:VTIMEZONE
BEGIN:VEVENT
DTSTART;TZID=America/Chicago:20190810T143000
DTEND;TZID=America/Chicago:20190810T163000
DTSTAMP:20260422T173341
CREATED:20190709T231148Z
LAST-MODIFIED:20190805T193537Z
UID:10001291-1565447400-1565454600@www.artsparktx.org
SUMMARY:Body Shift Elements: Summer Dance Jam 1
DESCRIPTION:The Elements class takes place every 2nd and 4th Saturday of the month from 2:30-4:30pm at the Town Lake YMCA in the large group exercise room on the first floor. \nElements on August 10th will be a jam hosted by Juan Munoz. \nNot sure what a dance jam is? Read all about it on our blog: http://vsatx.blogspot.com/2017/03/body-shift-what-is-dance-jam.html \nElements is an on-going class in which we study dance and movement improvisation as well as somatics. DanceAbility is our foundational method with which we work to ensure inclusion. It is an equal collaboration and learning environment for every ‘body’ regardless of unique physical or mental characteristics. No gym membership is required to attend. Open to adults age 18 and up; all abilities and experience levels. No registration necessary. Fee for class is on a sliding scale from $5-$20\, cash or check accepted. You can pay the class fee online here. See you at the Y! \nFor more information email Olivia O’Hare or call 512-454-9912.
URL:https://www.artsparktx.org/event/body-shift-elements-class-11/
LOCATION:Town Lake YMCA\, 1100 W. Cesar Chavez Street\, Austin\, TX\, 78703\, United States
CATEGORIES:Body Shift
ATTACH;FMTTYPE=image/jpeg:https://www.artsparktx.org/wp-content/uploads/52995553_2588203711194668_22657502969593856_n.jpg
ORGANIZER;CN="Olivia O'Hare":MAILTO:olivia@bodyshift.org
END:VEVENT
BEGIN:VEVENT
DTSTART;TZID=America/Chicago:20190819T190000
DTEND;TZID=America/Chicago:20190819T203000
DTSTAMP:20260422T173341
CREATED:20190606T184625Z
LAST-MODIFIED:20190606T184625Z
UID:10001068-1566241200-1566246600@www.artsparktx.org
SUMMARY:Body Shift Foundations Class
DESCRIPTION:Do you want to get your body moving\, but don’t know where to begin? Are you intimidated by typical dance classes because you feel like you don’t fit in? Body Shift has a solution to bring out the dancer in us all! We offer you Foundations – an improvisational dance class for ALL people – especially designed to be accessible to those with little to no dance/movement experience. \nEach class we will explore ideas like developing body awareness\, non-verbal communication\, understanding of time/rhythm and choice making to support students in the discovery of their own movement language. Students will have the opportunity to awaken their creativity\, notice habitual movement patterns in order to expand movement possibilities\, and have a lot of fun in the process. We will learn how to allow our bodies to breath and move in ways that feel good to each person in the room without judgement. \nPeople of all unique mental and physical characteristics are invited to participate. Our goal is to offer a class where there are no wrong choices so everyone in the room feels empowered and successful to come and be as they are. Material in this class will be strongly based on the DanceAbility method\, an approach to dance for people with and without disabilities. No movement experience necessary to join. Drop in occasionally or join us every month; open ended attendance. \nThe Foundations class takes place at McBeth Recreation Center (2401 Columbus Dr\, Austin\, TX 78746) every 3rd Monday of the month from 7:00-8:30pm. Sliding scale/donation based – $5-$20. Adults age 18 and up. \nNEW! You can now pay class fees online here. \nFor more information email Olivia O’Hare or call 512-454-9912.
URL:https://www.artsparktx.org/event/body-shift-foundations-class-6/
LOCATION:McBeth Recreation Center\, 2401 Columbus Dr.\, Austin\, TX\, 78746\, United States
CATEGORIES:Body Shift
ATTACH;FMTTYPE=image/jpeg:https://www.artsparktx.org/wp-content/uploads/Foundations2.jpg
ORGANIZER;CN="Olivia O'Hare":MAILTO:olivia@bodyshift.org
END:VEVENT
BEGIN:VEVENT
DTSTART;TZID=America/Chicago:20190824T143000
DTEND;TZID=America/Chicago:20190824T163000
DTSTAMP:20260422T173341
CREATED:20190805T193838Z
LAST-MODIFIED:20190819T201748Z
UID:10001297-1566657000-1566664200@www.artsparktx.org
SUMMARY:Body Shift Elements: Summer Dance Jam 2
DESCRIPTION:The Elements class takes place every 2nd and 4th Saturday of the month from 2:30-4:30pm at the Town Lake YMCA in the large group exercise room on the first floor. \nElements on August 24th will be a jam hosted by Tanya Winters. \nNot sure what a dance jam is? Read all about it on our blog: http://vsatx.blogspot.com/2017/03/body-shift-what-is-dance-jam.html \nElements is an on-going class in which we study dance and movement improvisation as well as somatics. DanceAbility is our foundational method with which we work to ensure inclusion. It is an equal collaboration and learning environment for every ‘body’ regardless of unique physical or mental characteristics. No gym membership is required to attend. Open to adults age 18 and up; all abilities and experience levels. No registration necessary. Fee for class is on a sliding scale from $5-$20\, cash or check accepted. You can pay the class fee online here. See you at the Y! \nFor more information email Olivia O’Hare or call 512-454-9912.
URL:https://www.artsparktx.org/event/body-shift-elements-summer-dance-jam-2/
LOCATION:Town Lake YMCA\, 1100 W. Cesar Chavez Street\, Austin\, TX\, 78703\, United States
CATEGORIES:Body Shift
ATTACH;FMTTYPE=image/jpeg:https://www.artsparktx.org/wp-content/uploads/dancejam.jpg
ORGANIZER;CN="Olivia O'Hare":MAILTO:olivia@bodyshift.org
END:VEVENT
END:VCALENDAR