BEGIN:VCALENDAR
VERSION:2.0
PRODID:-//Art Spark Texas - ECPv6.15.20//NONSGML v1.0//EN
CALSCALE:GREGORIAN
METHOD:PUBLISH
X-ORIGINAL-URL:https://www.artsparktx.org
X-WR-CALDESC:Events for Art Spark Texas
REFRESH-INTERVAL;VALUE=DURATION:PT1H
X-Robots-Tag:noindex
X-PUBLISHED-TTL:PT1H
BEGIN:VTIMEZONE
TZID:America/Chicago
BEGIN:DAYLIGHT
TZOFFSETFROM:-0600
TZOFFSETTO:-0500
TZNAME:CDT
DTSTART:20190310T080000
END:DAYLIGHT
BEGIN:STANDARD
TZOFFSETFROM:-0500
TZOFFSETTO:-0600
TZNAME:CST
DTSTART:20191103T070000
END:STANDARD
BEGIN:DAYLIGHT
TZOFFSETFROM:-0600
TZOFFSETTO:-0500
TZNAME:CDT
DTSTART:20200308T080000
END:DAYLIGHT
BEGIN:STANDARD
TZOFFSETFROM:-0500
TZOFFSETTO:-0600
TZNAME:CST
DTSTART:20201101T070000
END:STANDARD
BEGIN:DAYLIGHT
TZOFFSETFROM:-0600
TZOFFSETTO:-0500
TZNAME:CDT
DTSTART:20210314T080000
END:DAYLIGHT
BEGIN:STANDARD
TZOFFSETFROM:-0500
TZOFFSETTO:-0600
TZNAME:CST
DTSTART:20211107T070000
END:STANDARD
END:VTIMEZONE
BEGIN:VEVENT
DTSTART;TZID=America/Chicago:20200221T110000
DTEND;TZID=America/Chicago:20200221T122000
DTSTAMP:20260422T071953
CREATED:20200205T215513Z
LAST-MODIFIED:20200205T215513Z
UID:10001179-1582282800-1582287600@www.artsparktx.org
SUMMARY:DanceAbility Method: Lecture Demonstration
DESCRIPTION:Lecture Demonstration:  “The DanceAbility Method: Creating a Social Model of Inclusivity Through the Language of Dance” \nOlivia O’Hare and the Body Shift Collective will present a lecture demonstration titled “The DanceAbility Method: Creating a Social Model of Inclusivity Through the Language of Dance” on February 21st from 11am-12:20pm (including Q & A) in the Recital Hall in the Performing Arts Center at Texas State University (405 Moon St\, San Marcos 78666). This event is free and open for public. \nThe language of the body\, preverbal\, is the oldest language. Olivia’s lecture will include a discussion of the power of improvisational dance for developing body awareness\, enhancing interpersonal relationships\, and creative expression for people of all abilities and backgrounds. The Body Shift Collective will demonstrate the principles of the DanceAbility method of inclusive dance to showcase how practicing structured improvisation can create instant choreography in the moment. There will be a brief Q & A with Olivia and the dancers after the presentation.
URL:https://www.artsparktx.org/event/danceability-method-lecture-demonstration/
LOCATION:Recital Hall in the Performing Arts Center at Texas State University\, 405 Moon St\, San Marcos\, Texas\, 78666
CATEGORIES:Body Shift
END:VEVENT
END:VCALENDAR