BEGIN:VCALENDAR
VERSION:2.0
PRODID:-//Art Spark Texas - ECPv6.15.20//NONSGML v1.0//EN
CALSCALE:GREGORIAN
METHOD:PUBLISH
X-WR-CALNAME:Art Spark Texas
X-ORIGINAL-URL:https://www.artsparktx.org
X-WR-CALDESC:Events for Art Spark Texas
REFRESH-INTERVAL;VALUE=DURATION:PT1H
X-Robots-Tag:noindex
X-PUBLISHED-TTL:PT1H
BEGIN:VTIMEZONE
TZID:America/Chicago
BEGIN:DAYLIGHT
TZOFFSETFROM:-0600
TZOFFSETTO:-0500
TZNAME:CDT
DTSTART:20190310T080000
END:DAYLIGHT
BEGIN:STANDARD
TZOFFSETFROM:-0500
TZOFFSETTO:-0600
TZNAME:CST
DTSTART:20191103T070000
END:STANDARD
BEGIN:DAYLIGHT
TZOFFSETFROM:-0600
TZOFFSETTO:-0500
TZNAME:CDT
DTSTART:20200308T080000
END:DAYLIGHT
BEGIN:STANDARD
TZOFFSETFROM:-0500
TZOFFSETTO:-0600
TZNAME:CST
DTSTART:20201101T070000
END:STANDARD
BEGIN:DAYLIGHT
TZOFFSETFROM:-0600
TZOFFSETTO:-0500
TZNAME:CDT
DTSTART:20210314T080000
END:DAYLIGHT
BEGIN:STANDARD
TZOFFSETFROM:-0500
TZOFFSETTO:-0600
TZNAME:CST
DTSTART:20211107T070000
END:STANDARD
END:VTIMEZONE
BEGIN:VEVENT
DTSTART;TZID=America/Chicago:20201203T190000
DTEND;TZID=America/Chicago:20201203T200000
DTSTAMP:20260421T142950
CREATED:20201123T213325Z
LAST-MODIFIED:20201202T212846Z
UID:10001505-1607022000-1607025600@www.artsparktx.org
SUMMARY:On Display Global 2020
DESCRIPTION:On Display Global is a social justice initiative performed annually in honor of the UN’s International Day of Persons with Disabilities on December 3. \nOn Display is a durational art exhibition and commentary on the body as spectacle. On Display turns a cast of diverse and extreme bodies into a sculpture court where the performers are the sculptures. \nThis year\, On Display is going virtual for 24hours. Art Spark Texas is honored to host one hour from 7-8pm CT. \nJoin us by emailing silva@artsparktx.org \nON DISPLAY GLOBAL 2020-DECEMBER 3RD. 24 HOURS. ONE LIVESTREAM.\nView here https://heidilatskydance.org/odg2020
URL:https://www.artsparktx.org/event/on-display-global-2020/
CATEGORIES:Body Shift
ATTACH;FMTTYPE=image/jpeg:https://www.artsparktx.org/wp-content/uploads/ondisplay1_artsparktx-scaled.jpeg
ORGANIZER;CN="Art Spark Texas - Dance":MAILTO:silva@artsparktx.org
END:VEVENT
END:VCALENDAR