BEGIN:VCALENDAR
VERSION:2.0
PRODID:-//Art Spark Texas - ECPv6.15.20//NONSGML v1.0//EN
CALSCALE:GREGORIAN
METHOD:PUBLISH
X-ORIGINAL-URL:https://www.artsparktx.org
X-WR-CALDESC:Events for Art Spark Texas
REFRESH-INTERVAL;VALUE=DURATION:PT1H
X-Robots-Tag:noindex
X-PUBLISHED-TTL:PT1H
BEGIN:VTIMEZONE
TZID:America/Chicago
BEGIN:DAYLIGHT
TZOFFSETFROM:-0600
TZOFFSETTO:-0500
TZNAME:CDT
DTSTART:20190310T080000
END:DAYLIGHT
BEGIN:STANDARD
TZOFFSETFROM:-0500
TZOFFSETTO:-0600
TZNAME:CST
DTSTART:20191103T070000
END:STANDARD
BEGIN:DAYLIGHT
TZOFFSETFROM:-0600
TZOFFSETTO:-0500
TZNAME:CDT
DTSTART:20200308T080000
END:DAYLIGHT
BEGIN:STANDARD
TZOFFSETFROM:-0500
TZOFFSETTO:-0600
TZNAME:CST
DTSTART:20201101T070000
END:STANDARD
BEGIN:DAYLIGHT
TZOFFSETFROM:-0600
TZOFFSETTO:-0500
TZNAME:CDT
DTSTART:20210314T080000
END:DAYLIGHT
BEGIN:STANDARD
TZOFFSETFROM:-0500
TZOFFSETTO:-0600
TZNAME:CST
DTSTART:20211107T070000
END:STANDARD
END:VTIMEZONE
BEGIN:VEVENT
DTSTART;TZID=America/Chicago:20200826T190000
DTEND;TZID=America/Chicago:20200826T200000
DTSTAMP:20260420T192147
CREATED:20200814T203540Z
LAST-MODIFIED:20200817T203918Z
UID:10001401-1598468400-1598472000@www.artsparktx.org
SUMMARY:Virtual Community Conversation with Antoine Hunter
DESCRIPTION:​Our August 2020 Artist of the Month award-winning Deaf dancer\, choreographer\, instructor and advocate Antoine Hunter is featured. Joining him will be Art Spark Dance Director Silva Laukkanen. Learn more about Antoine at https://buff.ly/31mtKNr \nWednesday\, August 26\, 7-8:00 pm CDT. \nFree on Go To Meeting \nMore info and a link to join the conversation here: https://www.facebook.com/events/750942155694449/ \nArt Spark Dance
URL:https://www.artsparktx.org/event/virtual-community-conversation-with-antoine-hunter/
CATEGORIES:Community Conversations,Dance
ATTACH;FMTTYPE=image/png:https://www.artsparktx.org/wp-content/uploads/Antoine-Hunter-dance_2.png
ORGANIZER;CN="Art Spark Texas - Dance":MAILTO:silva@artsparktx.org
END:VEVENT
END:VCALENDAR