BEGIN:VCALENDAR
VERSION:2.0
PRODID:-//Art Spark Texas - ECPv6.15.20//NONSGML v1.0//EN
CALSCALE:GREGORIAN
METHOD:PUBLISH
X-ORIGINAL-URL:https://www.artsparktx.org
X-WR-CALDESC:Events for Art Spark Texas
REFRESH-INTERVAL;VALUE=DURATION:PT1H
X-Robots-Tag:noindex
X-PUBLISHED-TTL:PT1H
BEGIN:VTIMEZONE
TZID:America/Chicago
BEGIN:DAYLIGHT
TZOFFSETFROM:-0600
TZOFFSETTO:-0500
TZNAME:CDT
DTSTART:20190310T080000
END:DAYLIGHT
BEGIN:STANDARD
TZOFFSETFROM:-0500
TZOFFSETTO:-0600
TZNAME:CST
DTSTART:20191103T070000
END:STANDARD
BEGIN:DAYLIGHT
TZOFFSETFROM:-0600
TZOFFSETTO:-0500
TZNAME:CDT
DTSTART:20200308T080000
END:DAYLIGHT
BEGIN:STANDARD
TZOFFSETFROM:-0500
TZOFFSETTO:-0600
TZNAME:CST
DTSTART:20201101T070000
END:STANDARD
BEGIN:DAYLIGHT
TZOFFSETFROM:-0600
TZOFFSETTO:-0500
TZNAME:CDT
DTSTART:20210314T080000
END:DAYLIGHT
BEGIN:STANDARD
TZOFFSETFROM:-0500
TZOFFSETTO:-0600
TZNAME:CST
DTSTART:20211107T070000
END:STANDARD
END:VTIMEZONE
BEGIN:VEVENT
DTSTART;TZID=America/Chicago:20201104T190000
DTEND;TZID=America/Chicago:20201104T200000
DTSTAMP:20260420T140001
CREATED:20201012T195916Z
LAST-MODIFIED:20201028T161947Z
UID:10001454-1604516400-1604520000@www.artsparktx.org
SUMMARY:Songwriting Series: Robert Kelley
DESCRIPTION:Join us for the last installment of our fall Community Conversations: Songwriting Workshop Series. We encourage musicians and songwriters of all skill levels to attend! If you are an absolute beginner who aspires to write lyrics or melodies\, you will learn some tools and activities to help you get started. Or if you already have a few songs in your repertoire\, you’ll gain some new prompts and a space to do more writing\, receive constructive feedback\, and meet other creatives. \nJoin Zoom Meeting\nMeeting ID: 870 7690 8919\nPasscode: 261234 \nOne tap mobile\n+13462487799\,\,87076908919#\,\,\,\,\,\,0#\,\,261234# US (Houston)\n+16699006833\,\,87076908919#\,\,\,\,\,\,0#\,\,261234# US (San Jose)\nFind your local number: https://us02web.zoom.us/u/kfiRFlFbU \nEmail eric@artsparktx.org to be added to our list. Please let us know one week in advance if you need any accommodations. \nWe are excited to welcome Art Spark 2020 Artist of the Year Robert Kelley to facilitate our third workshop! \nRobert Kelley\nAbout Robert Kelley\nRobert Kelley formed Blue Mist while attending the University of Texas in Austin. In the 30+ years since\, the band has been entertaining diverse audiences with a variety of rhythm & blues\, jazz\, soul\, and popular music. The band has been regulars at central Texas’s most popular nightclubs and performed with various national acts such as Little Milton\, Joe Simon\, D. Train\, The Platters\, Pinetop Perkins\, grammy-winning R&B group The Manhattans and R&B/hip-hop singer Anthony Hamilton. Five of the group’s six members attended and graduated from the Texas School for the Blind. \nABOUT ART SPARK TEXAS\nArt Spark Texas challenges perceptions of how people contribute by creating an arts-inspired\, inclusive community of individuals with diverse abilities. \nIf you enjoy our Community Conversations Songwriting Series\, please consider making a Donation today.
URL:https://www.artsparktx.org/event/songwriting-series-robert-kelley/
CATEGORIES:Songwriting Series
ATTACH;FMTTYPE=image/jpeg:https://www.artsparktx.org/wp-content/uploads/guitar.jpg
ORGANIZER;CN="Art Spark Texas":MAILTO:info@artsparktx.org
END:VEVENT
BEGIN:VEVENT
DTSTART;TZID=America/Chicago:20201118T190000
DTEND;TZID=America/Chicago:20201118T200000
DTSTAMP:20260420T140001
CREATED:20201116T212253Z
LAST-MODIFIED:20201118T173927Z
UID:10001504-1605726000-1605729600@www.artsparktx.org
SUMMARY:Virtual Community Conversations: Skye Howell
DESCRIPTION:Join us for a Community Conversation on Wednesday\, November 18 (7-8:00 PM CT) about honoring Native American Heritage: Beyond the Land Acknowledgement and Diversity months. We will have a conversation with Skye Howell\, MEd\, CTRS\, Potawatomi/Ottawa\, (she/hers) Native American advocate\, restorative educator and author. She will share the significance of offering a Land Acknowledgement and what it means to move beyond and truly honor Native Americans in our community\, culture and arts. \n \nSkye Howell is a White Native woman who was detribalized when her father was removed from their Native family and community at the age of 5. She is a proud Austin ISD parent of a first grader\, a circle keeper and anti-racist educator who advocates for Educational Equity regardless of race\, ability level\, gender\, sexual orientation\, religion or other differences. She uses art\, music\, literature and movement to curate spaces of healing and restoration in her community. \nThe Roundtable is free to attend and will be recorded. We use the GoToMeeting app\, please consider downloading the app now. \nCaptioning available with 48 hours prior notification to outreach@artsparktx.org \nPlease join my meeting from your computer\, tablet or smartphone. Click here to join the meeting. \nYou can also dial in using your phone.\nUnited States: +1 (872) 240-3212 \nAccess Code: 492-813-965 \nNew to GoToMeeting? Get the app now and be ready when your first meeting starts. Click here to install the app. \nQuestions? Contact Susan Slattery\, susan@artsparktx.org
URL:https://www.artsparktx.org/event/virtual-community-conversations-skye-howell/
CATEGORIES:Community Conversations
ATTACH;FMTTYPE=image/png:https://www.artsparktx.org/wp-content/uploads/community_conversation-skye.png
ORGANIZER;CN="Art Spark Texas":MAILTO:info@artsparktx.org
END:VEVENT
END:VCALENDAR