BEGIN:VCALENDAR
VERSION:2.0
PRODID:-//Art Spark Texas - ECPv6.15.20//NONSGML v1.0//EN
CALSCALE:GREGORIAN
METHOD:PUBLISH
X-ORIGINAL-URL:https://www.artsparktx.org
X-WR-CALDESC:Events for Art Spark Texas
REFRESH-INTERVAL;VALUE=DURATION:PT1H
X-Robots-Tag:noindex
X-PUBLISHED-TTL:PT1H
BEGIN:VTIMEZONE
TZID:America/Chicago
BEGIN:DAYLIGHT
TZOFFSETFROM:-0600
TZOFFSETTO:-0500
TZNAME:CDT
DTSTART:20190310T080000
END:DAYLIGHT
BEGIN:STANDARD
TZOFFSETFROM:-0500
TZOFFSETTO:-0600
TZNAME:CST
DTSTART:20191103T070000
END:STANDARD
BEGIN:DAYLIGHT
TZOFFSETFROM:-0600
TZOFFSETTO:-0500
TZNAME:CDT
DTSTART:20200308T080000
END:DAYLIGHT
BEGIN:STANDARD
TZOFFSETFROM:-0500
TZOFFSETTO:-0600
TZNAME:CST
DTSTART:20201101T070000
END:STANDARD
BEGIN:DAYLIGHT
TZOFFSETFROM:-0600
TZOFFSETTO:-0500
TZNAME:CDT
DTSTART:20210314T080000
END:DAYLIGHT
BEGIN:STANDARD
TZOFFSETFROM:-0500
TZOFFSETTO:-0600
TZNAME:CST
DTSTART:20211107T070000
END:STANDARD
END:VTIMEZONE
BEGIN:VEVENT
DTSTART;TZID=America/Chicago:20201202T190000
DTEND;TZID=America/Chicago:20201202T200000
DTSTAMP:20260420T122003
CREATED:20201123T214656Z
LAST-MODIFIED:20201123T214929Z
UID:10001506-1606935600-1606939200@www.artsparktx.org
SUMMARY:Community Conversations: Hannah Lee
DESCRIPTION:Join us for a Virtual Community Conversation with Visual Artist Hannah Lee. Hannah is a professional artist here in Austin and was featured as our November Artist of the Month. \nHannah’s paintings and prints focus on the human form\, in particular\, the portrait. In this conversation\, Hannah will discuss the ideas behind her work as well as lead us in a guided portrait drawing activity. Bring a photo reference\, perhaps of a loved one\, and let this be the spark for a holiday gift. \nIf you are an absolute beginner who aspires to understand the human face\, or a practicing professional\, you will learn some tools and methods to help you refine your portraits. \nIf you have any questions\, or need an accommodation (48 hours notice is needed)\, please contact outreach@artsparktx.org \nSign up for notifications for future Community Conversations here. \nCommunity Conversation with Hannah Lee\nWednesday\, Dec 2\, 2020 7 PM – 8 PM (CT)\nPlease join my meeting from your computer\, tablet or smartphone. \nYou can also dial in using your phone.\nUnited States: +1 (872) 240-3212\nAccess Code: 468-246-349\nNew to GoToMeeting? Get the app now and be ready when your first meeting starts.
URL:https://www.artsparktx.org/event/community-conversations-hannah-lee/
CATEGORIES:Community Conversations
ATTACH;FMTTYPE=image/jpeg:https://www.artsparktx.org/wp-content/uploads/HannahLee-blog4-scaled.jpg
ORGANIZER;CN="Art Spark Texas - Artworks":MAILTO:april@artsparktx.org
END:VEVENT
END:VCALENDAR