BEGIN:VCALENDAR
VERSION:2.0
PRODID:-//Art Spark Texas - ECPv6.15.20//NONSGML v1.0//EN
CALSCALE:GREGORIAN
METHOD:PUBLISH
X-WR-CALNAME:Art Spark Texas
X-ORIGINAL-URL:https://www.artsparktx.org
X-WR-CALDESC:Events for Art Spark Texas
REFRESH-INTERVAL;VALUE=DURATION:PT1H
X-Robots-Tag:noindex
X-PUBLISHED-TTL:PT1H
BEGIN:VTIMEZONE
TZID:America/Chicago
BEGIN:DAYLIGHT
TZOFFSETFROM:-0600
TZOFFSETTO:-0500
TZNAME:CDT
DTSTART:20200308T080000
END:DAYLIGHT
BEGIN:STANDARD
TZOFFSETFROM:-0500
TZOFFSETTO:-0600
TZNAME:CST
DTSTART:20201101T070000
END:STANDARD
BEGIN:DAYLIGHT
TZOFFSETFROM:-0600
TZOFFSETTO:-0500
TZNAME:CDT
DTSTART:20210314T080000
END:DAYLIGHT
BEGIN:STANDARD
TZOFFSETFROM:-0500
TZOFFSETTO:-0600
TZNAME:CST
DTSTART:20211107T070000
END:STANDARD
BEGIN:DAYLIGHT
TZOFFSETFROM:-0600
TZOFFSETTO:-0500
TZNAME:CDT
DTSTART:20220313T080000
END:DAYLIGHT
BEGIN:STANDARD
TZOFFSETFROM:-0500
TZOFFSETTO:-0600
TZNAME:CST
DTSTART:20221106T070000
END:STANDARD
END:VTIMEZONE
BEGIN:VEVENT
DTSTART;TZID=America/Chicago:20210414T190000
DTEND;TZID=America/Chicago:20210414T200000
DTSTAMP:20260420T055529
CREATED:20210308T183815Z
LAST-MODIFIED:20210409T194111Z
UID:10001273-1618426800-1618430400@www.artsparktx.org
SUMMARY:Community Conversations: Jeremy Schack
DESCRIPTION:Our guest for this Virtual Community Conversation is April Artist of the Month Jeremy Schack. He is a multi-talented Arlington\, Texas artist. Read more about Jeremy on our blog. \nJoin the Conversation\n \n\nMeeting Link (GoToMeeting) \nMeeting ID: 112081197\nJoin our newsletter\nConnect on Facebook\nQuestions? Email susan@artsparktx.org\n\nABOUT COMMUNITY CONVERSATIONS\nArt Spark Texas introduced our virtual arts roundtable series “Community Conversations” in Spring of 2020\, as a way of staying connected and continuing our mission during this time of the pandemic. We meet on the 2nd and 4th Wednesdays of each month from 7-8pm CST\, and invite visual artists\, musicians\, dancers\, actors\, writers\, disability advocates and others to engage with the Art Spark community. \n\nSupport our programs: Donate to Art Spark Texas.
URL:https://www.artsparktx.org/event/community-conversations-2021-04-14/
CATEGORIES:Community Conversations
ATTACH;FMTTYPE=image/png:https://www.artsparktx.org/wp-content/uploads/community-conversation_jeremy-schack.png
ORGANIZER;CN="Art Spark Texas - Artworks%2C Susan":MAILTO:susan@artsparktx.org
END:VEVENT
BEGIN:VEVENT
DTSTART;TZID=America/Chicago:20210428T190000
DTEND;TZID=America/Chicago:20210428T200000
DTSTAMP:20260420T055529
CREATED:20210308T183815Z
LAST-MODIFIED:20210409T020825Z
UID:10001274-1619636400-1619640000@www.artsparktx.org
SUMMARY:Community Conversations: Thinkery and Verse
DESCRIPTION:Join us Wednesday\, April 28th (7:00 PM CDT)\, to chat with Thinkery and Verse founders Dr. John Meyer (US Army Ranger) and Karen Alvaredo\, who are also the co-creators of the AFTERSHOCK / La Réplica Podcast. \nThis new podcast\, produced by Art Spark Texas with funding from the Texas Commission on the Arts\, is hosted by Karen and features stories and discussion which explore new dimensions of Latinx military service\, interwoven with excerpts from the 2019 stage play AFTERSHOCK / La Réplica. \nJoin the Conversation\n \n\nMeeting Link (GoToMeeting)\nMeeting ID: 750589629\nJoin our newsletter\nConnect on Facebook\nQuestions? Email susan@artsparktx.org\n\nABOUT COMMUNITY CONVERSATIONS\nArt Spark Texas introduced our virtual arts roundtable series “Community Conversations” in Spring of 2020\, as a way of staying connected and continuing our mission during this time of the pandemic. We meet on the 2nd and 4th Wednesdays of each month from 7-8pm CST\, and invite visual artists\, musicians\, dancers\, actors\, writers\, disability advocates and others to engage with the Art Spark community. \nSupport our programs: Donate to Art Spark Texas.
URL:https://www.artsparktx.org/event/community-conversations-2021-04-28/
CATEGORIES:Community Conversations
ATTACH;FMTTYPE=image/jpeg:https://www.artsparktx.org/wp-content/uploads/AftershockCCevent.jpg
ORGANIZER;CN="Art Spark Texas -Veterans":MAILTO:april@artsparktx.org
END:VEVENT
END:VCALENDAR