BEGIN:VCALENDAR
VERSION:2.0
PRODID:-//Art Spark Texas - ECPv6.15.20//NONSGML v1.0//EN
CALSCALE:GREGORIAN
METHOD:PUBLISH
X-ORIGINAL-URL:https://www.artsparktx.org
X-WR-CALDESC:Events for Art Spark Texas
REFRESH-INTERVAL;VALUE=DURATION:PT1H
X-Robots-Tag:noindex
X-PUBLISHED-TTL:PT1H
BEGIN:VTIMEZONE
TZID:America/Chicago
BEGIN:DAYLIGHT
TZOFFSETFROM:-0600
TZOFFSETTO:-0500
TZNAME:CDT
DTSTART:20200308T080000
END:DAYLIGHT
BEGIN:STANDARD
TZOFFSETFROM:-0500
TZOFFSETTO:-0600
TZNAME:CST
DTSTART:20201101T070000
END:STANDARD
BEGIN:DAYLIGHT
TZOFFSETFROM:-0600
TZOFFSETTO:-0500
TZNAME:CDT
DTSTART:20210314T080000
END:DAYLIGHT
BEGIN:STANDARD
TZOFFSETFROM:-0500
TZOFFSETTO:-0600
TZNAME:CST
DTSTART:20211107T070000
END:STANDARD
BEGIN:DAYLIGHT
TZOFFSETFROM:-0600
TZOFFSETTO:-0500
TZNAME:CDT
DTSTART:20220313T080000
END:DAYLIGHT
BEGIN:STANDARD
TZOFFSETFROM:-0500
TZOFFSETTO:-0600
TZNAME:CST
DTSTART:20221106T070000
END:STANDARD
END:VTIMEZONE
BEGIN:VEVENT
DTSTART;TZID=America/Chicago:20210623T190000
DTEND;TZID=America/Chicago:20210623T200000
DTSTAMP:20260420T023819
CREATED:20210308T183815Z
LAST-MODIFIED:20210614T171601Z
UID:10001595-1624474800-1624478400@www.artsparktx.org
SUMMARY:Community Conversations: Susie Angel
DESCRIPTION:Art Spark Texas introduced our virtual arts roundtable series “Community Conversations” in Spring of 2020\, as a way of staying connected and continuing our mission during this time of the pandemic. We meet on the 2nd and 4th Wednesdays of each month from 7-8pm CST\, and invite visual artists\, musicians\, dancers\, actors\, writers\, disability advocates and others to engage with the Art Spark community. \n\nLearn more about our June artist of the month Susie Angel on our blog.\nSee our Facebook event for more information about this month’s Community Conversation.\n\nJoin the conversation! All are welcome. \nMeeting Link via Zoom \nMeeting ID: 984 2050 5609\nPasscode: 201146\nJoin our newsletter to get the information via email.
URL:https://www.artsparktx.org/event/community-conversations-2021-06-23/
CATEGORIES:Community Conversations
ATTACH;FMTTYPE=image/jpeg:https://www.artsparktx.org/wp-content/uploads/community-conversations_susie-angel.jpeg
ORGANIZER;CN="Art Spark Texas - Artworks%2C Susan":MAILTO:susan@artsparktx.org
END:VEVENT
END:VCALENDAR