BEGIN:VCALENDAR
VERSION:2.0
PRODID:-//Art Spark Texas - ECPv6.15.20//NONSGML v1.0//EN
CALSCALE:GREGORIAN
METHOD:PUBLISH
X-ORIGINAL-URL:https://www.artsparktx.org
X-WR-CALDESC:Events for Art Spark Texas
REFRESH-INTERVAL;VALUE=DURATION:PT1H
X-Robots-Tag:noindex
X-PUBLISHED-TTL:PT1H
BEGIN:VTIMEZONE
TZID:America/Chicago
BEGIN:DAYLIGHT
TZOFFSETFROM:-0600
TZOFFSETTO:-0500
TZNAME:CDT
DTSTART:20180311T080000
END:DAYLIGHT
BEGIN:STANDARD
TZOFFSETFROM:-0500
TZOFFSETTO:-0600
TZNAME:CST
DTSTART:20181104T070000
END:STANDARD
BEGIN:DAYLIGHT
TZOFFSETFROM:-0600
TZOFFSETTO:-0500
TZNAME:CDT
DTSTART:20190310T080000
END:DAYLIGHT
BEGIN:STANDARD
TZOFFSETFROM:-0500
TZOFFSETTO:-0600
TZNAME:CST
DTSTART:20191103T070000
END:STANDARD
BEGIN:DAYLIGHT
TZOFFSETFROM:-0600
TZOFFSETTO:-0500
TZNAME:CDT
DTSTART:20200308T080000
END:DAYLIGHT
BEGIN:STANDARD
TZOFFSETFROM:-0500
TZOFFSETTO:-0600
TZNAME:CST
DTSTART:20201101T070000
END:STANDARD
END:VTIMEZONE
BEGIN:VEVENT
DTSTART;TZID=America/Chicago:20190518T150000
DTEND;TZID=America/Chicago:20190518T163000
DTSTAMP:20260423T030805
CREATED:20190410T214325Z
LAST-MODIFIED:20190515T190338Z
UID:10001060-1558191600-1558197000@www.artsparktx.org
SUMMARY:"Paws and Claws" Art Pop-Up
DESCRIPTION:Art Spark Texas presents “Paws and Claws” Pet Portraits Art Pop-up \nIntroduce your pet to the Austin art scene!  The “Paws and Claws” original pet portrait exhibit is an annual fundraiser to support Art Spark Texas artists and programs. \nAll portraits from our Paws and Claws fundraiser will be revealed and displayed together publicly at our FREE art pop-up. Bring your friends to admire your pet’s debut appearance in the Austin art scene or donate in honor or memory of a friend’s pet and surprise them at the exhibit. \nThe art pop-up runs from 3-4:30 pm at the Ground Floor Theatre on Saturday\, May 18\, 2019. \nDirections to the Ground Floor Theatre: The theatre is located where Springdale and Airport meet\, behind Austin Bouldering Project and Daily Greens\, tucked between Austin East Ciders and Friends and Allies Brewery. Park in our parking lot\, which is accessible off Springdale\, just past Daily Greens\, and around the back of the building. You can also find a map at www.groundfloortheatre.org and a helpful video at https://vimeo.com/286364861 \nThe “Paws and Claws” art pop-up is open to the public but in order to get your pet’s portrait featured at the pop-up you’ll need to do a couple of things: \n\nMake an $85 (per pet) donation to Art Spark Texas by April 30\, 2019\nSend us a photo of your pet Click here \nAttend our May 18\, 2019 pop-up art exhibit and pick up art by 4:30 pm\n\nArrive early and enjoy the Opening Minds\, Opening Doors Showcase inside the theatre starting at 2:00 PM. This event is the culmination of presentations from our six-week writing workshop. \nCan’t wait to see you and your pet’s portrait at the Paws and Claws art pop-up!
URL:https://www.artsparktx.org/event/paws-and-claws-art-pop-up/
LOCATION:Ground Floor Theatre\, 979 Springdale Road\, Suite 122\, Austin\, TX\, 78702\, United States
CATEGORIES:Art Exhibits,Fundraisers
ATTACH;FMTTYPE=image/jpeg:https://www.artsparktx.org/wp-content/uploads/pawsandclaws-april2019-sm.jpg
ORGANIZER;CN="Art Spark Texas - Artworks":MAILTO:april@artsparktx.org
END:VEVENT
END:VCALENDAR