BEGIN:VCALENDAR
VERSION:2.0
PRODID:-//Art Spark Texas - ECPv6.15.20//NONSGML v1.0//EN
CALSCALE:GREGORIAN
METHOD:PUBLISH
X-WR-CALNAME:Art Spark Texas
X-ORIGINAL-URL:https://www.artsparktx.org
X-WR-CALDESC:Events for Art Spark Texas
REFRESH-INTERVAL;VALUE=DURATION:PT1H
X-Robots-Tag:noindex
X-PUBLISHED-TTL:PT1H
BEGIN:VTIMEZONE
TZID:America/Chicago
BEGIN:DAYLIGHT
TZOFFSETFROM:-0600
TZOFFSETTO:-0500
TZNAME:CDT
DTSTART:20190310T080000
END:DAYLIGHT
BEGIN:STANDARD
TZOFFSETFROM:-0500
TZOFFSETTO:-0600
TZNAME:CST
DTSTART:20191103T070000
END:STANDARD
BEGIN:DAYLIGHT
TZOFFSETFROM:-0600
TZOFFSETTO:-0500
TZNAME:CDT
DTSTART:20200308T080000
END:DAYLIGHT
BEGIN:STANDARD
TZOFFSETFROM:-0500
TZOFFSETTO:-0600
TZNAME:CST
DTSTART:20201101T070000
END:STANDARD
BEGIN:DAYLIGHT
TZOFFSETFROM:-0600
TZOFFSETTO:-0500
TZNAME:CDT
DTSTART:20210314T080000
END:DAYLIGHT
BEGIN:STANDARD
TZOFFSETFROM:-0500
TZOFFSETTO:-0600
TZNAME:CST
DTSTART:20211107T070000
END:STANDARD
END:VTIMEZONE
BEGIN:VEVENT
DTSTART;VALUE=DATE:20200702
DTEND;VALUE=DATE:20200703
DTSTAMP:20260422T023313
CREATED:20200702T202656Z
LAST-MODIFIED:20200817T202937Z
UID:10001389-1593648000-1593734399@www.artsparktx.org
SUMMARY:Fundraiser: Paws and Claws Pet Portraits
DESCRIPTION:Commission a pet portrait by one of our artists. Ongoing now through October 9. \nFinal exhibit Sunday\, October 18\, 1-4:00 pm CDT (free) \nCommission your personalized Pet Portrait today from our talented Artists! Just upload your pet’s photo and tell us a little about them to help our artist paint a truly personalized tribute to your pet. Live outside of Austin? No problem! We can ship to any location in the US. \n$85 per pet per portrait \nSign up here: https://bit.ly/3iy2an4 \nThe fundraiser benefits all Art Spark programs.
URL:https://www.artsparktx.org/event/fundraiser-paws-and-claws-pet-portraits/2020-07-02/
LOCATION:TX
CATEGORIES:Fundraisers,Paws and Claws
ATTACH;FMTTYPE=image/jpeg:https://www.artsparktx.org/wp-content/uploads/PawsandClawslogo.jpg
ORGANIZER;CN="Art Spark Texas":MAILTO:info@artsparktx.org
END:VEVENT
END:VCALENDAR