BEGIN:VCALENDAR
VERSION:2.0
PRODID:-//Art Spark Texas - ECPv6.15.20//NONSGML v1.0//EN
CALSCALE:GREGORIAN
METHOD:PUBLISH
X-ORIGINAL-URL:https://www.artsparktx.org
X-WR-CALDESC:Events for Art Spark Texas
REFRESH-INTERVAL;VALUE=DURATION:PT1H
X-Robots-Tag:noindex
X-PUBLISHED-TTL:PT1H
BEGIN:VTIMEZONE
TZID:America/Chicago
BEGIN:DAYLIGHT
TZOFFSETFROM:-0600
TZOFFSETTO:-0500
TZNAME:CDT
DTSTART:20190310T080000
END:DAYLIGHT
BEGIN:STANDARD
TZOFFSETFROM:-0500
TZOFFSETTO:-0600
TZNAME:CST
DTSTART:20191103T070000
END:STANDARD
BEGIN:DAYLIGHT
TZOFFSETFROM:-0600
TZOFFSETTO:-0500
TZNAME:CDT
DTSTART:20200308T080000
END:DAYLIGHT
BEGIN:STANDARD
TZOFFSETFROM:-0500
TZOFFSETTO:-0600
TZNAME:CST
DTSTART:20201101T070000
END:STANDARD
BEGIN:DAYLIGHT
TZOFFSETFROM:-0600
TZOFFSETTO:-0500
TZNAME:CDT
DTSTART:20210314T080000
END:DAYLIGHT
BEGIN:STANDARD
TZOFFSETFROM:-0500
TZOFFSETTO:-0600
TZNAME:CST
DTSTART:20211107T070000
END:STANDARD
END:VTIMEZONE
BEGIN:VEVENT
DTSTART;VALUE=DATE:20201002
DTEND;VALUE=DATE:20201003
DTSTAMP:20260421T210717
CREATED:20200702T202656Z
LAST-MODIFIED:20200817T202937Z
UID:10001392-1601596800-1601683199@www.artsparktx.org
SUMMARY:Fundraiser: Paws and Claws Pet Portraits
DESCRIPTION:Commission a pet portrait by one of our artists. Ongoing now through October 9. \nFinal exhibit Sunday\, October 18\, 1-4:00 pm CDT (free) \nCommission your personalized Pet Portrait today from our talented Artists! Just upload your pet’s photo and tell us a little about them to help our artist paint a truly personalized tribute to your pet. Live outside of Austin? No problem! We can ship to any location in the US. \n$85 per pet per portrait \nSign up here: https://bit.ly/3iy2an4 \nThe fundraiser benefits all Art Spark programs.
URL:https://www.artsparktx.org/event/fundraiser-paws-and-claws-pet-portraits/2020-10-02/
LOCATION:TX
CATEGORIES:Fundraisers,Paws and Claws
ATTACH;FMTTYPE=image/jpeg:https://www.artsparktx.org/wp-content/uploads/PawsandClawslogo.jpg
ORGANIZER;CN="Art Spark Texas":MAILTO:info@artsparktx.org
END:VEVENT
BEGIN:VEVENT
DTSTART;TZID=America/Chicago:20201018T140000
DTEND;TZID=America/Chicago:20201018T160000
DTSTAMP:20260421T210717
CREATED:20200817T203448Z
LAST-MODIFIED:20201012T194723Z
UID:10001403-1603029600-1603036800@www.artsparktx.org
SUMMARY:Exhibit: Paws and Claws Pet Portraits
DESCRIPTION:Art Exhibit – Paws and Claws Pet Portraits. \nPlease join Art Spark Texas and our Portrait Artists for the Paws and Claws Art Pop-up Exhibit this Sunday\, October 18th from 2-4:00 PM at the AGE Building back porch area near Rm 101 entrance. Pickup for the Art is 3:30-4:00 PM. \nRSVP: april@artsparktx.org \nWe are looking forward to seeing all of you and taking some photos of you with the Stars of the portraits—your beloved pawed and clawed friends – who are welcome and encouraged to attend this Sunday! We will have some doggie and kitty gift bags for them\, too. The exhibit is taking place outside on the back porch of the AGE Building to better provide for good social distancing. There is a grassy\, fenced area for your pets. Pets must be on leash at all times. Please bring your own pet clean-up bags. \nSunday\, October 18\, 2020\nAGE Building (back porch)\, 3707 Home Lane\, Austin\, TX 78705\nExhibit 2-4:00 PM\nArt pickup 3:30-4:00 PM \nWe will be streaming the event on FB Live. If you prefer not to be filmed\, just let us know. Please help prevent the spread of COVID-19 by wearing a mask at this event. Thank you.
URL:https://www.artsparktx.org/event/exhibit-paws-and-claws-pet-portraits/
LOCATION:AGE Building\, 3710 Cedar Street\, Room 101\, Austin\, TX\, 78705\, United States
CATEGORIES:Art Exhibits,Paws and Claws
ATTACH;FMTTYPE=image/jpeg:https://www.artsparktx.org/wp-content/uploads/PawsandClawslogo.jpg
ORGANIZER;CN="Art Spark Texas - Artworks":MAILTO:april@artsparktx.org
END:VEVENT
END:VCALENDAR