BEGIN:VCALENDAR
VERSION:2.0
PRODID:-//Art Spark Texas - ECPv6.15.20//NONSGML v1.0//EN
CALSCALE:GREGORIAN
METHOD:PUBLISH
X-ORIGINAL-URL:https://www.artsparktx.org
X-WR-CALDESC:Events for Art Spark Texas
REFRESH-INTERVAL;VALUE=DURATION:PT1H
X-Robots-Tag:noindex
X-PUBLISHED-TTL:PT1H
BEGIN:VTIMEZONE
TZID:America/Chicago
BEGIN:DAYLIGHT
TZOFFSETFROM:-0600
TZOFFSETTO:-0500
TZNAME:CDT
DTSTART:20190310T080000
END:DAYLIGHT
BEGIN:STANDARD
TZOFFSETFROM:-0500
TZOFFSETTO:-0600
TZNAME:CST
DTSTART:20191103T070000
END:STANDARD
BEGIN:DAYLIGHT
TZOFFSETFROM:-0600
TZOFFSETTO:-0500
TZNAME:CDT
DTSTART:20200308T080000
END:DAYLIGHT
BEGIN:STANDARD
TZOFFSETFROM:-0500
TZOFFSETTO:-0600
TZNAME:CST
DTSTART:20201101T070000
END:STANDARD
BEGIN:DAYLIGHT
TZOFFSETFROM:-0600
TZOFFSETTO:-0500
TZNAME:CDT
DTSTART:20210314T080000
END:DAYLIGHT
BEGIN:STANDARD
TZOFFSETFROM:-0500
TZOFFSETTO:-0600
TZNAME:CST
DTSTART:20211107T070000
END:STANDARD
END:VTIMEZONE
BEGIN:VEVENT
DTSTART;VALUE=DATE:20201201
DTEND;VALUE=DATE:20201202
DTSTAMP:20260421T174136
CREATED:20201123T220705Z
LAST-MODIFIED:20201123T220705Z
UID:10001507-1606780800-1606867199@www.artsparktx.org
SUMMARY:Giving Tuesday 2020: Collective Dreaming for the Future
DESCRIPTION:Support Art Spark Texas on Giving Tuesday\, December 1! \n#GivingTuesday is a designated annual day of giving to non-profit organizations which takes place this year on Tuesday\, December 1st. Art Spark’s 2020 Giving Tuesday theme is Collective Dreaming for the Future. \nIn 2021\, we will continue the work\, which we began at the beginning of the pandemic\, of offering our classes\, workshops and programs online. We created new outreach through our Community Conversations\, new Songwriting series\, and increased our Veterans classes and mobile arts for Seniors instruction. Our plan is to continue to expand these virtual education programs and\, with your support\, we will be able to do that! \nDream with us and Donate here today! \nQuestions? Contact Susan\, outreach@artsparktx.org
URL:https://www.artsparktx.org/event/giving-tuesday-2020-collective-dreaming-for-the-future/
LOCATION:TX
CATEGORIES:Fundraisers
ATTACH;FMTTYPE=image/jpeg:https://www.artsparktx.org/wp-content/uploads/Giving-Tuesday-2020-general-graphic-scaled.jpg
ORGANIZER;CN="Art Spark Texas":MAILTO:info@artsparktx.org
END:VEVENT
END:VCALENDAR