BEGIN:VCALENDAR
VERSION:2.0
PRODID:-//Art Spark Texas - ECPv6.15.20//NONSGML v1.0//EN
CALSCALE:GREGORIAN
METHOD:PUBLISH
X-WR-CALNAME:Art Spark Texas
X-ORIGINAL-URL:https://www.artsparktx.org
X-WR-CALDESC:Events for Art Spark Texas
REFRESH-INTERVAL;VALUE=DURATION:PT1H
X-Robots-Tag:noindex
X-PUBLISHED-TTL:PT1H
BEGIN:VTIMEZONE
TZID:America/Chicago
BEGIN:DAYLIGHT
TZOFFSETFROM:-0600
TZOFFSETTO:-0500
TZNAME:CDT
DTSTART:20210314T080000
END:DAYLIGHT
BEGIN:STANDARD
TZOFFSETFROM:-0500
TZOFFSETTO:-0600
TZNAME:CST
DTSTART:20211107T070000
END:STANDARD
BEGIN:DAYLIGHT
TZOFFSETFROM:-0600
TZOFFSETTO:-0500
TZNAME:CDT
DTSTART:20220313T080000
END:DAYLIGHT
BEGIN:STANDARD
TZOFFSETFROM:-0500
TZOFFSETTO:-0600
TZNAME:CST
DTSTART:20221106T070000
END:STANDARD
BEGIN:DAYLIGHT
TZOFFSETFROM:-0600
TZOFFSETTO:-0500
TZNAME:CDT
DTSTART:20230312T080000
END:DAYLIGHT
BEGIN:STANDARD
TZOFFSETFROM:-0500
TZOFFSETTO:-0600
TZNAME:CST
DTSTART:20231105T070000
END:STANDARD
BEGIN:DAYLIGHT
TZOFFSETFROM:-0600
TZOFFSETTO:-0500
TZNAME:CDT
DTSTART:20240310T080000
END:DAYLIGHT
BEGIN:STANDARD
TZOFFSETFROM:-0500
TZOFFSETTO:-0600
TZNAME:CST
DTSTART:20241103T070000
END:STANDARD
END:VTIMEZONE
BEGIN:VEVENT
DTSTART;VALUE=DATE:20221129
DTEND;VALUE=DATE:20221130
DTSTAMP:20260422T024417
CREATED:20221122T164447Z
LAST-MODIFIED:20221122T164448Z
UID:10001971-1669680000-1669766399@www.artsparktx.org
SUMMARY:GivingTuesday 2022
DESCRIPTION:GivingTuesday takes place this year on November 29th. It is the annual 24-hour giving event in support of non-profit organizations around the world. We are asking for your support for our Women Veterans Programs. The programs we offer and the number of Texas Women Veterans we serve are growing! It only takes a few minutes to support our Texas Women Veterans. Please make a donation on GivingTuesday or show your early support by giving today.
URL:https://www.artsparktx.org/event/givingtuesday-2022/
LOCATION:TX
CATEGORIES:Fundraisers,Veterans
ATTACH;FMTTYPE=image/png:https://www.artsparktx.org/wp-content/uploads/2-1.png
ORGANIZER;CN="Susan Slattery":MAILTO:susan@artsparktx.org
END:VEVENT
BEGIN:VEVENT
DTSTART;TZID=America/Chicago:20230301T180000
DTEND;TZID=America/Chicago:20230301T233000
DTSTAMP:20260422T024417
CREATED:20230224T172352Z
LAST-MODIFIED:20230224T231658Z
UID:10001484-1677693600-1677713400@www.artsparktx.org
SUMMARY:Amplify Austin Day
DESCRIPTION:Art Spark Texas is participating in Amplify Austin Day! Support us now through 6 PM Central Time on March 2nd by making a donation: https://bit.ly/3RsHHD7 \n\n\n\n\n\n\n\n\n\nArt Spark has been breaking down walls\, challenging perceptions and opening doors for Texans with disabilities for over 25 years. \nIt’s what we do. Our goal this year is $10K. \nDon’t forget to Add #LoveTitos at checkout and we receive an extra $25 from Tito’s!
URL:https://www.artsparktx.org/event/amplify-austin-day/2023-03-01/
LOCATION:TX
CATEGORIES:Artworks,Fundraisers,Fundraising Event,Seniors,Veterans
ATTACH;FMTTYPE=image/jpeg:https://www.artsparktx.org/wp-content/uploads/Image-18-scaled.jpeg
END:VEVENT
BEGIN:VEVENT
DTSTART;TZID=America/Chicago:20230302T000000
DTEND;TZID=America/Chicago:20230302T180000
DTSTAMP:20260422T024417
CREATED:20230224T172352Z
LAST-MODIFIED:20230224T231658Z
UID:10001485-1677715200-1677780000@www.artsparktx.org
SUMMARY:Amplify Austin Day
DESCRIPTION:Art Spark Texas is participating in Amplify Austin Day! Support us now through 6 PM Central Time on March 2nd by making a donation: https://bit.ly/3RsHHD7 \n\n\n\n\n\n\n\n\n\nArt Spark has been breaking down walls\, challenging perceptions and opening doors for Texans with disabilities for over 25 years. \nIt’s what we do. Our goal this year is $10K. \nDon’t forget to Add #LoveTitos at checkout and we receive an extra $25 from Tito’s!
URL:https://www.artsparktx.org/event/amplify-austin-day/2023-03-02/
LOCATION:TX
CATEGORIES:Artworks,Fundraisers,Fundraising Event,Seniors,Veterans
ATTACH;FMTTYPE=image/jpeg:https://www.artsparktx.org/wp-content/uploads/Image-18-scaled.jpeg
END:VEVENT
END:VCALENDAR