BEGIN:VCALENDAR
VERSION:2.0
PRODID:-//Art Spark Texas - ECPv6.15.20//NONSGML v1.0//EN
CALSCALE:GREGORIAN
METHOD:PUBLISH
X-WR-CALNAME:Art Spark Texas
X-ORIGINAL-URL:https://www.artsparktx.org
X-WR-CALDESC:Events for Art Spark Texas
REFRESH-INTERVAL;VALUE=DURATION:PT1H
X-Robots-Tag:noindex
X-PUBLISHED-TTL:PT1H
BEGIN:VTIMEZONE
TZID:America/Chicago
BEGIN:DAYLIGHT
TZOFFSETFROM:-0600
TZOFFSETTO:-0500
TZNAME:CDT
DTSTART:20190310T080000
END:DAYLIGHT
BEGIN:STANDARD
TZOFFSETFROM:-0500
TZOFFSETTO:-0600
TZNAME:CST
DTSTART:20191103T070000
END:STANDARD
BEGIN:DAYLIGHT
TZOFFSETFROM:-0600
TZOFFSETTO:-0500
TZNAME:CDT
DTSTART:20200308T080000
END:DAYLIGHT
BEGIN:STANDARD
TZOFFSETFROM:-0500
TZOFFSETTO:-0600
TZNAME:CST
DTSTART:20201101T070000
END:STANDARD
BEGIN:DAYLIGHT
TZOFFSETFROM:-0600
TZOFFSETTO:-0500
TZNAME:CDT
DTSTART:20210314T080000
END:DAYLIGHT
BEGIN:STANDARD
TZOFFSETFROM:-0500
TZOFFSETTO:-0600
TZNAME:CST
DTSTART:20211107T070000
END:STANDARD
END:VTIMEZONE
BEGIN:VEVENT
DTSTART;TZID=America/Chicago:20200208T143000
DTEND;TZID=America/Chicago:20200208T163000
DTSTAMP:20260421T070845
CREATED:20190709T231029Z
LAST-MODIFIED:20200415T170024Z
UID:10001286-1581172200-1581179400@www.artsparktx.org
SUMMARY:Elements Dance Class (canceled)
DESCRIPTION:Art Spark Texas offers the Elements dance class every 2nd and 4th Saturday of the month from 2:30-4:30pm at the Town Lake YMCA in the large group exercise room on the first floor. Instructor: Silva Laukkanen \nElements is an ongoing class for people familiar with dance improvisation and want to go into the practice in a supportive environment. We study dance and movement improvisation and somatics. No gym membership is required to attend. Open to adults age 18 and up; all abilities with some dance experience. No registration necessary. The class fee is on a sliding scale from $5-$20\, cash or check accepted. You can pay the class fee online here. See you at the Y! \nFor more information\, email Silva Laukkanen or call (512) 454-9912.
URL:https://www.artsparktx.org/event/elements-dance-class-2nd-saturday/2020-02-08/
LOCATION:Town Lake YMCA\, 1100 W. Cesar Chavez Street\, Austin\, TX\, 78703\, United States
CATEGORIES:Integrated Dance
ATTACH;FMTTYPE=image/jpeg:https://www.artsparktx.org/wp-content/uploads/Foundations2.jpg
ORGANIZER;CN="Art Spark Texas - Integrated Dance":MAILTO:silva@artsparktx.org
END:VEVENT
BEGIN:VEVENT
DTSTART;TZID=America/Chicago:20200216T140000
DTEND;TZID=America/Chicago:20200216T170000
DTSTAMP:20260421T070845
CREATED:20200110T204230Z
LAST-MODIFIED:20200205T173459Z
UID:10001354-1581861600-1581872400@www.artsparktx.org
SUMMARY:Axis Dance Company Teacher Training in Physically Integrated Dance
DESCRIPTION:Axis Dance Company Teacher Training in Physically Integrated Dance\nFundamentals of Inclusive Teaching and Working with Diverse Students \nPurchase Tickets: https://tinyurl.com/teacher-training\nWith the goal of introducing inclusive dance practices and sensitivity\, AXIS Dance Company offers this exciting\, movement-based workshop geared toward teachers and faculty working with diverse populations. The session includes both learning and experiencing participatory exercises\, tasks\, and activities for classrooms and discussions about disability\,  language barriers to learning\, and accessibility. We design this teacher training for teachers of dance and experienced artists interested in developing their teaching skills in leading integrated dance in an inclusive and supportive environment. \nAXIS Dance Company teaches inclusively\, ensuring workshops are accessible to all. \nWhen: February 16th\, 2020 from 2pm-5pm \nEarly bird registration $30 until February 1st and after that $45 Purchase Tickets: https://tinyurl.com/teacher-training (contact sliva@artsaprktx.org for more information) \nThis workshop will be held at: \nL. Theo Bellmont Hall\nDance Studio BEL 502A\n2109 San Jacinto Boulevard\nAustin TX 78712.
URL:https://www.artsparktx.org/event/axis-dance-company-teacher-training-in-physically-integrated-dance/
LOCATION:L.Theo Bellmont Hall\, 2109 San Jacinto Boulevard\, Austin\, Texas\, 78712
CATEGORIES:Integrated Dance
ATTACH;FMTTYPE=image/jpeg:https://www.artsparktx.org/wp-content/uploads/axis-dance_01-scaled.jpeg
ORGANIZER;CN="Art Spark Texas - Integrated Dance":MAILTO:silva@artsparktx.org
END:VEVENT
BEGIN:VEVENT
DTSTART;TZID=America/Chicago:20200222T143000
DTEND;TZID=America/Chicago:20200222T163000
DTSTAMP:20260421T070845
CREATED:20190709T231029Z
LAST-MODIFIED:20200415T170024Z
UID:10001287-1582381800-1582389000@www.artsparktx.org
SUMMARY:Elements Dance Class (canceled)
DESCRIPTION:Art Spark Texas offers the Elements dance class every 2nd and 4th Saturday of the month from 2:30-4:30pm at the Town Lake YMCA in the large group exercise room on the first floor. Instructor: Silva Laukkanen \nElements is an ongoing class for people familiar with dance improvisation and want to go into the practice in a supportive environment. We study dance and movement improvisation and somatics. No gym membership is required to attend. Open to adults age 18 and up; all abilities with some dance experience. No registration necessary. The class fee is on a sliding scale from $5-$20\, cash or check accepted. You can pay the class fee online here. See you at the Y! \nFor more information\, email Silva Laukkanen or call (512) 454-9912.
URL:https://www.artsparktx.org/event/elements-dance-class-2nd-saturday/2020-02-22/
LOCATION:Town Lake YMCA\, 1100 W. Cesar Chavez Street\, Austin\, TX\, 78703\, United States
CATEGORIES:Integrated Dance
ATTACH;FMTTYPE=image/jpeg:https://www.artsparktx.org/wp-content/uploads/Foundations2.jpg
ORGANIZER;CN="Art Spark Texas - Integrated Dance":MAILTO:silva@artsparktx.org
END:VEVENT
END:VCALENDAR