BEGIN:VCALENDAR
VERSION:2.0
PRODID:-//Art Spark Texas - ECPv6.15.20//NONSGML v1.0//EN
CALSCALE:GREGORIAN
METHOD:PUBLISH
X-ORIGINAL-URL:https://www.artsparktx.org
X-WR-CALDESC:Events for Art Spark Texas
REFRESH-INTERVAL;VALUE=DURATION:PT1H
X-Robots-Tag:noindex
X-PUBLISHED-TTL:PT1H
BEGIN:VTIMEZONE
TZID:America/Chicago
BEGIN:DAYLIGHT
TZOFFSETFROM:-0600
TZOFFSETTO:-0500
TZNAME:CDT
DTSTART:20240310T080000
END:DAYLIGHT
BEGIN:STANDARD
TZOFFSETFROM:-0500
TZOFFSETTO:-0600
TZNAME:CST
DTSTART:20241103T070000
END:STANDARD
BEGIN:DAYLIGHT
TZOFFSETFROM:-0600
TZOFFSETTO:-0500
TZNAME:CDT
DTSTART:20250309T080000
END:DAYLIGHT
BEGIN:STANDARD
TZOFFSETFROM:-0500
TZOFFSETTO:-0600
TZNAME:CST
DTSTART:20251102T070000
END:STANDARD
BEGIN:DAYLIGHT
TZOFFSETFROM:-0600
TZOFFSETTO:-0500
TZNAME:CDT
DTSTART:20260308T080000
END:DAYLIGHT
BEGIN:STANDARD
TZOFFSETFROM:-0500
TZOFFSETTO:-0600
TZNAME:CST
DTSTART:20261101T070000
END:STANDARD
END:VTIMEZONE
BEGIN:VEVENT
DTSTART;TZID=America/Chicago:20251004T140000
DTEND;TZID=America/Chicago:20251004T160000
DTSTAMP:20260424T130055
CREATED:20250908T180955Z
LAST-MODIFIED:20251007T204004Z
UID:10002316-1759586400-1759593600@www.artsparktx.org
SUMMARY:Lion & Pirate Hybrid Open Mic at Art Spark Texas & Zoom
DESCRIPTION:The Lion & Pirate meets on October 4 for a HYBRID open mic\, at Art Spark Texas AND on Zoom. Whether you are performing in person or virtually\, please sign up here: https://forms.gle/7nqyhREVRv9kziC17 \n\nZoom link will be emailed to those who sign up AND posted here the day of the show.\nAs always\, we’re open to work in any genre: music\, spoken word\, improv\, skits\, storytelling\, dance\, poems\, prose… Anything you can perform in 3(ish) minutes! Read on for community guidelines and accessibility adventure notes:\n\nCommunity Guidelines: please read the Art Spark Texas code of conduct before attending Lion & Pirate events: https://www.artsparktx.org/code-of-conduct/\n\nIf you are reading work\, note that we use content warnings to keep this space safe and welcoming. Please use them! If you have questions about content warnings\, feel free to ask us before or during an open mic.\n\nThings we believe:– We feel and practice respect for all people and for diversity of thought and identity.– We see honesty as a form of love.– We acknowledge that free speech is difficult sometimes.– We accept that we are unaware of the traumas people within even our own communities are trying to live through\, and we have to teach each other\, learn from each other\, make each other more aware.\n\nAccessibility adventure notes for virtual performers or attendees:Zoom has auto-generated captions\, and those are… ok. When possible\, we screen share the words/ lyrics/ poems to each performance so that attendees who need CC get better quality info. Performers are welcome to: screen share their words themselves\, so they can stay on screen OR send an L&P host their words and they’ll do the screen sharing OR paste a link to a document with their words in the chat\, so attendees can decide if they want to see the words or not. If sharing your words ahead of time is not in the cards\, that’s ok\, we’ll do our best to make it work! Sound quality: We ask all attendees to stay muted when not performing (or cheering). Are you performing with an instrument or accompanying music? Optimize your sound: https://online.berklee.edu/…/1793280-how-to-configure…\n\nAccess requests: Need something else for virtual OR in person participation? Get in touch with Laura P by DM or email lperna@txdisabilities.org
URL:https://www.artsparktx.org/event/lion-pirate-hybrid-open-mic-at-art-spark-texas-zoom/
LOCATION:Art Spark Texas\, 1152 San Bernard St.\, Austin\, TX\, 78702\, United States
CATEGORIES:lion & pirate open mic
ATTACH;FMTTYPE=image/jpeg:https://www.artsparktx.org/wp-content/uploads/lion-and-pirate.jpg
END:VEVENT
END:VCALENDAR