BEGIN:VCALENDAR
VERSION:2.0
PRODID:-//Art Spark Texas - ECPv6.15.20//NONSGML v1.0//EN
CALSCALE:GREGORIAN
METHOD:PUBLISH
X-WR-CALNAME:Art Spark Texas
X-ORIGINAL-URL:https://www.artsparktx.org
X-WR-CALDESC:Events for Art Spark Texas
REFRESH-INTERVAL;VALUE=DURATION:PT1H
X-Robots-Tag:noindex
X-PUBLISHED-TTL:PT1H
BEGIN:VTIMEZONE
TZID:America/Chicago
BEGIN:DAYLIGHT
TZOFFSETFROM:-0600
TZOFFSETTO:-0500
TZNAME:CDT
DTSTART:20250309T080000
END:DAYLIGHT
BEGIN:STANDARD
TZOFFSETFROM:-0500
TZOFFSETTO:-0600
TZNAME:CST
DTSTART:20251102T070000
END:STANDARD
BEGIN:DAYLIGHT
TZOFFSETFROM:-0600
TZOFFSETTO:-0500
TZNAME:CDT
DTSTART:20260308T080000
END:DAYLIGHT
BEGIN:STANDARD
TZOFFSETFROM:-0500
TZOFFSETTO:-0600
TZNAME:CST
DTSTART:20261101T070000
END:STANDARD
BEGIN:DAYLIGHT
TZOFFSETFROM:-0600
TZOFFSETTO:-0500
TZNAME:CDT
DTSTART:20270314T080000
END:DAYLIGHT
BEGIN:STANDARD
TZOFFSETFROM:-0500
TZOFFSETTO:-0600
TZNAME:CST
DTSTART:20271107T070000
END:STANDARD
END:VTIMEZONE
BEGIN:VEVENT
DTSTART;TZID=America/Chicago:20260201T130000
DTEND;TZID=America/Chicago:20260201T143000
DTSTAMP:20260424T060748
CREATED:20260113T205846Z
LAST-MODIFIED:20260113T205846Z
UID:10002340-1769950800-1769956200@www.artsparktx.org
SUMMARY:VIRTUAL Lion & Pirate Inclusive Open Mic
DESCRIPTION:The Lion & Pirate is back for 2026! Our first gathering of the year will be Sunday\, Feb. 1 on Zoom (link will posted here the day of the show). Sign ups open now: https://forms.gle/4j7UY3MwM7YWJJc9A\nWe’re open to work in any genre: music\, spoken word\, improv\, skits\, storytelling\, dance\, poems\, prose… Anything you can perform in 3(ish) minutes!\nRead on for community guidelines and accessibility adventure notes!\nCommunity Guidelines: please read the Art Spark Texas code of conduct before Lion & Pirate events: https://www.artsparktx.org/code-of-conduct/If you are reading work\, note that we use content warnings to keep this space safe and welcoming. Please use them! If you have questions about content warnings\, feel free to ask us before or during an open mic.Things we believe:– We feel and practice respect for all people and for diversity of thought and identity.– We see honesty as a form of love.– We acknowledge that free speech is difficult sometimes.– We accept that we are unaware of the traumas people within even our own communities are trying to live through\, and we have to teach each other\, learn from each other\, make each other more aware.\nAccessibility adventure notes for virtual performers or attendees:Captions: Zoom has auto-generated captions\, and those are… ok. When possible\, we screen share the words/ lyrics/ poems to each performance so that attendees who need closed captions (CC) get better quality info. Performers are welcome to: screen share their words themselves\, so they can stay on screen OR send an L&P host their words and they’ll do the screen sharing OR paste a link to a document with their words in the chat\, so attendees can decide if they want to see the words or not. If sharing your words ahead of time is not in the cards\, that’s ok\, we’ll do our best to make it work!\nSound quality: We ask all attendees to stay muted when not performing (or cheering). Are you performing with an instrument or accompanying music? Learn how to configure your Zoom settings for a live musical performance: https://support.zoom.com/hc/en/article?id=zm_kb…\nAccess requests: Need something else for virtual participation? Get in touch with Laura P at lperna@txdisabilities.org!
URL:https://www.artsparktx.org/event/virtual-lion-pirate-inclusive-open-mic/
LOCATION:TX
CATEGORIES:lion & pirate open mic
ATTACH;FMTTYPE=image/jpeg:https://www.artsparktx.org/wp-content/uploads/615471459_10126773173921720_594177124041357979_n.jpg
END:VEVENT
END:VCALENDAR