BEGIN:VCALENDAR
VERSION:2.0
PRODID:-//Art Spark Texas - ECPv6.15.20//NONSGML v1.0//EN
CALSCALE:GREGORIAN
METHOD:PUBLISH
X-WR-CALNAME:Art Spark Texas
X-ORIGINAL-URL:https://www.artsparktx.org
X-WR-CALDESC:Events for Art Spark Texas
REFRESH-INTERVAL;VALUE=DURATION:PT1H
X-Robots-Tag:noindex
X-PUBLISHED-TTL:PT1H
BEGIN:VTIMEZONE
TZID:America/Chicago
BEGIN:DAYLIGHT
TZOFFSETFROM:-0600
TZOFFSETTO:-0500
TZNAME:CDT
DTSTART:20170312T080000
END:DAYLIGHT
BEGIN:STANDARD
TZOFFSETFROM:-0500
TZOFFSETTO:-0600
TZNAME:CST
DTSTART:20171105T070000
END:STANDARD
BEGIN:DAYLIGHT
TZOFFSETFROM:-0600
TZOFFSETTO:-0500
TZNAME:CDT
DTSTART:20180311T080000
END:DAYLIGHT
BEGIN:STANDARD
TZOFFSETFROM:-0500
TZOFFSETTO:-0600
TZNAME:CST
DTSTART:20181104T070000
END:STANDARD
BEGIN:DAYLIGHT
TZOFFSETFROM:-0600
TZOFFSETTO:-0500
TZNAME:CDT
DTSTART:20190310T080000
END:DAYLIGHT
BEGIN:STANDARD
TZOFFSETFROM:-0500
TZOFFSETTO:-0600
TZNAME:CST
DTSTART:20191103T070000
END:STANDARD
END:VTIMEZONE
BEGIN:VEVENT
DTSTART;TZID=America/Chicago:20181208T143000
DTEND;TZID=America/Chicago:20181208T163000
DTSTAMP:20260422T194943
CREATED:20181102T212451Z
LAST-MODIFIED:20191204T202003Z
UID:10001182-1544279400-1544286600@www.artsparktx.org
SUMMARY:Body Shift Winter Dance Jam
DESCRIPTION:Please click here for our Dec 14 2019 Dance Jam \nIn place of our regularly scheduled Elements class we will have a Winter Dance Jam. We will start with a guided warm-up to lead us into open dancing with and without music. \nThe jam is Saturday\, December 8th from 2:30-4:30pm at the Townlake YMCA. \nOlivia O’Hare will lead the warm-up. \n//Winter Dance Jam// \nSaturday\, December 8th from 2:30-4:30pm at the Townlake YMCA in the large group exercise room on the first floor. Adults (age 18 and up) of all abilities are encouraged to attend. Some experience with movement/dance improvisation or contact improvisation is best. No membership required. Cost is on a sliding scale of $5-$20. See you there! \nFor more information email Olivia O’Hare or call 512-454-9912.
URL:https://www.artsparktx.org/event/body-shift-winter-dance-jam-2018/
LOCATION:Town Lake YMCA\, 1100 W. Cesar Chavez Street\, Austin\, TX\, 78703\, United States
CATEGORIES:Body Shift
ATTACH;FMTTYPE=image/jpeg:https://www.artsparktx.org/wp-content/uploads/bodyShift_logo-med.jpg
END:VEVENT
END:VCALENDAR