BEGIN:VCALENDAR
VERSION:2.0
PRODID:-//Art Spark Texas - ECPv6.15.20//NONSGML v1.0//EN
CALSCALE:GREGORIAN
METHOD:PUBLISH
X-ORIGINAL-URL:https://www.artsparktx.org
X-WR-CALDESC:Events for Art Spark Texas
REFRESH-INTERVAL;VALUE=DURATION:PT1H
X-Robots-Tag:noindex
X-PUBLISHED-TTL:PT1H
BEGIN:VTIMEZONE
TZID:America/Chicago
BEGIN:DAYLIGHT
TZOFFSETFROM:-0600
TZOFFSETTO:-0500
TZNAME:CDT
DTSTART:20180311T080000
END:DAYLIGHT
BEGIN:STANDARD
TZOFFSETFROM:-0500
TZOFFSETTO:-0600
TZNAME:CST
DTSTART:20181104T070000
END:STANDARD
BEGIN:DAYLIGHT
TZOFFSETFROM:-0600
TZOFFSETTO:-0500
TZNAME:CDT
DTSTART:20190310T080000
END:DAYLIGHT
BEGIN:STANDARD
TZOFFSETFROM:-0500
TZOFFSETTO:-0600
TZNAME:CST
DTSTART:20191103T070000
END:STANDARD
BEGIN:DAYLIGHT
TZOFFSETFROM:-0600
TZOFFSETTO:-0500
TZNAME:CDT
DTSTART:20200308T080000
END:DAYLIGHT
BEGIN:STANDARD
TZOFFSETFROM:-0500
TZOFFSETTO:-0600
TZNAME:CST
DTSTART:20201101T070000
END:STANDARD
END:VTIMEZONE
BEGIN:VEVENT
DTSTART;TZID=America/Chicago:20190112T143000
DTEND;TZID=America/Chicago:20190112T163000
DTSTAMP:20260422T180252
CREATED:20181220T183129Z
LAST-MODIFIED:20181220T183925Z
UID:10001027-1547303400-1547310600@www.artsparktx.org
SUMMARY:Body Shift Elements Class
DESCRIPTION:The Elements class takes place every 2nd and 4th Saturday of the month from 2:30-4:30pm at the Town Lake YMCA in the large group exercise room on the first floor. \nClass will be taught by Amy Morrow. \n//Gaga for All// \nJoin us to experience Gaga/people for the first half of class followed by a Toolbox Session where we will experiment with tools not rules and find each person’s voice inside the movement language. \nAmy will guide participants using a series of evocative instructions that build one on top of the other. Rather than copying a particular movement\, each participant in the class will actively explore these instructions\, discovering how he or she can interpret the information and perform the task at hand. Gaga/people classes offer a creative framework for participants to connect to their bodies and imaginations\, increase their physical awareness\, improve their flexibility and stamina\, and experience the pleasure of movement in a welcoming\, accepting atmosphere. \nNo previous dance experience is needed. Participants should wear comfortable clothes and be prepared to dance barefoot or in socks. It is advisable to bring a bottle of water and a towel for use after class. \n  \nAmy Morrow is an Austin-based teacher\, choreographer\, consultant\, & founder of AM Arts. Certified in 2012 by Ohad Naharin in the inaugural teacher training program\, Morrow travels internationally offering Gaga & Toolbox workshops as well as Ballet & Indian Dance. In 2015\, AM Arts established The Theorists\, a collective of artist citizens who collaborate internationally to produce homegrown art. Their dance\, film\, & music collaborations invited to present in TLV\, NY\, Delhi\, Puebla\, Guadalajara\, Cuernavaca\, México City\, DFW\, Tulsa\, ABQ\, Birmingham\, Huntsville\, Richmond\, Detroit\, & Houston\, and annually in Austin during Theorist Fest. Awards include the 2017 Austin Critic’s Table Award for Best Dancer as well as the Dance Council of North Texas Artful Dance\, Austin Emerging Arts Leadership Award\, Community Initiatives\, CORE\, & Capacity Building funding from the Austin Cultural Arts Division to produce programming for collaborators of diverse backgrounds\, abilities\, & ages. Graduating with a B.F.A. Dance Honors\, Morrow’s senior thesis contextualized multi-disciplinary collaborations cross-culturally under the mentorship of Jesse Zaritt. \n  \nElements is an on-going class in which we study dance and movement improvisation as well as somatics. DanceAbility is our foundational method with which we work to ensure inclusion. It is an equal collaboration and learning environment for every ‘body’ regardless of unique physical or mental characteristics. No gym membership is required to attend. Open to adults age 18 and up; all abilities and experience levels. No registration necessary. Fee for class is on a sliding scale from $5-$20\, cash or check accepted. See you at the Y! \nFor more information email Olivia O’Hare or call 512-454-9912.
URL:https://www.artsparktx.org/event/body-shift-elements-class-2/
LOCATION:Town Lake YMCA\, 1100 W. Cesar Chavez Street\, Austin\, TX\, 78703\, United States
CATEGORIES:Body Shift
ATTACH;FMTTYPE=image/jpeg:https://www.artsparktx.org/wp-content/uploads/amy-class.jpg
ORGANIZER;CN="Olivia O'Hare":MAILTO:olivia@bodyshift.org
END:VEVENT
BEGIN:VEVENT
DTSTART;TZID=America/Chicago:20190126T143000
DTEND;TZID=America/Chicago:20190126T163000
DTSTAMP:20260422T180252
CREATED:20181220T195003Z
LAST-MODIFIED:20181220T195003Z
UID:10001028-1548513000-1548520200@www.artsparktx.org
SUMMARY:Body Shift Elements Class
DESCRIPTION:The Elements class takes place every 2nd and 4th Saturday of the month from 2:30-4:30pm at the Town Lake YMCA in the large group exercise room on the first floor. \nClass will be taught by DanceAbility instructor Tanya Winters. \n  \nSimply\, Tanya loves to dance! She enjoys pushing the boundaries of art and disability. She began dancing in 2007 at Austin Community College and has been a regular Body Shift participant since its inception. She has had the privilege of studying with several wonderful dancers including Alito Alessi\, Nina Martin\, Karen Nelson\, and Stephen Koplowitz. Tanya became a certified DanceAbility instructor in 2011. She has participated in many student projects including the Justice Project\, The Way You Move Your Body\, Bodies in Public Space\, and Being/With Others. She has enjoyed dancing in several Body Shift pieces including Crippin’ the Streets\, Your Way of Thinking\, and Echo. She is a co-choreographer of Together and Apart and is currently working on a solo piece called Who am I Now. \n  \nElements is an on-going class in which we study dance and movement improvisation as well as somatics. DanceAbility is our foundational method with which we work to ensure inclusion. It is an equal collaboration and learning environment for every ‘body’ regardless of unique physical or mental characteristics. No gym membership is required to attend. Open to adults age 18 and up; all abilities and experience levels. No registration necessary. Fee for class is on a sliding scale from $5-$20\, cash or check accepted. See you at the Y! \nFor more information email Olivia O’Hare or call 512-454-9912.
URL:https://www.artsparktx.org/event/body-shift-elements-class-3/
LOCATION:Town Lake YMCA\, 1100 W. Cesar Chavez Street\, Austin\, TX\, 78703\, United States
CATEGORIES:Body Shift
ATTACH;FMTTYPE=image/jpeg:https://www.artsparktx.org/wp-content/uploads/tanyaclass.jpg
ORGANIZER;CN="Olivia O'Hare":MAILTO:olivia@bodyshift.org
END:VEVENT
END:VCALENDAR