BEGIN:VCALENDAR
VERSION:2.0
PRODID:-//Art Spark Texas - ECPv6.15.20//NONSGML v1.0//EN
CALSCALE:GREGORIAN
METHOD:PUBLISH
X-ORIGINAL-URL:https://www.artsparktx.org
X-WR-CALDESC:Events for Art Spark Texas
REFRESH-INTERVAL;VALUE=DURATION:PT1H
X-Robots-Tag:noindex
X-PUBLISHED-TTL:PT1H
BEGIN:VTIMEZONE
TZID:America/Chicago
BEGIN:DAYLIGHT
TZOFFSETFROM:-0600
TZOFFSETTO:-0500
TZNAME:CDT
DTSTART:20180311T080000
END:DAYLIGHT
BEGIN:STANDARD
TZOFFSETFROM:-0500
TZOFFSETTO:-0600
TZNAME:CST
DTSTART:20181104T070000
END:STANDARD
BEGIN:DAYLIGHT
TZOFFSETFROM:-0600
TZOFFSETTO:-0500
TZNAME:CDT
DTSTART:20190310T080000
END:DAYLIGHT
BEGIN:STANDARD
TZOFFSETFROM:-0500
TZOFFSETTO:-0600
TZNAME:CST
DTSTART:20191103T070000
END:STANDARD
BEGIN:DAYLIGHT
TZOFFSETFROM:-0600
TZOFFSETTO:-0500
TZNAME:CDT
DTSTART:20200308T080000
END:DAYLIGHT
BEGIN:STANDARD
TZOFFSETFROM:-0500
TZOFFSETTO:-0600
TZNAME:CST
DTSTART:20201101T070000
END:STANDARD
END:VTIMEZONE
BEGIN:VEVENT
DTSTART;TZID=America/Chicago:20190413T143000
DTEND;TZID=America/Chicago:20190413T163000
DTSTAMP:20260422T124534
CREATED:20190316T014158Z
LAST-MODIFIED:20190407T232557Z
UID:10001239-1555165800-1555173000@www.artsparktx.org
SUMMARY:Body Shift Elements Class
DESCRIPTION:The Elements class takes place every 2nd and 4th Saturday of the month from 2:30-4:30pm at the Town Lake YMCA in the large group exercise room on the first floor. \nElements is an on-going class in which we study dance and movement improvisation as well as somatics. DanceAbility is our foundational method with which we work to ensure inclusion. It is an equal collaboration and learning environment for every ‘body’ regardless of unique physical or mental characteristics. No gym membership is required to attend. Open to adults age 18 and up; all abilities and experience levels. No registration necessary. Fee for class is on a sliding scale from $5-$20\, cash or check accepted. See you at the Y! \nNEW! You can now pay class fees online here. \nFor more information email Olivia O’Hare or call 512-454-9912.
URL:https://www.artsparktx.org/event/body-shift-elements-class-6/
LOCATION:Town Lake YMCA\, 1100 W. Cesar Chavez Street\, Austin\, TX\, 78703\, United States
CATEGORIES:Body Shift
ATTACH;FMTTYPE=image/jpeg:https://www.artsparktx.org/wp-content/uploads/YWOT-lores7.jpg
ORGANIZER;CN="Olivia O'Hare":MAILTO:olivia@bodyshift.org
END:VEVENT
BEGIN:VEVENT
DTSTART;TZID=America/Chicago:20190427T143000
DTEND;TZID=America/Chicago:20190427T163000
DTSTAMP:20260422T124534
CREATED:20190316T014500Z
LAST-MODIFIED:20190407T231915Z
UID:10001242-1556375400-1556382600@www.artsparktx.org
SUMMARY:Body Shift Elements Class
DESCRIPTION:The Elements class takes place every 2nd and 4th Saturday of the month from 2:30-4:30pm at the Town Lake YMCA in the large group exercise room on the first floor. \nElements is an on-going class in which we study dance and movement improvisation as well as somatics. DanceAbility is our foundational method with which we work to ensure inclusion. It is an equal collaboration and learning environment for every ‘body’ regardless of unique physical or mental characteristics. No gym membership is required to attend. Open to adults age 18 and up; all abilities and experience levels. No registration necessary. Fee for class is on a sliding scale from $5-$20\, cash or check accepted. See you at the Y! \nNEW! You can now pay class fees online here. \nFor more information email Olivia O’Hare or call 512-454-9912.
URL:https://www.artsparktx.org/event/body-shift-elements-class-7/
LOCATION:Town Lake YMCA\, 1100 W. Cesar Chavez Street\, Austin\, TX\, 78703\, United States
CATEGORIES:Body Shift
ATTACH;FMTTYPE=image/jpeg:https://www.artsparktx.org/wp-content/uploads/YWOT-lores35.jpg
ORGANIZER;CN="Olivia O'Hare":MAILTO:olivia@bodyshift.org
END:VEVENT
END:VCALENDAR