BEGIN:VCALENDAR
VERSION:2.0
PRODID:-//Art Spark Texas - ECPv6.15.20//NONSGML v1.0//EN
CALSCALE:GREGORIAN
METHOD:PUBLISH
X-ORIGINAL-URL:https://www.artsparktx.org
X-WR-CALDESC:Events for Art Spark Texas
REFRESH-INTERVAL;VALUE=DURATION:PT1H
X-Robots-Tag:noindex
X-PUBLISHED-TTL:PT1H
BEGIN:VTIMEZONE
TZID:America/Chicago
BEGIN:DAYLIGHT
TZOFFSETFROM:-0600
TZOFFSETTO:-0500
TZNAME:CDT
DTSTART:20190310T080000
END:DAYLIGHT
BEGIN:STANDARD
TZOFFSETFROM:-0500
TZOFFSETTO:-0600
TZNAME:CST
DTSTART:20191103T070000
END:STANDARD
BEGIN:DAYLIGHT
TZOFFSETFROM:-0600
TZOFFSETTO:-0500
TZNAME:CDT
DTSTART:20200308T080000
END:DAYLIGHT
BEGIN:STANDARD
TZOFFSETFROM:-0500
TZOFFSETTO:-0600
TZNAME:CST
DTSTART:20201101T070000
END:STANDARD
BEGIN:DAYLIGHT
TZOFFSETFROM:-0600
TZOFFSETTO:-0500
TZNAME:CDT
DTSTART:20210314T080000
END:DAYLIGHT
BEGIN:STANDARD
TZOFFSETFROM:-0500
TZOFFSETTO:-0600
TZNAME:CST
DTSTART:20211107T070000
END:STANDARD
END:VTIMEZONE
BEGIN:VEVENT
DTSTART;TZID=America/Chicago:20200314T143000
DTEND;TZID=America/Chicago:20200314T163000
DTSTAMP:20260421T182137
CREATED:20190709T231029Z
LAST-MODIFIED:20200313T164307Z
UID:10001289-1584196200-1584203400@www.artsparktx.org
SUMMARY:Elements Dance Class (canceled)
DESCRIPTION:We have canceled this event. Please click here for more information.  Art Spark Texas offers the Elements dance class every 2nd and 4th Saturday of the month from 2:30-4:30pm at the Town Lake YMCA in the large group exercise room on the first floor. Instructor: Silva Laukkanen \nElements is an ongoing class for people familiar with dance improvisation and want to go into the practice in a supportive environment. We study dance and movement improvisation and somatics. No gym membership is required to attend. Open to adults age 18 and up; all abilities with some dance experience. No registration necessary. The class fee is on a sliding scale from $5-$20\, cash or check accepted. You can pay the class fee online here. See you at the Y! \nFor more information\, email Silva Laukkanen or call (512) 454-9912.
URL:https://www.artsparktx.org/event/elements-dance-class-2nd-saturday-2020-03-14/
LOCATION:Town Lake YMCA\, 1100 W. Cesar Chavez Street\, Austin\, TX\, 78703\, United States
CATEGORIES:Integrated Dance
ATTACH;FMTTYPE=image/jpeg:https://www.artsparktx.org/wp-content/uploads/Foundations2.jpg
ORGANIZER;CN="Art Spark Texas - Integrated Dance":MAILTO:silva@artsparktx.org
END:VEVENT
BEGIN:VEVENT
DTSTART;TZID=America/Chicago:20200328T143000
DTEND;TZID=America/Chicago:20200328T163000
DTSTAMP:20260421T182137
CREATED:20190709T231029Z
LAST-MODIFIED:20200313T164628Z
UID:10001290-1585405800-1585413000@www.artsparktx.org
SUMMARY:Elements Dance Class (canceled)
DESCRIPTION:We have canceled this event. Please click here for more information. Art Spark Texas offers the Elements dance class every 2nd and 4th Saturday of the month from 2:30-4:30pm at the Town Lake YMCA in the large group exercise room on the first floor. Instructor: Silva Laukkanen \nElements is an ongoing class for people familiar with dance improvisation and want to go into the practice in a supportive environment. We study dance and movement improvisation and somatics. No gym membership is required to attend. Open to adults age 18 and up; all abilities with some dance experience. No registration necessary. The class fee is on a sliding scale from $5-$20\, cash or check accepted. You can pay the class fee online here. See you at the Y! \nFor more information\, email Silva Laukkanen or call (512) 454-9912.
URL:https://www.artsparktx.org/event/elements-dance-class-2nd-saturday-2020-03-28/
LOCATION:Town Lake YMCA\, 1100 W. Cesar Chavez Street\, Austin\, TX\, 78703\, United States
CATEGORIES:Integrated Dance
ATTACH;FMTTYPE=image/jpeg:https://www.artsparktx.org/wp-content/uploads/Foundations2.jpg
ORGANIZER;CN="Art Spark Texas - Integrated Dance":MAILTO:silva@artsparktx.org
END:VEVENT
END:VCALENDAR