BEGIN:VCALENDAR
VERSION:2.0
PRODID:-//Art Spark Texas - ECPv6.15.20//NONSGML v1.0//EN
CALSCALE:GREGORIAN
METHOD:PUBLISH
X-ORIGINAL-URL:https://www.artsparktx.org
X-WR-CALDESC:Events for Art Spark Texas
REFRESH-INTERVAL;VALUE=DURATION:PT1H
X-Robots-Tag:noindex
X-PUBLISHED-TTL:PT1H
BEGIN:VTIMEZONE
TZID:America/Chicago
BEGIN:DAYLIGHT
TZOFFSETFROM:-0600
TZOFFSETTO:-0500
TZNAME:CDT
DTSTART:20190310T080000
END:DAYLIGHT
BEGIN:STANDARD
TZOFFSETFROM:-0500
TZOFFSETTO:-0600
TZNAME:CST
DTSTART:20191103T070000
END:STANDARD
BEGIN:DAYLIGHT
TZOFFSETFROM:-0600
TZOFFSETTO:-0500
TZNAME:CDT
DTSTART:20200308T080000
END:DAYLIGHT
BEGIN:STANDARD
TZOFFSETFROM:-0500
TZOFFSETTO:-0600
TZNAME:CST
DTSTART:20201101T070000
END:STANDARD
BEGIN:DAYLIGHT
TZOFFSETFROM:-0600
TZOFFSETTO:-0500
TZNAME:CDT
DTSTART:20210314T080000
END:DAYLIGHT
BEGIN:STANDARD
TZOFFSETFROM:-0500
TZOFFSETTO:-0600
TZNAME:CST
DTSTART:20211107T070000
END:STANDARD
END:VTIMEZONE
BEGIN:VEVENT
DTSTART;TZID=America/Chicago:20200509T143000
DTEND;TZID=America/Chicago:20200509T151500
DTSTAMP:20260421T150014
CREATED:20200506T201109Z
LAST-MODIFIED:20200506T210546Z
UID:10001374-1589034600-1589037300@www.artsparktx.org
SUMMARY:Virtual Elements Class with Alito Alessi
DESCRIPTION:Join us for our first virtual Elements class\, facilitated by Alito Alessi. The class will meet virtually through the Zoom app on Saturday\, May 9th from 2.30-3.15pm. \nYou can join us by following the provided zoom link. \nTopic: Alito Alessi’s Zoom Meeting\nDay: Saturday\, May 9\, 2020\nTime: 2.30 PM Central Time\, 12:30 PM Pacific Time (US and Canada)\, \nJoin Zoom Meeting Link\nMeeting ID: 867 7704 8552\nPassword: 006659 \nClass fee is on sliding scale $5-20 but you are welcome to join us without donation.\nDonation accepted here: https://www.artsparktx.org/product/body-shift-elements-class/ \n \nPhoto courtesy from this article:\nhttps://www.berkeleyside.com/2016/07/05/abled-disabled-connect-through-dance-in-danceability
URL:https://www.artsparktx.org/event/virtual-elements-class-with-alito-alessi/
LOCATION:TX
CATEGORIES:Dance
ATTACH;FMTTYPE=image/jpeg:https://www.artsparktx.org/wp-content/uploads/AST-Dance.jpg
ORGANIZER;CN="Art Spark Texas - Dance":MAILTO:silva@artsparktx.org
END:VEVENT
BEGIN:VEVENT
DTSTART;TZID=America/Chicago:20200523T143000
DTEND;TZID=America/Chicago:20200523T153000
DTSTAMP:20260421T150014
CREATED:20200518T190755Z
LAST-MODIFIED:20200518T202458Z
UID:10001375-1590244200-1590247800@www.artsparktx.org
SUMMARY:Virtual Elements Dance Class
DESCRIPTION:Photo by Camille Wheeler\nVirtual Elements dance class this Saturday\, the 23rd from 2.30-3.30pm Alito Alessi will facilitate class. Class fee is on a sliding scale from $5-$20 and you can donate in this link: https://www.artsparktx.org/product/body-shift-elements-class/ \nCome and join our virtual class and get a chance to be in your body\, relax and be creative. \nJoin Zoom Meeting\nMeeting ID: 884 9165 8448\nPassword: 241677\nOne tap mobile\n+13462487799\,\,88491658448#\,\,1#\,241677# US (Houston)\n+16699006833\,\,88491658448#\,\,1#\,241677# US (San Jose) \nDial by your location\n+1 346 248 7799 US (Houston)\n+1 669 900 6833 US (San Jose)\n+1 253 215 8782 US (Tacoma)\n+1 312 626 6799 US (Chicago)\n+1 929 205 6099 US (New York)\n+1 301 715 8592 US (Germantown)\nMeeting ID: 884 9165 8448\nPassword: 241677 \nClass fee is on a sliding scale from $5-$20 and you can donate in this link: https://www.artsparktx.org/product/body-shift-elements-class/
URL:https://www.artsparktx.org/event/virtual-elements-dance-class/
LOCATION:TX
CATEGORIES:Dance
ATTACH;FMTTYPE=image/jpeg:https://www.artsparktx.org/wp-content/uploads/AST-Dance.jpg
ORGANIZER;CN="Art Spark Texas - Dance":MAILTO:silva@artsparktx.org
END:VEVENT
END:VCALENDAR