BEGIN:VCALENDAR
VERSION:2.0
PRODID:-//Art Spark Texas - ECPv6.15.20//NONSGML v1.0//EN
CALSCALE:GREGORIAN
METHOD:PUBLISH
X-WR-CALNAME:Art Spark Texas
X-ORIGINAL-URL:https://www.artsparktx.org
X-WR-CALDESC:Events for Art Spark Texas
REFRESH-INTERVAL;VALUE=DURATION:PT1H
X-Robots-Tag:noindex
X-PUBLISHED-TTL:PT1H
BEGIN:VTIMEZONE
TZID:America/Chicago
BEGIN:DAYLIGHT
TZOFFSETFROM:-0600
TZOFFSETTO:-0500
TZNAME:CDT
DTSTART:20190310T080000
END:DAYLIGHT
BEGIN:STANDARD
TZOFFSETFROM:-0500
TZOFFSETTO:-0600
TZNAME:CST
DTSTART:20191103T070000
END:STANDARD
BEGIN:DAYLIGHT
TZOFFSETFROM:-0600
TZOFFSETTO:-0500
TZNAME:CDT
DTSTART:20200308T080000
END:DAYLIGHT
BEGIN:STANDARD
TZOFFSETFROM:-0500
TZOFFSETTO:-0600
TZNAME:CST
DTSTART:20201101T070000
END:STANDARD
BEGIN:DAYLIGHT
TZOFFSETFROM:-0600
TZOFFSETTO:-0500
TZNAME:CDT
DTSTART:20210314T080000
END:DAYLIGHT
BEGIN:STANDARD
TZOFFSETFROM:-0500
TZOFFSETTO:-0600
TZNAME:CST
DTSTART:20211107T070000
END:STANDARD
END:VTIMEZONE
BEGIN:VEVENT
DTSTART;TZID=America/Chicago:20200613T143000
DTEND;TZID=America/Chicago:20200613T153000
DTSTAMP:20260421T131927
CREATED:20200601T195905Z
LAST-MODIFIED:20200601T210206Z
UID:10001382-1592058600-1592062200@www.artsparktx.org
SUMMARY:Virtual Elements Dance Class
DESCRIPTION:Movement as Metaphor with Laurel Crawford\n“Movement is the medium in which we live our lives.” – Marian Chace \nIn this elements class we’ll use movement as a method of self-exploration to learn more about yourself. Learn what your movement patterns and preferences say about you! We’ll use movement invitations based on Laban efforts to try on different qualities of movement and discover what’s inside our comfort zone\, and where we can get stuck. We’ll identify strengths\, patterns\, and ways to shift your energy. \nTopic: Movement as Metaphor with Laurel Crawford \nTime: Jun 13\, 2020 – Zoom meeting opens at 2pm\, class starts at 2:30 pm Central Time (US and Canada) \nClass fee $5-20\, you can pay online here: https://www.artsparktx.org/product/body-shift-elements-class/ \nJoin Zoom Meeting \n\nMeeting ID: 898 9318 1005\nPassword: 654050\nOne tap mobile\n+13462487799\,\,89893181005# US (Houston)\n+16699006833\,\,89893181005# US (San Jose)\n\nDial by your location \n+1 346 248 7799 US (Houston)\n+1 669 900 6833 US (San Jose)\n+1 253 215 8782 US (Tacoma)\n+1 408 638 0968 US (San Jose)\n+1 646 876 9923 US (New York)\n+1 301 715 8592 US (Germantown)\n+1 312 626 6799 US (Chicago) \nMeeting ID: 898 9318 1005\nFind your local number: https://us02web.zoom.us/u/kcMPOGQpRE \n\n[Image Description: Woman sitting on a green grass in front of a brick wall. She has long red hair\, black dress and she has a big smile on her face.]
URL:https://www.artsparktx.org/event/virtual-elements-class-june-13/
LOCATION:TX
CATEGORIES:Dance
ATTACH;FMTTYPE=image/png:https://www.artsparktx.org/wp-content/uploads/laural_crawford.png
ORGANIZER;CN="Art Spark Texas - Dance":MAILTO:silva@artsparktx.org
END:VEVENT
BEGIN:VEVENT
DTSTART;TZID=America/Chicago:20200627T143000
DTEND;TZID=America/Chicago:20200627T153000
DTSTAMP:20260421T131927
CREATED:20200601T201035Z
LAST-MODIFIED:20200601T210216Z
UID:10001383-1593268200-1593271800@www.artsparktx.org
SUMMARY:Virtual Elements Dance Class
DESCRIPTION:Intentional Movement with Laurel Crawford\nAwareness / Acceptance / Setting an Intention / Deepening that Intention with Movement \nIn this elements class we’ll use movement experientials to move through the change cycle. We’ll gain awareness of our sensation and our movement\, practices acceptance of the present state\, set an intention for the future\, and deepen that intention by embodying it in movement. This will include both directed and self-guided movement. \nTopic: Intentional Movement with Laurel Crawford \nTime: Jun 27\, 2020 – Zoom meeting opens at 2pm\, class starts at 2:30 pm Central Time (US and Canada) \nClass fee $5-20\, you can pay online here: https://www.artsparktx.org/product/body-shift-elements-class/ \nJoin Zoom Meeting\n\nMeeting ID: 841 5515 7888\nPassword: 470250\nOne tap mobile\n+13462487799\,\,84155157888# US (Houston)\n+12532158782\,\,84155157888# US (Tacoma)\n\nDial by your location\n        +1 346 248 7799 US (Houston)\n        +1 253 215 8782 US (Tacoma)\n        +1 408 638 0968 US (San Jose)\n        +1 669 900 6833 US (San Jose)\n        +1 301 715 8592 US (Germantown)\n        +1 312 626 6799 US (Chicago)\n        +1 646 876 9923 US (New York)\n\nMeeting ID: 841 5515 7888\nFind your local number: https://us02web.zoom.us/u/kCSunevzd\n\n\n[Image Description: Woman in a room with light wood floors and exposed stone wall. She has a long red hair and long back dress. She is standing and has her left arm extended diagonally. She is smiling.]
URL:https://www.artsparktx.org/event/virtual-elements-class-june-27/
LOCATION:TX
CATEGORIES:Dance
ATTACH;FMTTYPE=image/jpeg:https://www.artsparktx.org/wp-content/uploads/thumbnail_Laurel-Portrait-Dancing.jpg
ORGANIZER;CN="Art Spark Texas - Dance":MAILTO:silva@artsparktx.org
END:VEVENT
END:VCALENDAR