BEGIN:VCALENDAR
VERSION:2.0
PRODID:-//Art Spark Texas - ECPv6.15.20//NONSGML v1.0//EN
CALSCALE:GREGORIAN
METHOD:PUBLISH
X-WR-CALNAME:Art Spark Texas
X-ORIGINAL-URL:https://www.artsparktx.org
X-WR-CALDESC:Events for Art Spark Texas
REFRESH-INTERVAL;VALUE=DURATION:PT1H
X-Robots-Tag:noindex
X-PUBLISHED-TTL:PT1H
BEGIN:VTIMEZONE
TZID:America/Chicago
BEGIN:DAYLIGHT
TZOFFSETFROM:-0600
TZOFFSETTO:-0500
TZNAME:CDT
DTSTART:20190310T080000
END:DAYLIGHT
BEGIN:STANDARD
TZOFFSETFROM:-0500
TZOFFSETTO:-0600
TZNAME:CST
DTSTART:20191103T070000
END:STANDARD
BEGIN:DAYLIGHT
TZOFFSETFROM:-0600
TZOFFSETTO:-0500
TZNAME:CDT
DTSTART:20200308T080000
END:DAYLIGHT
BEGIN:STANDARD
TZOFFSETFROM:-0500
TZOFFSETTO:-0600
TZNAME:CST
DTSTART:20201101T070000
END:STANDARD
BEGIN:DAYLIGHT
TZOFFSETFROM:-0600
TZOFFSETTO:-0500
TZNAME:CDT
DTSTART:20210314T080000
END:DAYLIGHT
BEGIN:STANDARD
TZOFFSETFROM:-0500
TZOFFSETTO:-0600
TZNAME:CST
DTSTART:20211107T070000
END:STANDARD
END:VTIMEZONE
BEGIN:VEVENT
DTSTART;TZID=America/Chicago:20201212T143000
DTEND;TZID=America/Chicago:20201212T163000
DTSTAMP:20260421T033855
CREATED:20201209T155127Z
LAST-MODIFIED:20201209T155127Z
UID:10001516-1607783400-1607790600@www.artsparktx.org
SUMMARY:Elements Class: End of Year Get Together!
DESCRIPTION:On December 12th we will gather from 2.30-4.3opm CT on zoom to watch “Artificial Things” and honor the memory and legacy of Dave Toole. We will also discuss about creativity\, the coming year and what is happening with Art Spark Dance and Body Shift Collective as well as dancing\, of course. Feel free to join us if you are new to our dance class. This is a great way to learn more about this program.\nYou can join this virtually in the link below. \nLet’s get together and connect!\nTime: December 12th 2020\, 2.30-4.30pm CT\nJoin Zoom Meeting\nMeeting ID: 842 7407 0780\nPasscode: 037776\nClass is free.
URL:https://www.artsparktx.org/event/elements-class-end-of-year-get-together/
LOCATION:TX
CATEGORIES:Dance
ATTACH;FMTTYPE=image/jpeg:https://www.artsparktx.org/wp-content/uploads/twohandstogether-scaled.jpeg
ORGANIZER;CN="Art Spark Texas - Dance":MAILTO:silva@artsparktx.org
END:VEVENT
END:VCALENDAR