BEGIN:VCALENDAR
VERSION:2.0
PRODID:-//Art Spark Texas - ECPv6.15.20//NONSGML v1.0//EN
CALSCALE:GREGORIAN
METHOD:PUBLISH
X-ORIGINAL-URL:https://www.artsparktx.org
X-WR-CALDESC:Events for Art Spark Texas
REFRESH-INTERVAL;VALUE=DURATION:PT1H
X-Robots-Tag:noindex
X-PUBLISHED-TTL:PT1H
BEGIN:VTIMEZONE
TZID:America/Chicago
BEGIN:DAYLIGHT
TZOFFSETFROM:-0600
TZOFFSETTO:-0500
TZNAME:CDT
DTSTART:20240310T080000
END:DAYLIGHT
BEGIN:STANDARD
TZOFFSETFROM:-0500
TZOFFSETTO:-0600
TZNAME:CST
DTSTART:20241103T070000
END:STANDARD
BEGIN:DAYLIGHT
TZOFFSETFROM:-0600
TZOFFSETTO:-0500
TZNAME:CDT
DTSTART:20250309T080000
END:DAYLIGHT
BEGIN:STANDARD
TZOFFSETFROM:-0500
TZOFFSETTO:-0600
TZNAME:CST
DTSTART:20251102T070000
END:STANDARD
BEGIN:DAYLIGHT
TZOFFSETFROM:-0600
TZOFFSETTO:-0500
TZNAME:CDT
DTSTART:20260308T080000
END:DAYLIGHT
BEGIN:STANDARD
TZOFFSETFROM:-0500
TZOFFSETTO:-0600
TZNAME:CST
DTSTART:20261101T070000
END:STANDARD
END:VTIMEZONE
BEGIN:VEVENT
DTSTART;TZID=America/Chicago:20250601T130000
DTEND;TZID=America/Chicago:20250601T153000
DTSTAMP:20260420T010236
CREATED:20250514T192113Z
LAST-MODIFIED:20250514T192524Z
UID:10002291-1748782800-1748791800@www.artsparktx.org
SUMMARY:Moulin Rouge! at the Majestic Theatre
DESCRIPTION:Enter a world of splendor and romance\, of eye-popping excess\, of glitz\, grandeur\, and glory! A world where Bohemians and aristocrats rub elbows and revel in electrifying enchantment. Welcome to Moulin Rouge! The Musical! Baz Luhrmann’s revolutionary film comes to life onstage\, remixed in a new musical mash-up extravaganza. Directed by Tony Award® winner Alex Timbers\, Moulin Rouge! The Musical is a theatrical celebration of Truth\, Beauty\, Freedom\, and—above all—Love. With a book by Tony Award® winner John Logan; music supervision\, orchestrations\, and arrangements by Tony Award® winner Justin Levine; and choreography by Tony Award® winner Sonya Tayeh\, Moulin Rouge! is more than a musical—it is a state of mind. \nOpen Caption and Audio Description will take place on Sunday\, June 1st\, 2025\, at 1:00 pm and Saturday\, June 7th at 2:00pm. \nGalaPro will be available for the entire run of each show. \nGroups of 10+ call 210-226-5967 for special pricing.
URL:https://www.artsparktx.org/event/moulin-rouge-at-the-majestic-theatre/
LOCATION:Majestic Theatre\, 224 E. Houston Street\, San Antonio\, TX\, 78205\, United States
CATEGORIES:Audio Described Performances
ATTACH;FMTTYPE=image/webp:https://www.artsparktx.org/wp-content/uploads/large-san_2425_partner_website_banners_mro_1800x600_a.webp
END:VEVENT
BEGIN:VEVENT
DTSTART;VALUE=DATE:20250602
DTEND;VALUE=DATE:20250603
DTSTAMP:20260420T010236
CREATED:20250327T225512Z
LAST-MODIFIED:20250328T180108Z
UID:10002273-1748822400-1748908799@www.artsparktx.org
SUMMARY:Call for Entries: Expressions 2025 Exhibition
DESCRIPTION:Mental Illness Awareness Week is an annual national observance that a 1986 presidential proclamation created to recognize “the urgent need to educate the American public about mental illnesses and their treatments.”  The 2025 Mental Illness Awareness Week activities will be held from Oct 5\, 2025 – Oct 11\, 2025.  During this week\, millions of Americans will honor the challenges of mental illness\, as well as celebrate the recoveries they or their loved ones have embraced.\n\nArt Spark Texas is hosting “Expressions” our annual Mental Illness Awareness Week art exhibition at Barshop Jewish Community Center of  San Antonio Texas through the month of October with an art opening on Thursday\, October 23rd from 5:00-8:00 pm.\n\nArt Spark Texas invites all artists ages 18+ in San Antonio and surrounding areas with a mental health diagnosis to submit artwork to the exhibition. There is no entry fee and 2D and 3D works in all media are eligible. The exhibit will be on display at Barshop Jewish Community Center in San Antonio in October 2025. \nFill out the linked registration form to participate: \nExpression Call for Art 2025 \nPlease contact our organization or Expressions Exhibit Coordinator Susan Beattie at 210-908-1776 if you have any further questions.
URL:https://www.artsparktx.org/event/call-for-entries-deadline-expressions-2024-exhibition/2025-06-02/
LOCATION:Barshop Jewish Community Center\, 12500 NW Military Hwy #275\, San Antonio\, TX\, 78231\, United States
CATEGORIES:Calls for Art
ATTACH;FMTTYPE=image/jpeg:https://www.artsparktx.org/wp-content/uploads/Expressions-2025-square-.jpg
ORGANIZER;CN="April Sullivan":MAILTO:april@artsparktx.org
END:VEVENT
BEGIN:VEVENT
DTSTART;TZID=America/Chicago:20250607T140000
DTEND;TZID=America/Chicago:20250607T163000
DTSTAMP:20260420T010236
CREATED:20250514T192736Z
LAST-MODIFIED:20250514T201809Z
UID:10002292-1749304800-1749313800@www.artsparktx.org
SUMMARY:Moulin Rouge! at the Majestic Theatre
DESCRIPTION:Enter a world of splendor and romance\, of eye-popping excess\, of glitz\, grandeur\, and glory! A world where Bohemians and aristocrats rub elbows and revel in electrifying enchantment. Welcome to Moulin Rouge! The Musical! Baz Luhrmann’s revolutionary film comes to life onstage\, remixed in a new musical mash-up extravaganza. Directed by Tony Award® winner Alex Timbers\, Moulin Rouge! The Musical is a theatrical celebration of Truth\, Beauty\, Freedom\, and—above all—Love. With a book by Tony Award® winner John Logan; music supervision\, orchestrations\, and arrangements by Tony Award® winner Justin Levine; and choreography by Tony Award® winner Sonya Tayeh\, Moulin Rouge! is more than a musical—it is a state of mind. \nOpen Caption and Audio Description will take place on Sunday\, June 1st\, 2025\, at 1:00 pm and Saturday\, June 7th at 2:00pm. \nGalaPro will be available for the entire run of each show. \nGroups of 10+ call 210-226-5967 for special pricing.
URL:https://www.artsparktx.org/event/moulin-rouge-at-the-majestic-theatre-2/
LOCATION:Majestic Theatre\, 224 E. Houston Street\, San Antonio\, TX\, 78205\, United States
CATEGORIES:Audio Described Performances
ATTACH;FMTTYPE=image/webp:https://www.artsparktx.org/wp-content/uploads/large-san_2425_partner_website_banners_mro_1800x600_a.webp
END:VEVENT
BEGIN:VEVENT
DTSTART;TZID=America/Chicago:20250607T190000
DTEND;TZID=America/Chicago:20250607T203000
DTSTAMP:20260420T010236
CREATED:20250318T223507Z
LAST-MODIFIED:20250319T153426Z
UID:10001668-1749322800-1749328200@www.artsparktx.org
SUMMARY:The Lion & Pirate - Virtual Writing Group
DESCRIPTION:Join us for our Lion and Pirate writers group \n🗓️ **When**: Saturday\, June 7th\, 2025 \n🕖 **Time**: 7:00 – 8:30 PM CDT \n\nGet settled and say hi to everyone (like usual).\nLaura will screen share and read a couple of writing prompts.\nTime for questions.\nFree write for 30 minutes (it will go faster than you think)!\nRead us what you wrote or tell us about your experience (only if you want to)!\nDebrief: how was this? What worked? What do you want to see done differently next time?\n\nIf you have any questions\, please email Laura at lperna@txdisabilities.org \nPLEASE NOTE: Zoom link for event here
URL:https://www.artsparktx.org/event/the-lion-pirate-virtual-writing-group-2/
LOCATION:Virtual
CATEGORIES:Accessible Performances,Classes,Community Events,Open Mic,Virtual Classes
ATTACH;FMTTYPE=image/png:https://www.artsparktx.org/wp-content/uploads/LP-FB-event-cover-VIRTUAL-generic.png
END:VEVENT
BEGIN:VEVENT
DTSTART;TZID=America/Chicago:20250612T103000
DTEND;TZID=America/Chicago:20250612T113000
DTSTAMP:20260420T010236
CREATED:20221118T182013Z
LAST-MODIFIED:20250207T163854Z
UID:10001962-1749724200-1749727800@www.artsparktx.org
SUMMARY:Texas Veterans Strong Creative Network
DESCRIPTION:Join us for this monthly virtual creative network that connects Arts Organization\, Veteran Organizations\, and Creative Veterans to share ideas\, network\, and collaborate to elevate and support or creative Texas Veterans. Together\, we are strong! \nRegister to receive the meeting link: tps://us06web.zoom.us/meeting/register/tZMrdOmgpzMsHNYYU-Wv-UyUGYxf7d6OvDrU \n 
URL:https://www.artsparktx.org/event/texas-veterans-strong-creative-network-2023-12-14/2025-06-12/
LOCATION:Virtual
CATEGORIES:Classes for Veterans,Veterans
ATTACH;FMTTYPE=image/jpeg:https://www.artsparktx.org/wp-content/uploads/Texas-Veterans-strong-1920-×-450-px-April-Sullivan-1.jpg
ORGANIZER;CN="April Sullivan":MAILTO:april@artsparktx.org
END:VEVENT
BEGIN:VEVENT
DTSTART;TZID=America/Chicago:20250621T193000
DTEND;TZID=America/Chicago:20250621T213000
DTSTAMP:20260420T010236
CREATED:20250616T202224Z
LAST-MODIFIED:20250618T192946Z
UID:10002293-1750534200-1750541400@www.artsparktx.org
SUMMARY:JK's Just Kidding Variety Hour: Audio Described by Celia Hughes
DESCRIPTION:JK’s Just Kidding Variety Hour: Summer Solstice Edition\nThe Solstice and Equinox symbolize the transition of seasons\, rebirth\, and renewal. Let’s come together and celebrate the changing seasons as a community. Please join us for JK’s Just Kidding\, a seasonal variety show featuring artists across mediums. \nABOUT THE SHOW: The weekend of the Summer Solstice we have performances by Austin’s first ever Poet Laureate Zell Miller III\, dance legend Kelsey Oliver\, and musician & sound artist J.C. King\, plus animation by the inimitable Annie McCall. Immediately following the performances join us for a reception celebrating Annie McCall\, and the opening of their exhibit “It made sense when I made it OR Everything in its place” in the 4th Floor Gallery. \nTrinity Street Playhouse \n901 Trinity Street \nAustin\, TX 78701 \nTickets and More Information Here.
URL:https://www.artsparktx.org/event/jks-just-kidding-variety-hour-audio-described-by-celia-hughes/
LOCATION:trinity street playhouse\, 901 Trinity Street\, Austin\, 78701\, United States
CATEGORIES:Audio Described Performances
ATTACH;FMTTYPE=image/webp:https://www.artsparktx.org/wp-content/uploads/jkjk-3_photo-by-Minerva-Villa.webp
END:VEVENT
BEGIN:VEVENT
DTSTART;TZID=America/Chicago:20250626T153000
DTEND;TZID=America/Chicago:20250626T170000
DTSTAMP:20260420T010236
CREATED:20250512T173154Z
LAST-MODIFIED:20250512T173154Z
UID:10001968-1750951800-1750957200@www.artsparktx.org
SUMMARY:Therapeutic Art
DESCRIPTION:For all military veterans and active duty.\nFree therapeutic art classes/meet ups on the last Thursday of each month from 3:30pm to 5pm. \nAt Caldwell County VFW Post 8927. \nAddress: 7007 US-183\, Lockhart\, TX 78644
URL:https://www.artsparktx.org/event/texas-veterans-strong-creative-network-2023-12-14-2024-10-10-3/2025-06-26/
LOCATION:Caldwell County VFW Post 8927\, 7007 US-183 Hwy\, Lockhart\, TX\, 78644\, United States
CATEGORIES:Classes for Veterans,Veterans
ATTACH;FMTTYPE=image/gif:https://www.artsparktx.org/wp-content/uploads/VFW-logo.gif
ORGANIZER;CN="Art Spark Texas -Veterans":MAILTO:april@artsparktx.org
END:VEVENT
END:VCALENDAR