BEGIN:VCALENDAR
VERSION:2.0
PRODID:-//Art Spark Texas - ECPv6.15.20//NONSGML v1.0//EN
CALSCALE:GREGORIAN
METHOD:PUBLISH
X-WR-CALNAME:Art Spark Texas
X-ORIGINAL-URL:https://www.artsparktx.org
X-WR-CALDESC:Events for Art Spark Texas
REFRESH-INTERVAL;VALUE=DURATION:PT1H
X-Robots-Tag:noindex
X-PUBLISHED-TTL:PT1H
BEGIN:VTIMEZONE
TZID:America/Chicago
BEGIN:DAYLIGHT
TZOFFSETFROM:-0600
TZOFFSETTO:-0500
TZNAME:CDT
DTSTART:20240310T080000
END:DAYLIGHT
BEGIN:STANDARD
TZOFFSETFROM:-0500
TZOFFSETTO:-0600
TZNAME:CST
DTSTART:20241103T070000
END:STANDARD
BEGIN:DAYLIGHT
TZOFFSETFROM:-0600
TZOFFSETTO:-0500
TZNAME:CDT
DTSTART:20250309T080000
END:DAYLIGHT
BEGIN:STANDARD
TZOFFSETFROM:-0500
TZOFFSETTO:-0600
TZNAME:CST
DTSTART:20251102T070000
END:STANDARD
BEGIN:DAYLIGHT
TZOFFSETFROM:-0600
TZOFFSETTO:-0500
TZNAME:CDT
DTSTART:20260308T080000
END:DAYLIGHT
BEGIN:STANDARD
TZOFFSETFROM:-0500
TZOFFSETTO:-0600
TZNAME:CST
DTSTART:20261101T070000
END:STANDARD
END:VTIMEZONE
BEGIN:VEVENT
DTSTART;VALUE=DATE:20250901
DTEND;VALUE=DATE:20250902
DTSTAMP:20260419T201243
CREATED:20250327T225512Z
LAST-MODIFIED:20250328T180108Z
UID:10002275-1756684800-1756771199@www.artsparktx.org
SUMMARY:Call for Entries: Expressions 2025 Exhibition
DESCRIPTION:Mental Illness Awareness Week is an annual national observance that a 1986 presidential proclamation created to recognize “the urgent need to educate the American public about mental illnesses and their treatments.”  The 2025 Mental Illness Awareness Week activities will be held from Oct 5\, 2025 – Oct 11\, 2025.  During this week\, millions of Americans will honor the challenges of mental illness\, as well as celebrate the recoveries they or their loved ones have embraced.\n\nArt Spark Texas is hosting “Expressions” our annual Mental Illness Awareness Week art exhibition at Barshop Jewish Community Center of  San Antonio Texas through the month of October with an art opening on Thursday\, October 23rd from 5:00-8:00 pm.\n\nArt Spark Texas invites all artists ages 18+ in San Antonio and surrounding areas with a mental health diagnosis to submit artwork to the exhibition. There is no entry fee and 2D and 3D works in all media are eligible. The exhibit will be on display at Barshop Jewish Community Center in San Antonio in October 2025. \nFill out the linked registration form to participate: \nExpression Call for Art 2025 \nPlease contact our organization or Expressions Exhibit Coordinator Susan Beattie at 210-908-1776 if you have any further questions.
URL:https://www.artsparktx.org/event/call-for-entries-deadline-expressions-2024-exhibition/2025-09-01/
LOCATION:Barshop Jewish Community Center\, 12500 NW Military Hwy #275\, San Antonio\, TX\, 78231\, United States
CATEGORIES:Calls for Art
ATTACH;FMTTYPE=image/jpeg:https://www.artsparktx.org/wp-content/uploads/Expressions-2025-square-.jpg
ORGANIZER;CN="April Sullivan":MAILTO:april@artsparktx.org
END:VEVENT
BEGIN:VEVENT
DTSTART;TZID=America/Chicago:20250905T160000
DTEND;TZID=America/Chicago:20250905T180000
DTSTAMP:20260419T201243
CREATED:20250825T192809Z
LAST-MODIFIED:20250825T192809Z
UID:10002315-1757088000-1757095200@www.artsparktx.org
SUMMARY:Cuerpos Fronterizos from Rachel Salcido at UT's DCC
DESCRIPTION:In partnership with the Disability Cultural Center at UT Austin\, join us for Cuerpos Fronterizos\, an inaugural solo art exhibit at from artist Rachel Salcido.\n  \nThe DCC is the first of it’s kind in Texas\, created to celebrate disability culture\, community and advocacy while fostering belonging for students\, alumni\, faculty. It’s opening is a groundbreaking opportunity for the UT community and beyond – join us in celebration at the artist opening reception on September 5th from 4-6pm. The exhibit is on view until December 12th\, 2025 at 100 W. Dean Keeton St. SSB Building\, 2nd Floor in Austin\, Texas.\n 
URL:https://www.artsparktx.org/event/cuerpos-fronterizos-from-rachel-salcido-at-uts-dcc/
LOCATION:Disability Cultural Center at UT\, 100 W Dean Keeton St\, Austin\, 78712\, United States
ATTACH;FMTTYPE=image/jpeg:https://www.artsparktx.org/wp-content/uploads/FLYER-scaled.jpg
END:VEVENT
BEGIN:VEVENT
DTSTART;TZID=America/Chicago:20250907T130000
DTEND;TZID=America/Chicago:20250907T143000
DTSTAMP:20260419T201243
CREATED:20250814T145359Z
LAST-MODIFIED:20250903T172953Z
UID:10002305-1757250000-1757255400@www.artsparktx.org
SUMMARY:Lion & Pirate Open Mic - Virtual Inclusive Writer's Group
DESCRIPTION:Writing Group – Sunday\, September 7 \n1:00 – 2:30 pm\, Central time. \nContact laura at lperna@txdisabilities.org to find how how you can get involved.
URL:https://www.artsparktx.org/event/lion-pirate-open-mic-virtual-inclusive-writers-group/
LOCATION:Virtual
CATEGORIES:Open Mic
ATTACH;FMTTYPE=image/png:https://www.artsparktx.org/wp-content/uploads/L_P-FB-event-cover-WG-2025-09-07.png
END:VEVENT
BEGIN:VEVENT
DTSTART;TZID=America/Chicago:20250920T140000
DTEND;TZID=America/Chicago:20250920T160000
DTSTAMP:20260419T201243
CREATED:20250821T175731Z
LAST-MODIFIED:20250821T175731Z
UID:10002306-1758376800-1758384000@www.artsparktx.org
SUMMARY:Elements Dance Class (Inclusive)
DESCRIPTION:Art Spark Dance’s Elements class is a once a month dance class that is open to everyone\, with or without disabilities\, to explore and develop their own movement style.\n\nLed by professional dance educators\, the class offers a welcoming and supportive environment where you can discover the joy of dance. In this class\, we will be studying dance improvisation\, a structured form of movement that is less technically rigid.\n\nImprovisation allows dancers to explore and create in the moment. Movement material will be developed through creative explorations\, including body mapping using levels\, shapes\, and dynamic frameworks and our everyday life topics. The goal is to empower you to find your own language of movement\, embracing your individuality and creativity. No prior knowledge or experience is needed\, everyone is welcome.\n\n\n\nJoin us to move\, connect\, and enjoy dance in a space where everyone is welcomed and valued. The class takes place every 3rd Saturday of the month from 2 to 4 PM at the Rosedale School\, located at 7505 Silvercrest Dr\, Austin\, TX 78757.\n\nThere is no registration required\, and the fee is on a sliding scale from $5 to $20; however\, no one will be turned away for lack of funds.  \n\nFor questions email dance@artsparktx.org or call 512-454-9912
URL:https://www.artsparktx.org/event/elements-dance-class-inclusive/
LOCATION:Rosedale School\, 7505 Silvercrest Drive\, Austin\, TX\, 78757\, United States
CATEGORIES:Dance
ATTACH;FMTTYPE=image/png:https://www.artsparktx.org/wp-content/uploads/elements-dance.png
ORGANIZER;CN="Art Spark Texas":MAILTO:info@artsparktx.org
END:VEVENT
BEGIN:VEVENT
DTSTART;TZID=America/Chicago:20250921T130000
DTEND;TZID=America/Chicago:20250921T160000
DTSTAMP:20260419T201243
CREATED:20250513T221602Z
LAST-MODIFIED:20250527T180359Z
UID:10002290-1758459600-1758470400@www.artsparktx.org
SUMMARY:Artist of the Year Awards 2025
DESCRIPTION:Art Spark Texas annually honors artists in the discipline of visual art\, dance\, music\, theater\, performance art\, craft\, media and writing. Each year\, the Artist of the Year Awards are given to Texas artists who embody the spirit and vision of Art Spark Texas\, and who challenge the perceptions of how people contribute by demonstrating artistic excellence or leading the way as a community catalyst for change. Invite your friends and family for this free community event and help us honor our artist winners! \nArtist Awards are in 4 Categories: \nThe Haven Street-Allen Artist of the Year Award honors an individual whose work affirms that the power of an artistic spirit\, combined with determination and will\, can influence and shape our society. Each year\, this award is given to an artist with a disability in Texas who embodies the vision of Art Spark Texas. \nThe Lynn Marie Johnson Media Arts Award honors an artist who displays passion and commitment to the promotion and awareness of people with disabilities in our digital world. Each year\, this award is given to an artist with a disability in Texas whose work as producer\, artist\, writer\, director or other creative in the media arts embodies the mission of Art Spark Texas. \nThe SPARK Award honors an up-and-coming artist who represents the inclusive\, arts-inspired world that Art Spark Texas works to create every day. Each year\, this award is given to an emerging Texas artist with a disability whose infectious and innovative spirit shifts perceptions of what people with disabilities can achieve. \nThe Gloria Bond Creative Aging Award honors an older artist who continues to express their creativity and/or demonstrates a willingness to explore new art forms as they age. Each year\, this award is given to a Texas artist who exemplifies the vital aging philosophy of Art Spark Texas. Nominations are open to any individual over the age of 65 years in any discipline\, including visual art\, dance\, music\, performance\, craft\, media and writing. \nEach award includes an honorarium and an invitation to attend our annual event as a guest of honor to be publicly recognized for their achievements. The 2025 event will be in Austin on Sunday\, September 21st\, 2025 from 1-4 pm at the Rollins Theatre. Travel expenses will be covered for out-of-town awardees. \nA panel of judges will jury nominations and the results will be announced in June 2025.
URL:https://www.artsparktx.org/event/artist-of-the-year-awards-2025/
LOCATION:rollins theatre\, 701 W Riverside Dr\, Austin\, TX\, 78704\, United States
CATEGORIES:Artist of the Year Award
END:VEVENT
END:VCALENDAR