BEGIN:VCALENDAR
VERSION:2.0
PRODID:-//Art Spark Texas - ECPv6.15.20//NONSGML v1.0//EN
CALSCALE:GREGORIAN
METHOD:PUBLISH
X-WR-CALNAME:Art Spark Texas
X-ORIGINAL-URL:https://www.artsparktx.org
X-WR-CALDESC:Events for Art Spark Texas
REFRESH-INTERVAL;VALUE=DURATION:PT1H
X-Robots-Tag:noindex
X-PUBLISHED-TTL:PT1H
BEGIN:VTIMEZONE
TZID:America/Chicago
BEGIN:DAYLIGHT
TZOFFSETFROM:-0600
TZOFFSETTO:-0500
TZNAME:CDT
DTSTART:20250309T080000
END:DAYLIGHT
BEGIN:STANDARD
TZOFFSETFROM:-0500
TZOFFSETTO:-0600
TZNAME:CST
DTSTART:20251102T070000
END:STANDARD
BEGIN:DAYLIGHT
TZOFFSETFROM:-0600
TZOFFSETTO:-0500
TZNAME:CDT
DTSTART:20260308T080000
END:DAYLIGHT
BEGIN:STANDARD
TZOFFSETFROM:-0500
TZOFFSETTO:-0600
TZNAME:CST
DTSTART:20261101T070000
END:STANDARD
BEGIN:DAYLIGHT
TZOFFSETFROM:-0600
TZOFFSETTO:-0500
TZNAME:CDT
DTSTART:20270314T080000
END:DAYLIGHT
BEGIN:STANDARD
TZOFFSETFROM:-0500
TZOFFSETTO:-0600
TZNAME:CST
DTSTART:20271107T070000
END:STANDARD
END:VTIMEZONE
BEGIN:VEVENT
DTSTART;TZID=America/Chicago:20260201T130000
DTEND;TZID=America/Chicago:20260201T143000
DTSTAMP:20260419T100915
CREATED:20260113T205846Z
LAST-MODIFIED:20260113T205846Z
UID:10002340-1769950800-1769956200@www.artsparktx.org
SUMMARY:VIRTUAL Lion & Pirate Inclusive Open Mic
DESCRIPTION:The Lion & Pirate is back for 2026! Our first gathering of the year will be Sunday\, Feb. 1 on Zoom (link will posted here the day of the show). Sign ups open now: https://forms.gle/4j7UY3MwM7YWJJc9A\nWe’re open to work in any genre: music\, spoken word\, improv\, skits\, storytelling\, dance\, poems\, prose… Anything you can perform in 3(ish) minutes!\nRead on for community guidelines and accessibility adventure notes!\nCommunity Guidelines: please read the Art Spark Texas code of conduct before Lion & Pirate events: https://www.artsparktx.org/code-of-conduct/If you are reading work\, note that we use content warnings to keep this space safe and welcoming. Please use them! If you have questions about content warnings\, feel free to ask us before or during an open mic.Things we believe:– We feel and practice respect for all people and for diversity of thought and identity.– We see honesty as a form of love.– We acknowledge that free speech is difficult sometimes.– We accept that we are unaware of the traumas people within even our own communities are trying to live through\, and we have to teach each other\, learn from each other\, make each other more aware.\nAccessibility adventure notes for virtual performers or attendees:Captions: Zoom has auto-generated captions\, and those are… ok. When possible\, we screen share the words/ lyrics/ poems to each performance so that attendees who need closed captions (CC) get better quality info. Performers are welcome to: screen share their words themselves\, so they can stay on screen OR send an L&P host their words and they’ll do the screen sharing OR paste a link to a document with their words in the chat\, so attendees can decide if they want to see the words or not. If sharing your words ahead of time is not in the cards\, that’s ok\, we’ll do our best to make it work!\nSound quality: We ask all attendees to stay muted when not performing (or cheering). Are you performing with an instrument or accompanying music? Learn how to configure your Zoom settings for a live musical performance: https://support.zoom.com/hc/en/article?id=zm_kb…\nAccess requests: Need something else for virtual participation? Get in touch with Laura P at lperna@txdisabilities.org!
URL:https://www.artsparktx.org/event/virtual-lion-pirate-inclusive-open-mic/
LOCATION:TX
CATEGORIES:lion & pirate open mic
ATTACH;FMTTYPE=image/jpeg:https://www.artsparktx.org/wp-content/uploads/615471459_10126773173921720_594177124041357979_n.jpg
END:VEVENT
BEGIN:VEVENT
DTSTART;TZID=America/Chicago:20260221T200000
DTEND;TZID=America/Chicago:20260221T220000
DTSTAMP:20260419T100915
CREATED:20260211T180336Z
LAST-MODIFIED:20260211T180336Z
UID:10002342-1771704000-1771711200@www.artsparktx.org
SUMMARY:Hadestown at Bass Concert Hall
DESCRIPTION:Join Art Spark Texas at Bass Concert Hall for Hadestown\, an audio described experience for blind and low vision guests on February 21st at 8pm. Described by Luke Stollings.
URL:https://www.artsparktx.org/event/hadestown-at-bass-concert-hall/
LOCATION:Bass Concert Hall\, 2350 Robert Dedman Drive\, Austin\, TX\, 78712\, United States
ATTACH;FMTTYPE=image/webp:https://www.artsparktx.org/wp-content/uploads/6578730.webp
END:VEVENT
BEGIN:VEVENT
DTSTART;TZID=America/Chicago:20260228T160000
DTEND;TZID=America/Chicago:20260228T180000
DTSTAMP:20260419T100915
CREATED:20260218T193310Z
LAST-MODIFIED:20260218T195134Z
UID:10002353-1772294400-1772301600@www.artsparktx.org
SUMMARY:Inclusive Dance Teaching with DanceAbility
DESCRIPTION:Organized by Art Spark Texas (Art Spark Dance)\nSpecial thanks to Rosedale Foundation for making this professional learning opportunity possible\nSaturday\, February 28\, 2026 | 4:00–6:00 PM\n**Rosedale School (Austin\, TX) \nWhat is DanceAbility?\nAs dance educators\, we believe integrated dance can reduce isolation and support self-expression and personal growth for people of all abilities. DanceAbility is an improvisation-based method that supports artistic exploration between people with and without disabilities. Through dance and movement\, people from diverse backgrounds practice the art of being together—building connection and strengthening more inclusive communities. \nDanceAbility cultivates common ground for creative expression with equal agency and representation. Movement material is drawn from the group present in the room\, so no one is isolated or singled out. The method supports self-empowerment by offering ways for each person to participate fully and make creative choices—while also respecting personal limits. \nCore principles you’ll learn: Sensation • Relationship • Time • Design\n(often described as self\, others\, and community in motion) \nWhat you’ll leave with: Practical\, adaptable DanceAbility exercises you can use right away\, Tools for inclusive improvisation\, partnering\, and facilitation\, Strategies that support participation for people of all abilities \nWho should attend: Dance educators • teaching artists • classroom teachers • therapists • movement facilitators • anyone curious about inclusive dance practice \nRegister here: https://forms.gle/oB9q7eG6g446B8gh7\nQuestions / Access requests: dance@artsparktx.org
URL:https://www.artsparktx.org/event/inclusive-dance-teaching-with-danceability/
LOCATION:Rosedale School\, 7505 Silvercrest Drive\, Austin\, TX\, 78757\, United States
CATEGORIES:Dance
ATTACH;FMTTYPE=image/jpeg:https://www.artsparktx.org/wp-content/uploads/c94e776c-749d-4b0f-a72a-c5267b52fb56.jpg
END:VEVENT
END:VCALENDAR