BEGIN:VCALENDAR
VERSION:2.0
PRODID:-//Art Spark Texas - ECPv6.15.20//NONSGML v1.0//EN
CALSCALE:GREGORIAN
METHOD:PUBLISH
X-WR-CALNAME:Art Spark Texas
X-ORIGINAL-URL:https://www.artsparktx.org
X-WR-CALDESC:Events for Art Spark Texas
REFRESH-INTERVAL;VALUE=DURATION:PT1H
X-Robots-Tag:noindex
X-PUBLISHED-TTL:PT1H
BEGIN:VTIMEZONE
TZID:America/Chicago
BEGIN:DAYLIGHT
TZOFFSETFROM:-0600
TZOFFSETTO:-0500
TZNAME:CDT
DTSTART:20190310T080000
END:DAYLIGHT
BEGIN:STANDARD
TZOFFSETFROM:-0500
TZOFFSETTO:-0600
TZNAME:CST
DTSTART:20191103T070000
END:STANDARD
BEGIN:DAYLIGHT
TZOFFSETFROM:-0600
TZOFFSETTO:-0500
TZNAME:CDT
DTSTART:20200308T080000
END:DAYLIGHT
BEGIN:STANDARD
TZOFFSETFROM:-0500
TZOFFSETTO:-0600
TZNAME:CST
DTSTART:20201101T070000
END:STANDARD
BEGIN:DAYLIGHT
TZOFFSETFROM:-0600
TZOFFSETTO:-0500
TZNAME:CDT
DTSTART:20210314T080000
END:DAYLIGHT
BEGIN:STANDARD
TZOFFSETFROM:-0500
TZOFFSETTO:-0600
TZNAME:CST
DTSTART:20211107T070000
END:STANDARD
END:VTIMEZONE
BEGIN:VEVENT
DTSTART;TZID=America/Chicago:20200205T193000
DTEND;TZID=America/Chicago:20200205T220000
DTSTAMP:20260423T013602
CREATED:20200131T214407Z
LAST-MODIFIED:20200203T214507Z
UID:10001358-1580931000-1580940000@www.artsparktx.org
SUMMARY:Audio Described Performance: A Night with Janis Joplin
DESCRIPTION:A Night with Janis Joplin\nThe Topfer at ZACH Theatre\nCreated\, Written and Directed by Randy Johnson\nStarring Mary Bridget Davies \nAudio Described performance: February 5\, 2020 \nThe legendary queen of rock-n-roll\, Janis Joplin\, explodesonto the stage in a concert experience that celebrates the Texas musical marvel\, and shines a spotlight on the trailblazing female blues and soul vocalists who influenced her. A Night with Janis Joplin is packed with enduring hits like “Me and Bobby McGee\,” “Mercedes Benz\,” and “Summertime\,” plus hit songs by icons Aretha Franklin\, Nina Simone\, Etta James\, and more. It’s sure to take a little piece of your heart! \nAge recommendation: 17 and up for strong language\, political commentary\, and adult themes\nStrobe lighting effects will be used during this performance. Some stage lighting aims toward audience at certain moments of the show.\nRun time: Two hours and 20 minutes \nVisit ZACH Theatre online or call 512-476-0541 to purchase tickets and request audio description.
URL:https://www.artsparktx.org/event/audio-described-performance-a-night-with-janis-joplin/
LOCATION:The Topfer at ZACH Theatre\, 202 South Lamar Blvd.\, Austin\, TX\, 78704\, United States
CATEGORIES:Audio Described Performances
END:VEVENT
END:VCALENDAR