BEGIN:VCALENDAR
VERSION:2.0
PRODID:-//Art Spark Texas - ECPv6.15.20//NONSGML v1.0//EN
CALSCALE:GREGORIAN
METHOD:PUBLISH
X-WR-CALNAME:Art Spark Texas
X-ORIGINAL-URL:https://www.artsparktx.org
X-WR-CALDESC:Events for Art Spark Texas
REFRESH-INTERVAL;VALUE=DURATION:PT1H
X-Robots-Tag:noindex
X-PUBLISHED-TTL:PT1H
BEGIN:VTIMEZONE
TZID:America/Chicago
BEGIN:DAYLIGHT
TZOFFSETFROM:-0600
TZOFFSETTO:-0500
TZNAME:CDT
DTSTART:20180311T080000
END:DAYLIGHT
BEGIN:STANDARD
TZOFFSETFROM:-0500
TZOFFSETTO:-0600
TZNAME:CST
DTSTART:20181104T070000
END:STANDARD
BEGIN:DAYLIGHT
TZOFFSETFROM:-0600
TZOFFSETTO:-0500
TZNAME:CDT
DTSTART:20190310T080000
END:DAYLIGHT
BEGIN:STANDARD
TZOFFSETFROM:-0500
TZOFFSETTO:-0600
TZNAME:CST
DTSTART:20191103T070000
END:STANDARD
BEGIN:DAYLIGHT
TZOFFSETFROM:-0600
TZOFFSETTO:-0500
TZNAME:CDT
DTSTART:20200308T080000
END:DAYLIGHT
BEGIN:STANDARD
TZOFFSETFROM:-0500
TZOFFSETTO:-0600
TZNAME:CST
DTSTART:20201101T070000
END:STANDARD
END:VTIMEZONE
BEGIN:VEVENT
DTSTART;VALUE=DATE:20190415
DTEND;VALUE=DATE:20190416
DTSTAMP:20260423T132246
CREATED:20190329T180659Z
LAST-MODIFIED:20190329T180659Z
UID:10001252-1555286400-1555372799@www.artsparktx.org
SUMMARY:Call for Art: Pet Love
DESCRIPTION:Submission deadline: April 15\, 2019 \nArt Spark Texas is looking for pet themed artwork to display at Ground Floor Theatre during May 2019 to complement the show Dex & Abbey. This call for art is open to all Art Spark Texas artists (Veterans\, artists with disabilities\, and seniors) in Austin and surrounding areas. Please download and complete the Pet Love Call for Art  or contact April for more details.
URL:https://www.artsparktx.org/event/call-for-art-pet-love/
LOCATION:Ground Floor Theatre\, 979 Springdale Road\, Suite 122\, Austin\, TX\, 78702\, United States
CATEGORIES:Calls for Art
ATTACH;FMTTYPE=image/png:https://www.artsparktx.org/wp-content/uploads/PET-LOVE.png
ORGANIZER;CN="April Sullivan":MAILTO:april@artsparktx.org
END:VEVENT
END:VCALENDAR