BEGIN:VCALENDAR
VERSION:2.0
PRODID:-//Art Spark Texas - ECPv6.15.20//NONSGML v1.0//EN
CALSCALE:GREGORIAN
METHOD:PUBLISH
X-WR-CALNAME:Art Spark Texas
X-ORIGINAL-URL:https://www.artsparktx.org
X-WR-CALDESC:Events for Art Spark Texas
REFRESH-INTERVAL;VALUE=DURATION:PT1H
X-Robots-Tag:noindex
X-PUBLISHED-TTL:PT1H
BEGIN:VTIMEZONE
TZID:America/Chicago
BEGIN:DAYLIGHT
TZOFFSETFROM:-0600
TZOFFSETTO:-0500
TZNAME:CDT
DTSTART:20180311T080000
END:DAYLIGHT
BEGIN:STANDARD
TZOFFSETFROM:-0500
TZOFFSETTO:-0600
TZNAME:CST
DTSTART:20181104T070000
END:STANDARD
BEGIN:DAYLIGHT
TZOFFSETFROM:-0600
TZOFFSETTO:-0500
TZNAME:CDT
DTSTART:20190310T080000
END:DAYLIGHT
BEGIN:STANDARD
TZOFFSETFROM:-0500
TZOFFSETTO:-0600
TZNAME:CST
DTSTART:20191103T070000
END:STANDARD
BEGIN:DAYLIGHT
TZOFFSETFROM:-0600
TZOFFSETTO:-0500
TZNAME:CDT
DTSTART:20200308T080000
END:DAYLIGHT
BEGIN:STANDARD
TZOFFSETFROM:-0500
TZOFFSETTO:-0600
TZNAME:CST
DTSTART:20201101T070000
END:STANDARD
END:VTIMEZONE
BEGIN:VEVENT
DTSTART;VALUE=DATE:20190715
DTEND;VALUE=DATE:20190716
DTSTAMP:20260423T075933
CREATED:20190603T180100Z
LAST-MODIFIED:20190603T180100Z
UID:10001281-1563148800-1563235199@www.artsparktx.org
SUMMARY:Call for Art: Governor's Committee Poster Competition
DESCRIPTION:Submission deadline: July 15\, 2019* \nDisability Employment Awareness Month is celebrated in Texas every October. The Texas Governor’s Committee on People with Disabilities produces a colorful poster for display in businesses\, government offices and schools. The posters are intended to spark a conversation about employment of people with disabilities. Artwork for the poster is selected by a submission and judging process and is open to any Texas artist with a disability. \nThe posters will feature original work from an outstanding Texas artist\, along with their picture and personal statement\, and the national NDEAM theme. The winning artist will also be featured at GCPD’s annual Lex Frieden Employment Awards Ceremony\, and may be acknowledged in a statewide press release. Help spark a conversation! \nOriginal 2D and 3D art in all media are eligible. Visit GCPD’s webpage for submission guidelines and entry forms or email gcpd@gov.texas.gov for more information. \n*This is not a Art Spark Texas call for art. \n \n  \n 
URL:https://www.artsparktx.org/event/call-for-art-governors-committee-poster-competition/
LOCATION:TX
CATEGORIES:Calls for Art
ATTACH;FMTTYPE=image/jpeg:https://www.artsparktx.org/wp-content/uploads/DEAM-Poster-2018.jpg
ORGANIZER;CN="Texas Governor%E2%80%99s Committee on People with Disabilities":MAILTO:gcpd@gov.texas.gov
END:VEVENT
END:VCALENDAR