BEGIN:VCALENDAR
VERSION:2.0
PRODID:-//Art Spark Texas - ECPv6.15.20//NONSGML v1.0//EN
CALSCALE:GREGORIAN
METHOD:PUBLISH
X-WR-CALNAME:Art Spark Texas
X-ORIGINAL-URL:https://www.artsparktx.org
X-WR-CALDESC:Events for Art Spark Texas
REFRESH-INTERVAL;VALUE=DURATION:PT1H
X-Robots-Tag:noindex
X-PUBLISHED-TTL:PT1H
BEGIN:VTIMEZONE
TZID:America/Chicago
BEGIN:DAYLIGHT
TZOFFSETFROM:-0600
TZOFFSETTO:-0500
TZNAME:CDT
DTSTART:20200308T080000
END:DAYLIGHT
BEGIN:STANDARD
TZOFFSETFROM:-0500
TZOFFSETTO:-0600
TZNAME:CST
DTSTART:20201101T070000
END:STANDARD
BEGIN:DAYLIGHT
TZOFFSETFROM:-0600
TZOFFSETTO:-0500
TZNAME:CDT
DTSTART:20210314T080000
END:DAYLIGHT
BEGIN:STANDARD
TZOFFSETFROM:-0500
TZOFFSETTO:-0600
TZNAME:CST
DTSTART:20211107T070000
END:STANDARD
BEGIN:DAYLIGHT
TZOFFSETFROM:-0600
TZOFFSETTO:-0500
TZNAME:CDT
DTSTART:20220313T080000
END:DAYLIGHT
BEGIN:STANDARD
TZOFFSETFROM:-0500
TZOFFSETTO:-0600
TZNAME:CST
DTSTART:20221106T070000
END:STANDARD
END:VTIMEZONE
BEGIN:VEVENT
DTSTART;TZID=America/Chicago:20210227T090000
DTEND;TZID=America/Chicago:20210227T160000
DTSTAMP:20260420T100025
CREATED:20201214T232835Z
LAST-MODIFIED:20210112T015621Z
UID:10001517-1614416400-1614441600@www.artsparktx.org
SUMMARY:Voices in Verse: Virtual Writing Conference
DESCRIPTION:Voices in Verse is a Virtual Writing Conference designed for Veterans\, but open to anyone interested in writing. Harness your voice and make 2021 the year of your creative metamorphosis. Art Spark Texas\, in partnership with the Rio Grande Valley International Poetry Festival\, invites you to learn writing techniques from some of our most awarded Texas writers. View presenter bios here. We have the following talented writers leading hands-on virtual sessions: \nSchedule\nVoices in Verse 9:00 am – 4:00 pm CT \n\n9:15-10:30 Nathan Brown presents Write It Out: Emotional Healing through Creative Journaling\nAn organized approach to mental and emotional healing from trauma\, depression\, or anger through the practice of “writing it out of your system” in a personal journal.\n10:45-noon Edward Vidaurre presents Summoning Silence: Writing Through the Chaos by Finding Our Voice in the Ordinary Thing\nWe will write about what we take for granted\, what we tend to brush past in our everyday hustle and bustle of life\, we will drop the anchor to our beings and tune in to nature and our spirit\, we will write the skeleton of future poems of self-healing and remembrance.\nNoon-1pm Lunch break\n1:00-2:15 Emmy Pérez presents Write It All Down First\, Revise Later: Generative Writing Workshop\n2:30-3:45 Andrea Vocab Sanderson presents When the rhythm bubbles up\n3:45-4:00 Daniel García Ordaz presents What we learned / next steps\n\nRegistration\nRegister through Eventbrite at https://www.eventbrite.com/e/voices-in-verse-tickets-135553697759 \nThis event will be presented on Zoom and tickets are donation based. Your donation helps support this and future programming. If a donation is a barrier for you to attend\, use Promo Code FREE at checkout. \nQuestions?\nFor questions\, please contact April Sullivan at april@artsparktx.org. \nThis event is sponsored in conjunction with the Rio Grande Valley International Poetry Festival and El Zarape Press\, and made possible\, in part\, by the Academy of American Poets with funds from the Andrew W. Mellon Foundation\, and Christopher and Dana Reeve Foundation Enhanced Impact Quality of Life funding. \n 
URL:https://www.artsparktx.org/event/voices-in-verse-virtual-writing-conference/
CATEGORIES:Classes for Veterans,Veteran Writing Workshops
ATTACH;FMTTYPE=image/png:https://www.artsparktx.org/wp-content/uploads/cover-image-voices-in-verse-1-9.png
ORGANIZER;CN="Art Spark Texas -Veterans":MAILTO:april@artsparktx.org
END:VEVENT
END:VCALENDAR