BEGIN:VCALENDAR
VERSION:2.0
PRODID:-//Art Spark Texas - ECPv6.15.20//NONSGML v1.0//EN
CALSCALE:GREGORIAN
METHOD:PUBLISH
X-WR-CALNAME:Art Spark Texas
X-ORIGINAL-URL:https://www.artsparktx.org
X-WR-CALDESC:Events for Art Spark Texas
REFRESH-INTERVAL;VALUE=DURATION:PT1H
X-Robots-Tag:noindex
X-PUBLISHED-TTL:PT1H
BEGIN:VTIMEZONE
TZID:America/Chicago
BEGIN:DAYLIGHT
TZOFFSETFROM:-0600
TZOFFSETTO:-0500
TZNAME:CDT
DTSTART:20200308T080000
END:DAYLIGHT
BEGIN:STANDARD
TZOFFSETFROM:-0500
TZOFFSETTO:-0600
TZNAME:CST
DTSTART:20201101T070000
END:STANDARD
BEGIN:DAYLIGHT
TZOFFSETFROM:-0600
TZOFFSETTO:-0500
TZNAME:CDT
DTSTART:20210314T080000
END:DAYLIGHT
BEGIN:STANDARD
TZOFFSETFROM:-0500
TZOFFSETTO:-0600
TZNAME:CST
DTSTART:20211107T070000
END:STANDARD
BEGIN:DAYLIGHT
TZOFFSETFROM:-0600
TZOFFSETTO:-0500
TZNAME:CDT
DTSTART:20220313T080000
END:DAYLIGHT
BEGIN:STANDARD
TZOFFSETFROM:-0500
TZOFFSETTO:-0600
TZNAME:CST
DTSTART:20221106T070000
END:STANDARD
END:VTIMEZONE
BEGIN:VEVENT
DTSTART;TZID=America/Chicago:20210410T130000
DTEND;TZID=America/Chicago:20210410T153000
DTSTAMP:20260419T130711
CREATED:20210401T203311Z
LAST-MODIFIED:20210401T203311Z
UID:10001614-1618059600-1618068600@www.artsparktx.org
SUMMARY:Virtual Dance Workshop: Spring Intensive Series
DESCRIPTION:Vertigo Power of Balance is offering five (5) movement and enrichment sessions starting on April 10th and ending on May 2nd. Class happens from 1 to 3.30pm CT.\nIn this series\, our goal is expanding the knowledge and understanding in the field of integrated dance. \nWe will look for the technique that will support the refinement of improvisation\, the development of physical qualities\, listening and self-awareness that will resonate with the joy of development. An opportunity for diverse multidisciplinary observation. \n\nClass meets on April 10th\, April 11th\, April 18th\, April 25th and May 2nd from 1-3.30pm CT virtually on zoom.\nMeeting Zoom Link\nCost: $75\nRegistration and Payment Link\n\nOpen to all ability and experience levels. \nIf you have any access needs\, please email silva@artsparktx.org by April 5th. \nAbout Vertigo Power of Balance\nVertigo Power of Balance was established in 2000 and is directed by Hai Cohen and Tali Wertheim who are also going to be facilitating the workshop. \nPower of Balance center operates from the Vertigo Eco-Art Village home of the acclaimed Vertigo Dance Company offering comprehensive integrated dance activities that include annual programs\, classes\, workshops and performances in Israel and abroad.
URL:https://www.artsparktx.org/event/virtual-dance-workshop-spring-intensive-series/2021-04-10/
LOCATION:Texas
CATEGORIES:Dance,Virtual Classes
ATTACH;FMTTYPE=image/jpeg:https://www.artsparktx.org/wp-content/uploads/Power-of-Balance_by-Taly-Amichai-scaled.jpg
ORGANIZER;CN="Art Spark Texas - Dance":MAILTO:silva@artsparktx.org
END:VEVENT
BEGIN:VEVENT
DTSTART;TZID=America/Chicago:20210411T130000
DTEND;TZID=America/Chicago:20210411T153000
DTSTAMP:20260419T130711
CREATED:20210401T203311Z
LAST-MODIFIED:20210401T203311Z
UID:10001615-1618146000-1618155000@www.artsparktx.org
SUMMARY:Virtual Dance Workshop: Spring Intensive Series
DESCRIPTION:Vertigo Power of Balance is offering five (5) movement and enrichment sessions starting on April 10th and ending on May 2nd. Class happens from 1 to 3.30pm CT.\nIn this series\, our goal is expanding the knowledge and understanding in the field of integrated dance. \nWe will look for the technique that will support the refinement of improvisation\, the development of physical qualities\, listening and self-awareness that will resonate with the joy of development. An opportunity for diverse multidisciplinary observation. \n\nClass meets on April 10th\, April 11th\, April 18th\, April 25th and May 2nd from 1-3.30pm CT virtually on zoom.\nMeeting Zoom Link\nCost: $75\nRegistration and Payment Link\n\nOpen to all ability and experience levels. \nIf you have any access needs\, please email silva@artsparktx.org by April 5th. \nAbout Vertigo Power of Balance\nVertigo Power of Balance was established in 2000 and is directed by Hai Cohen and Tali Wertheim who are also going to be facilitating the workshop. \nPower of Balance center operates from the Vertigo Eco-Art Village home of the acclaimed Vertigo Dance Company offering comprehensive integrated dance activities that include annual programs\, classes\, workshops and performances in Israel and abroad.
URL:https://www.artsparktx.org/event/virtual-dance-workshop-spring-intensive-series/2021-04-11/
LOCATION:Texas
CATEGORIES:Dance,Virtual Classes
ATTACH;FMTTYPE=image/jpeg:https://www.artsparktx.org/wp-content/uploads/Power-of-Balance_by-Taly-Amichai-scaled.jpg
ORGANIZER;CN="Art Spark Texas - Dance":MAILTO:silva@artsparktx.org
END:VEVENT
BEGIN:VEVENT
DTSTART;TZID=America/Chicago:20210418T130000
DTEND;TZID=America/Chicago:20210418T153000
DTSTAMP:20260419T130711
CREATED:20210401T203311Z
LAST-MODIFIED:20210401T203311Z
UID:10001616-1618750800-1618759800@www.artsparktx.org
SUMMARY:Virtual Dance Workshop: Spring Intensive Series
DESCRIPTION:Vertigo Power of Balance is offering five (5) movement and enrichment sessions starting on April 10th and ending on May 2nd. Class happens from 1 to 3.30pm CT.\nIn this series\, our goal is expanding the knowledge and understanding in the field of integrated dance. \nWe will look for the technique that will support the refinement of improvisation\, the development of physical qualities\, listening and self-awareness that will resonate with the joy of development. An opportunity for diverse multidisciplinary observation. \n\nClass meets on April 10th\, April 11th\, April 18th\, April 25th and May 2nd from 1-3.30pm CT virtually on zoom.\nMeeting Zoom Link\nCost: $75\nRegistration and Payment Link\n\nOpen to all ability and experience levels. \nIf you have any access needs\, please email silva@artsparktx.org by April 5th. \nAbout Vertigo Power of Balance\nVertigo Power of Balance was established in 2000 and is directed by Hai Cohen and Tali Wertheim who are also going to be facilitating the workshop. \nPower of Balance center operates from the Vertigo Eco-Art Village home of the acclaimed Vertigo Dance Company offering comprehensive integrated dance activities that include annual programs\, classes\, workshops and performances in Israel and abroad.
URL:https://www.artsparktx.org/event/virtual-dance-workshop-spring-intensive-series/2021-04-18/
LOCATION:Texas
CATEGORIES:Dance,Virtual Classes
ATTACH;FMTTYPE=image/jpeg:https://www.artsparktx.org/wp-content/uploads/Power-of-Balance_by-Taly-Amichai-scaled.jpg
ORGANIZER;CN="Art Spark Texas - Dance":MAILTO:silva@artsparktx.org
END:VEVENT
BEGIN:VEVENT
DTSTART;TZID=America/Chicago:20210425T130000
DTEND;TZID=America/Chicago:20210425T153000
DTSTAMP:20260419T130711
CREATED:20210401T203311Z
LAST-MODIFIED:20210401T203311Z
UID:10001617-1619355600-1619364600@www.artsparktx.org
SUMMARY:Virtual Dance Workshop: Spring Intensive Series
DESCRIPTION:Vertigo Power of Balance is offering five (5) movement and enrichment sessions starting on April 10th and ending on May 2nd. Class happens from 1 to 3.30pm CT.\nIn this series\, our goal is expanding the knowledge and understanding in the field of integrated dance. \nWe will look for the technique that will support the refinement of improvisation\, the development of physical qualities\, listening and self-awareness that will resonate with the joy of development. An opportunity for diverse multidisciplinary observation. \n\nClass meets on April 10th\, April 11th\, April 18th\, April 25th and May 2nd from 1-3.30pm CT virtually on zoom.\nMeeting Zoom Link\nCost: $75\nRegistration and Payment Link\n\nOpen to all ability and experience levels. \nIf you have any access needs\, please email silva@artsparktx.org by April 5th. \nAbout Vertigo Power of Balance\nVertigo Power of Balance was established in 2000 and is directed by Hai Cohen and Tali Wertheim who are also going to be facilitating the workshop. \nPower of Balance center operates from the Vertigo Eco-Art Village home of the acclaimed Vertigo Dance Company offering comprehensive integrated dance activities that include annual programs\, classes\, workshops and performances in Israel and abroad.
URL:https://www.artsparktx.org/event/virtual-dance-workshop-spring-intensive-series/2021-04-25/
LOCATION:Texas
CATEGORIES:Dance,Virtual Classes
ATTACH;FMTTYPE=image/jpeg:https://www.artsparktx.org/wp-content/uploads/Power-of-Balance_by-Taly-Amichai-scaled.jpg
ORGANIZER;CN="Art Spark Texas - Dance":MAILTO:silva@artsparktx.org
END:VEVENT
END:VCALENDAR