BEGIN:VCALENDAR
VERSION:2.0
PRODID:-//Art Spark Texas - ECPv6.15.20//NONSGML v1.0//EN
CALSCALE:GREGORIAN
METHOD:PUBLISH
X-WR-CALNAME:Art Spark Texas
X-ORIGINAL-URL:https://www.artsparktx.org
X-WR-CALDESC:Events for Art Spark Texas
REFRESH-INTERVAL;VALUE=DURATION:PT1H
X-Robots-Tag:noindex
X-PUBLISHED-TTL:PT1H
BEGIN:VTIMEZONE
TZID:America/Chicago
BEGIN:DAYLIGHT
TZOFFSETFROM:-0600
TZOFFSETTO:-0500
TZNAME:CDT
DTSTART:20190310T080000
END:DAYLIGHT
BEGIN:STANDARD
TZOFFSETFROM:-0500
TZOFFSETTO:-0600
TZNAME:CST
DTSTART:20191103T070000
END:STANDARD
BEGIN:DAYLIGHT
TZOFFSETFROM:-0600
TZOFFSETTO:-0500
TZNAME:CDT
DTSTART:20200308T080000
END:DAYLIGHT
BEGIN:STANDARD
TZOFFSETFROM:-0500
TZOFFSETTO:-0600
TZNAME:CST
DTSTART:20201101T070000
END:STANDARD
BEGIN:DAYLIGHT
TZOFFSETFROM:-0600
TZOFFSETTO:-0500
TZNAME:CDT
DTSTART:20210314T080000
END:DAYLIGHT
BEGIN:STANDARD
TZOFFSETFROM:-0500
TZOFFSETTO:-0600
TZNAME:CST
DTSTART:20211107T070000
END:STANDARD
END:VTIMEZONE
BEGIN:VEVENT
DTSTART;TZID=America/Chicago:20200125T130000
DTEND;TZID=America/Chicago:20200125T150000
DTSTAMP:20260420T103113
CREATED:20200110T174652Z
LAST-MODIFIED:20200111T012431Z
UID:10001348-1579957200-1579964400@www.artsparktx.org
SUMMARY:Speaking Advocates: What Inspires Us
DESCRIPTION:This month’s Speaking Advocates theme is “What Inspires Us“. \nThe experiences of people with disabilities are frequently distorted as inspiration for non-disabled people. The term “inspiration porn\,” coined by the late comedian/activist Stella Young\, refers to exploitative portrayals of people with disabilities in which their regular everyday activities are re-framed as brave or inspirational while the same activities\, when performed by non-disabled people\, earn little recognition. Join the Speaking Advocates this month to reclaim the original meaning of inspiration as that which emboldens us to pursue great ambitions\, persevere in accomplishing our biggest goals\, or elevating our consciousness to a higher plane. It’s your turn to say what inspires you. \nOur Opening Minds\, Opening Doors Speaking Advocates group is free and meets the last Saturday of every month from 1 to 3 PM in Room 161 of the AGE of Central Texas Building. We welcome adults with disabilities who are interested in presenting stories and meeting other speakers. Email Ms. Boye to RSVP or learn more. \nFollow our Facebook group page for updates. \nImage description: Comedian Stella Young sits proudly in her power wheelchair wearing bright red high-heeled shoes with white polka dots held up for the camera to see. She looks straight into the camera with a mischievous grin on her face.
URL:https://www.artsparktx.org/event/speaking-advocates-2/
LOCATION:AGE Building Rm 161\, 3710 Cedar Street\, Austin\, Texas\, 78705
CATEGORIES:Speaking Advocates
ATTACH;FMTTYPE=image/png:https://www.artsparktx.org/wp-content/uploads/AST_header-stella-young.png
ORGANIZER;CN="Art Spark Texas - OMOD":MAILTO:boye@artsparktx.org
END:VEVENT
END:VCALENDAR