BEGIN:VCALENDAR
VERSION:2.0
PRODID:-//Art Spark Texas - ECPv6.15.20//NONSGML v1.0//EN
CALSCALE:GREGORIAN
METHOD:PUBLISH
X-WR-CALNAME:Art Spark Texas
X-ORIGINAL-URL:https://www.artsparktx.org
X-WR-CALDESC:Events for Art Spark Texas
REFRESH-INTERVAL;VALUE=DURATION:PT1H
X-Robots-Tag:noindex
X-PUBLISHED-TTL:PT1H
BEGIN:VTIMEZONE
TZID:America/Chicago
BEGIN:DAYLIGHT
TZOFFSETFROM:-0600
TZOFFSETTO:-0500
TZNAME:CDT
DTSTART:20190310T080000
END:DAYLIGHT
BEGIN:STANDARD
TZOFFSETFROM:-0500
TZOFFSETTO:-0600
TZNAME:CST
DTSTART:20191103T070000
END:STANDARD
BEGIN:DAYLIGHT
TZOFFSETFROM:-0600
TZOFFSETTO:-0500
TZNAME:CDT
DTSTART:20200308T080000
END:DAYLIGHT
BEGIN:STANDARD
TZOFFSETFROM:-0500
TZOFFSETTO:-0600
TZNAME:CST
DTSTART:20201101T070000
END:STANDARD
BEGIN:DAYLIGHT
TZOFFSETFROM:-0600
TZOFFSETTO:-0500
TZNAME:CDT
DTSTART:20210314T080000
END:DAYLIGHT
BEGIN:STANDARD
TZOFFSETFROM:-0500
TZOFFSETTO:-0600
TZNAME:CST
DTSTART:20211107T070000
END:STANDARD
END:VTIMEZONE
BEGIN:VEVENT
DTSTART;TZID=America/Chicago:20200505T190000
DTEND;TZID=America/Chicago:20200505T210000
DTSTAMP:20260420T210035
CREATED:20200413T170008Z
LAST-MODIFIED:20200413T190316Z
UID:10001363-1588705200-1588712400@www.artsparktx.org
SUMMARY:VIRTUAL Scriveners’ Workshop and Circle for Veterans
DESCRIPTION:Tuesdays\, 7:00-9:00 pm\n7-8 pm (workshop) 8-9 pm (circle)\nApril 21 – May 26\, 2020 \nHosted by Art Spark Texas (formerly VSA Texas)\nFREE! Register: 512-454-9912 ext 3 or april@artsparktx.org\nInstructor: Clayton Bradshaw
URL:https://www.artsparktx.org/event/virtual-workshop-and-circle-for-veterans/2020-05-05/
CATEGORIES:Veteran Writing Workshops
ATTACH;FMTTYPE=image/jpeg:https://www.artsparktx.org/wp-content/uploads/AST-Veterans.jpg
ORGANIZER;CN="Art Spark Texas -Veterans":MAILTO:april@artsparktx.org
END:VEVENT
BEGIN:VEVENT
DTSTART;TZID=America/Chicago:20200512T190000
DTEND;TZID=America/Chicago:20200512T210000
DTSTAMP:20260420T210035
CREATED:20200413T170008Z
LAST-MODIFIED:20200413T190316Z
UID:10001364-1589310000-1589317200@www.artsparktx.org
SUMMARY:VIRTUAL Scriveners’ Workshop and Circle for Veterans
DESCRIPTION:Tuesdays\, 7:00-9:00 pm\n7-8 pm (workshop) 8-9 pm (circle)\nApril 21 – May 26\, 2020 \nHosted by Art Spark Texas (formerly VSA Texas)\nFREE! Register: 512-454-9912 ext 3 or april@artsparktx.org\nInstructor: Clayton Bradshaw
URL:https://www.artsparktx.org/event/virtual-workshop-and-circle-for-veterans/2020-05-12/
CATEGORIES:Veteran Writing Workshops
ATTACH;FMTTYPE=image/jpeg:https://www.artsparktx.org/wp-content/uploads/AST-Veterans.jpg
ORGANIZER;CN="Art Spark Texas -Veterans":MAILTO:april@artsparktx.org
END:VEVENT
BEGIN:VEVENT
DTSTART;TZID=America/Chicago:20200519T190000
DTEND;TZID=America/Chicago:20200519T210000
DTSTAMP:20260420T210035
CREATED:20200413T170008Z
LAST-MODIFIED:20200413T190316Z
UID:10001365-1589914800-1589922000@www.artsparktx.org
SUMMARY:VIRTUAL Scriveners’ Workshop and Circle for Veterans
DESCRIPTION:Tuesdays\, 7:00-9:00 pm\n7-8 pm (workshop) 8-9 pm (circle)\nApril 21 – May 26\, 2020 \nHosted by Art Spark Texas (formerly VSA Texas)\nFREE! Register: 512-454-9912 ext 3 or april@artsparktx.org\nInstructor: Clayton Bradshaw
URL:https://www.artsparktx.org/event/virtual-workshop-and-circle-for-veterans/2020-05-19/
CATEGORIES:Veteran Writing Workshops
ATTACH;FMTTYPE=image/jpeg:https://www.artsparktx.org/wp-content/uploads/AST-Veterans.jpg
ORGANIZER;CN="Art Spark Texas -Veterans":MAILTO:april@artsparktx.org
END:VEVENT
BEGIN:VEVENT
DTSTART;TZID=America/Chicago:20200526T190000
DTEND;TZID=America/Chicago:20200526T210000
DTSTAMP:20260420T210035
CREATED:20200413T170008Z
LAST-MODIFIED:20200413T190316Z
UID:10001366-1590519600-1590526800@www.artsparktx.org
SUMMARY:VIRTUAL Scriveners’ Workshop and Circle for Veterans
DESCRIPTION:Tuesdays\, 7:00-9:00 pm\n7-8 pm (workshop) 8-9 pm (circle)\nApril 21 – May 26\, 2020 \nHosted by Art Spark Texas (formerly VSA Texas)\nFREE! Register: 512-454-9912 ext 3 or april@artsparktx.org\nInstructor: Clayton Bradshaw
URL:https://www.artsparktx.org/event/virtual-workshop-and-circle-for-veterans/2020-05-26/
CATEGORIES:Veteran Writing Workshops
ATTACH;FMTTYPE=image/jpeg:https://www.artsparktx.org/wp-content/uploads/AST-Veterans.jpg
ORGANIZER;CN="Art Spark Texas -Veterans":MAILTO:april@artsparktx.org
END:VEVENT
END:VCALENDAR