BEGIN:VCALENDAR
VERSION:2.0
PRODID:-//Art Spark Texas - ECPv6.15.20//NONSGML v1.0//EN
CALSCALE:GREGORIAN
METHOD:PUBLISH
X-ORIGINAL-URL:https://www.artsparktx.org
X-WR-CALDESC:Events for Art Spark Texas
REFRESH-INTERVAL;VALUE=DURATION:PT1H
X-Robots-Tag:noindex
X-PUBLISHED-TTL:PT1H
BEGIN:VTIMEZONE
TZID:America/Chicago
BEGIN:DAYLIGHT
TZOFFSETFROM:-0600
TZOFFSETTO:-0500
TZNAME:CDT
DTSTART:20180311T080000
END:DAYLIGHT
BEGIN:STANDARD
TZOFFSETFROM:-0500
TZOFFSETTO:-0600
TZNAME:CST
DTSTART:20181104T070000
END:STANDARD
BEGIN:DAYLIGHT
TZOFFSETFROM:-0600
TZOFFSETTO:-0500
TZNAME:CDT
DTSTART:20190310T080000
END:DAYLIGHT
BEGIN:STANDARD
TZOFFSETFROM:-0500
TZOFFSETTO:-0600
TZNAME:CST
DTSTART:20191103T070000
END:STANDARD
BEGIN:DAYLIGHT
TZOFFSETFROM:-0600
TZOFFSETTO:-0500
TZNAME:CDT
DTSTART:20200308T080000
END:DAYLIGHT
BEGIN:STANDARD
TZOFFSETFROM:-0500
TZOFFSETTO:-0600
TZNAME:CST
DTSTART:20201101T070000
END:STANDARD
END:VTIMEZONE
BEGIN:VEVENT
DTSTART;VALUE=DATE:20190801
DTEND;VALUE=DATE:20190802
DTSTAMP:20260421T210602
CREATED:20190615T034204Z
LAST-MODIFIED:20190615T034348Z
UID:10001080-1564617600-1564703999@www.artsparktx.org
SUMMARY:Call for Creative Writing: Pen 2 Paper Creative Writing Competition
DESCRIPTION:Submission deadline: August 1\, 2019* \nThe annual disability focused Pen 2 Paper Creative Writing Competition (P2P) is open for 2019! P2P will be celebrating its tenth year of sharing and recognizing fiction\, non-fiction\, poetry\, and comics on the topic of disability. Submit here! \nSubmissions are accepted from anywhere in the world and from writers of any age\, ability or disability\, and writing level. One Grand Prize winner will receive $500 USD\, and a 1st Place winner in each of the four divisions will receive $100 USD. Please review the contest rules and submission instructions before submitting. \nThe Pen 2 Paper Creative Writing Contest’s goals are to: \n\ngive writers with disabilities a forum where they can share their work.\nbring awareness to disability issues through the arts.\nchallenge all people of all ages to think\, rethink\, and express their stories\, perspectives\, fears\, and discoveries about disability.\n\nWhile P2P is based in Texas\, people from other states or countries are welcome to enter. \nEach year\, entries are evaluated by a panel of volunteer judges\, and prizes are awarded to the top entries in each category. Winners and finalists will be posted on P2P’s website and given opportunities to share their work in public settings. \n*This is not a Art Spark Texas call for art.
URL:https://www.artsparktx.org/event/call-for-creative-writing-pen-2-paper-creative-writing-competition/
LOCATION:TX\, United States
CATEGORIES:Calls for Art
ATTACH;FMTTYPE=image/jpeg:https://www.artsparktx.org/wp-content/uploads/submit-header.jpg
ORGANIZER;CN="Laura Perna":MAILTO:pen2paper@txdisabilities.org
END:VEVENT
END:VCALENDAR