BEGIN:VCALENDAR
VERSION:2.0
PRODID:-//Art Spark Texas - ECPv6.15.20//NONSGML v1.0//EN
CALSCALE:GREGORIAN
METHOD:PUBLISH
X-ORIGINAL-URL:https://www.artsparktx.org
X-WR-CALDESC:Events for Art Spark Texas
REFRESH-INTERVAL;VALUE=DURATION:PT1H
X-Robots-Tag:noindex
X-PUBLISHED-TTL:PT1H
BEGIN:VTIMEZONE
TZID:America/Chicago
BEGIN:DAYLIGHT
TZOFFSETFROM:-0600
TZOFFSETTO:-0500
TZNAME:CDT
DTSTART:20240310T080000
END:DAYLIGHT
BEGIN:STANDARD
TZOFFSETFROM:-0500
TZOFFSETTO:-0600
TZNAME:CST
DTSTART:20241103T070000
END:STANDARD
BEGIN:DAYLIGHT
TZOFFSETFROM:-0600
TZOFFSETTO:-0500
TZNAME:CDT
DTSTART:20250309T080000
END:DAYLIGHT
BEGIN:STANDARD
TZOFFSETFROM:-0500
TZOFFSETTO:-0600
TZNAME:CST
DTSTART:20251102T070000
END:STANDARD
BEGIN:DAYLIGHT
TZOFFSETFROM:-0600
TZOFFSETTO:-0500
TZNAME:CDT
DTSTART:20260308T080000
END:DAYLIGHT
BEGIN:STANDARD
TZOFFSETFROM:-0500
TZOFFSETTO:-0600
TZNAME:CST
DTSTART:20261101T070000
END:STANDARD
END:VTIMEZONE
BEGIN:VEVENT
DTSTART;TZID=America/Chicago:20251107T170000
DTEND;TZID=America/Chicago:20251107T190000
DTSTAMP:20260424T152137
CREATED:20250929T204651Z
LAST-MODIFIED:20251007T202816Z
UID:10002319-1762534800-1762542000@www.artsparktx.org
SUMMARY:Opening Reception of the 16th Annual Distinguished Artist Veterans Exhibit
DESCRIPTION:Join Art Spark Texas in Georgetown\, Texas for the opening artist reception of the group veteran show\, the 16th Annual Distinguished Artist Veterans Exhibit – on November 7th from 5-7pm at the Williamson County Art Guild Gallery. Meet the artists and support Texas veterans – enjoy tunes from Chris Van Loan\, light snacks and beverages\, and engage in a wonderful and supportive arts community. \nThis year’s veteran artists include:  \nLorrin Arrington Savage \nBurl Washington \nWes Odell \nJudith Estrada Garcia \nRobert Garcia \nNerissa Holland \nRobbie Guerrero \nChris Van Loan \nDave Robertson \nDenise Knebel \nBradley Baker \nTimothy Colomer \nKeith Klabon \nPeter J Buotte \nAdam Blount \nTalitha Thomas \nSteven Thomas \nRuth McIntosh \nRandy McGuire \nLaurel Cyrene \nRobb McKenzie \nYviana Reyes \nDavid Peche \nJuan and Michelle Addame \nMike Skiffington \nCyndi Nonnenmann \nSalina Loriaux \nJames Meyer \nLydia Tran \nKayla Jones \nPatricia Morrison \nKaren Lara
URL:https://www.artsparktx.org/event/opening-reception-of-the-16th-annual-distinguished-artist-veterans-exhibit/
LOCATION:Williamson County Art Guild Gallery\, 708 Rock St.\, Georgetown\, TX\, 78627\, United States
CATEGORIES:Art Exhibits,Veterans
ATTACH;FMTTYPE=image/jpeg:https://www.artsparktx.org/wp-content/uploads/2023bihlhaus12-scaled.jpg
END:VEVENT
BEGIN:VEVENT
DTSTART;TZID=America/Chicago:20251106T170000
DTEND;TZID=America/Chicago:20251130T200000
DTSTAMP:20260424T152137
CREATED:20250910T163023Z
LAST-MODIFIED:20251007T204255Z
UID:10002317-1762448400-1764532800@www.artsparktx.org
SUMMARY:16th Annual Distinguished Artist Veterans Exhibit
DESCRIPTION:Join us on November 7th at the Williamson County Art Guild Gallery for the Opening Artist Reception of the 16th Annual Distinguished Artist Veterans Exhibit\, from 5-7pm in Georgetown\, Texas.\n\nThe exhibit will be on view November 6th – 30th during veteran’s month\, accompanied by several events all month long\, including:\n\nVeteran Panel on Healing in the Arts led by Judith Estrada Garcia on November 10th at the Georgetown downtown Library from 6-8pm with the Georgetown Rotary Club\, featuring panelists from the 16th annual exhibit. (FREE)\n\nVeteran’s Writing Workshop led by Sarah Colby of Gemini Ink at the Georgetown downtown Library on November 15th from 1:30 – 4:30pm (FREE).\n\nNearby\, don’t miss the Field of Honor from our friends at the Georgetown Rotary Club.\n\nRSVP HERE.
URL:https://www.artsparktx.org/event/16th-annual-distinguished-artist-veterans-exhibit/
LOCATION:Williamson County Art Guild Gallery\, 708 Rock St.\, Georgetown\, TX\, 78627\, United States
CATEGORIES:Art Exhibits,Classes for Veterans,Veteran Writing Workshops,Veterans
ATTACH;FMTTYPE=image/png:https://www.artsparktx.org/wp-content/uploads/Where-Williamson-County-Art-Card-Square-1.png
END:VEVENT
END:VCALENDAR